{"text_format":"3","workbook":"xlsx","n_sheets":6,"sheets":["Anleitung","Instructions","Eingabeblatt","Ausgabeblatt","Berechnung_Male","Berechnung_Female"],"not_rendered":{"images":2,"macros":1},"read":"whole","date_system":"1900"}

{"sheet":"Anleitung","index":0,"n_rows":50,"n_cols":3,"rows_kept":50}
[]
[null,"Anleitung zum Mirwald-Test zur Bestimmung des biologischen Entwicklungsstandes bei Mädchen und Knaben"]
[]
[null,"Stichwortartige Zusammenfassung des Testprotokolls"]
[]
[null," Körpergewicht"]
[null,"1.","Kalibrierte Waage verwenden – Nullmessung überprüfen"]
[null,"2.","Athlet/in mittig auf Waage, Gewicht auf beide Füsse gleichmässig verteilt"]
[null,"3.","Messung auf 0.1 kg genau"]
[null,"4.","Erneute Durchführung der Schritte 1 bis 3"]
[null,"5.","Falls Unterschied zw. 1. und 2. Messung maximal 0.4 kg, dann Durchschnitt als Ergebnis verwenden."]
[null,null,"Falls Unterschied grösser ist als 0.4 kg, dann wieder bei Punkt 1 beginnen."]
[]
[]
[]
[null,"Körpergrösse stehend"]
[null,"(in „gestreckter“ Haltung – maximale Distanz zwischen Boden und Scheitel des Kopfes. "]
[null,"Der Scheitel gilt dabei als höchster Punkt des Schädels, wenn der Kopf exakt horizontal gehalten wird)."]
[]
[null,"1.","Athlet/in steht mit Rücken, Gesäss und Fersen gegen die Wand. Füsse sind zusammen und flach auf dem Boden."]
[null,"2.","Kopf / Blick horizontal ausrichten."]
[null,"3.","Athlet/in atmet möglichst tief ein und hält den Atem an."]
[null,"4.","In der maximal gestreckten Haltung (Füsse immer noch flach auf dem  Boden) und am Ende der tiefen Atmung, wird auf 0.1 cm genau gemessen."]
[null,"5.","Athlet/in verlässt den Messplatz."]
[null,"6.","Erneute Durchführung der Schritte 1 bis 5."]
[null,"7.","Falls Unterschied zw. 1. und 2. Messung maximal 0.4 cm, dann Durchschnitt als Ergebnis verwenden. "]
[null,null,"Falls Unterschied grösser ist als 0.4 cm, dann wieder bei Schritt 1 beginnen."]
[]
[null,"Körpergrösse sitzend"]
[null,"(ebenfalls in „gestreckter“ Haltung – maximale Distanz zwischen Scheitel des Kopfes und Oberfläche der Sitzunterlage)."]
[]
[null,"1.","Athlet/in setzt sich auf eine Sitzunterlage von bekannter Höhe. Die Hände / Arme liegen locker auf den Oberschenkeln, Gesäss und Rücken gegen die Wand."]
[]
[null,"2.","Athlet/in atmet möglichst tief ein und hält den Atem an. Kopf / Blick sind horizontal ausgerichtet. "]
[null,null,"Wichtig: Athlet/in darf nicht mit den Füssen vom Boden abstossen und darf nicht die Gesässmuskulatur anspannen."]
[null,"3.","In der maximal gestreckten Haltung und am Ende der tiefen Atmung wird auf 0.1 cm genau gemessen."]
[null,"4.","Athlet/in verlässt den Messplatz."]
[null,"5.","Erneute Durchführung der Schritte 1 bis 4."]
[null,"6.","Falls Unterschied zw. 1. und 2. Messung maximal 0.4 cm, dann Durchschnitt als Ergebnis verwenden. "]
[null,null,"Falls Unterschied grösser ist als 0.4 cm, dann wieder bei Schritt 1 beginnen."]
[]
[null,"Es empfiehlt sich, das Protokoll vor der Messung mit mehreren Athlet/innen auszuprobieren."]
[]
[null,"Eingabe in dem Eingabeblatt: "]
[null,"1.","Auf \"neue Eingabe\" anklicken"]
[null,"2.","Daten eingeben von Kolonne B bis H"]
[null,"3.","Geschlecht vergeben in Kolonne A (m oder f in der Liste auswählen)"]
[]
[null,"Autoren: Marie Javet, Markus Tschopp & Michael Romann"]
[null,"Kontakt: Verbandssupport "]

{"sheet":"Instructions","index":1,"n_rows":50,"n_cols":3,"rows_kept":50}
[]
[null,"Test Mirwald pour la détermination de l’état de développement biologique des garçons et des filles: guide de réalisation"]
[]
[null,"Le protocole de test en bref"]
[]
[null,"Poids corporel"]
[null,"1.       ","Utiliser une balance calibrée. Contrôler le zéro."]
[null,"2.      "," L’athlète doit se placer au milieu de la balance, son poids réparti équitablement sur ses deux pieds."]
[null,"3.       ","Mesurer le poids à 0,1 kg près."]
[null,"4.       ","Répéter les étapes 1 à 3"]
[null,"5.       ","Si les deux résultats divergent de moins de 0,4 kg, le résultat pris en compte sera la moyenne des deux valeurs. "]
[null,null,"Si l’écart entre les deux résultats est supérieur à 0,4 kg, recommencer à l’étape 1. "]
[]
[]
[]
[null,"Taille debout "]
[null,"(à mesurer en position «étendue», c’est-à-dire avec une distance maximale entre le sol et le sommet de la tête."]
[null,"Sommet de la tête = point du crâne le plus haut lorsque la tête est tenue exactement à l’horizontale)."]
[]
[null,"1.   ","L’athlète est debout, adossé au mur. Son dos, ses fesses et ses talons doivent toucher le mur. Ses pieds sont joints et posés à plat sur le sol."]
[null,"2.    ","Tête / regard à l’horizontale."]
[null,"3.   ","L’athlète inspire aussi profondément que possible et bloque sa respiration."]
[null,"4.    ","Dans la position étendue maximale (les pieds restent sur le sol) et à la fin de la respiration profonde, mesurer la taille du joueur à 0,1 cm près."]
[null,"5.    ","L’athlète se retire de l’endroit de la mesure."]
[null,"6.    ","Répéter les étapes 1 à 5."]
[null,"7.    ","Si les deux résultats divergent de moins de 0,4 cm, le résultat pris en compte sera la moyenne des deux valeurs."]
[null,null,"Si l’écart entre les deux résultats est supérieur à 0,4 cm, recommencer à l’étape 1."]
[]
[]
[null,"Taille assis "]
[null,"(se mesure également dans une position dite «étendue » c’est-à-dire avec une distance maximale entre le sol et la surface du siège)."]
[]
[null,"1.    ","L’athlète s’assoit sur un siège dont la hauteur est connue. Les mains/bras reposent détendus sur les cuisses ; les fesses et le dos sont contre le mur."]
[null,"2.   ","L’athlète inspire profondément puis bloque sa respiration. Tête et regard sont à l’horizontale. "]
[null,null,"Important: l’athlète ne doit pas tendre les muscles du fessier ni exercer de poussée contre le sol avec ses pieds."]
[null,"3.   ","Mesurer la taille en position étendue maximale, à la fin de l’inspiration profonde, à 0,1 cm près."]
[null,"4.    ","L’athlète se retire de l’endroit de la mesure."]
[null,"5.    ","Répéter les étapes 1 à 4."]
[null,"6.    ","Si les deux résultats divergent de moins de 0,4 cm, le résultat pris en compte sera la moyenne des deux valeurs."]
[null,null,"Si l’écart entre les deux résultats est supérieur à 0,4 cm, recommencer à l’étape 1."]
[]
[null,"Nous vous recommandons d’exercer ce protocole avec plusieurs joueurs avant la réalisation du test proprement dit. "]
[]
[null,"Entrée des données dans la feuille de données (Eingabeblatt)"]
[null,"1.","Cliquer sur le bouton nouvelle entrée"]
[null,"2.","Entrer les données de la colonne B à H"]
[null,"3.","Attribuer le sexe à chaque athlète dans la colonne A (m ou f dans la liste déroulante)"]
[]
[null,"Auteurs: Marie Javet, Markus Tschopp & Michael Romann"]
[null,"Contact: VerbandSsupport"]

{"sheet":"Eingabeblatt","index":2,"n_rows":500,"n_cols":25,"rows_kept":500}
[]
[]
[]
["Geschlecht\nsexe\nListe\nm=male\nf=female","Messdatum\nDate de la mesure","Name\nNom","Vorname\nPrénom","Geburtsdatum\nDate de naissance","Körpergewicht\nPoids\n(kg)","Körpergrösse stehend\nTaille debout\n(cm)","Körpergrösse sitzend\nTaille assise\n(cm)","Beinlänge\nLongueur des jambes\n(cm)","Alter Chronologisch\nÂge chronologique","Maturity Offset","geschätztes Alter beim Wachstumsspurt\nâge estimé au pic de croissance","Bio. Entwicklungsstand\nBES Zahl (1-3)\nDéveloppement bio.\nCatégorie 1-3","BES\nDév. bio. Catégorie 1-3","BES Zahl (1-5)\nDév. bio. Catégorie 1-5","BES Zahl (1-5)\nDév. Bio Catégorie 1-5","geschätzte Wachstumsreserve\nréserve de croissance estimée","geschätzte Erwachsenegrösse\nTaille à l'âge adulte estimée\n(±5.4cm)","Prozent-Erwachsenengrösse\npourcentage de la taille adulte atteinte actuellement",{"$nulls":3},"Spaltenangabe Tabelle"]
[{"$nulls":8},{"$f":"G5-H5","v":{"v":0,"d":"0.0"}},{"$f":"(B5-E5)/365.25","v":{"v":0,"d":"0.00"}},{"$f":"IF(A5=\"m\",(-9.236+(0.0002708*I5*H5)+(-0.001663*J5*I5)+(0.007216*J5*H5)+(0.02292*F5/G5*100)),(-9.376+(0.0001882*I5*H5)+(0.0022*J5*I5)+(0.005841*J5*H5)-(0.002658*J5*F5)+(0.07693*(F5/G5)*100)))","v":{"$error":"#DIV/0!"}},{"$f":"J5-K5","v":{"$error":"#DIV/0!"}},{"$f":"IF(A5=\"m\",(IF(L5<12.8,1,IF(L5>14.8,3,2))),(IF(L5<11,1,IF(L5>13,3,2))))","v":{"$error":"#DIV/0!"}},{"$f":"IF(M5=1,\"Früh / précoce\",IF(M5=2,\"Durchschnittlich / Normal\",\"Spät / Tardif\"))","v":{"$error":"#DIV/0!"}},{"$f":"IF(A5=\"m\",(IF(L5<12.8,1,IF(L5<13.3,2,IF(L5>14.8,5,IF(L5>14.3,4,3))))),(IF(L5<11,1,IF(L5<11.5,2,IF(L5>13,5,IF(L5>12.5,4,3))))))","v":{"$error":"#DIV/0!"}},{"$f":"IF(O5=1,\"Früh / précoce\",IF(O5=2,\"Möglicherweise Früh / éventuellement précoce\", IF(O5=3,\"Durchschnittlich / Normal\",IF(O5=4,\"Möglicherweise spät / éventuellement tardif\",\"Spät / Tardif\"))))","v":{"$error":"#DIV/0!"}},{"$f":"IF(A5=\"m\",VLOOKUP(K5,Berechnung_Male!$A$1:$D$42,W5,TRUE),VLOOKUP(Eingabeblatt!K5,Berechnung_Female!$A$1:$D$42,W5,TRUE))","v":{"$error":"#DIV/0!"}},{"$f":"G5+Q5","v":{"$error":"#DIV/0!"}},{"$f":"G5/R5","v":{"$error":"#DIV/0!"}},{"$nulls":3},{"$f":"IF(A5=\"m\",IF(L5<12.8,2,IF(L5<14.8,3,4)),IF(L5<11,2,IF(L5<13,3,4)))","v":{"$error":"#DIV/0!"}},null,"m"]
[{"$nulls":8},{"$f":"G6-H6","v":{"v":0,"d":"0.0"}},{"$f":"(B6-E6)/365.25","v":{"v":0,"d":"0.00"}},{"$f":"IF(A6=\"m\",(-9.236+(0.0002708*I6*H6)+(-0.001663*J6*I6)+(0.007216*J6*H6)+(0.02292*F6/G6*100)),(-9.376+(0.0001882*I6*H6)+(0.0022*J6*I6)+(0.005841*J6*H6)-(0.002658*J6*F6)+(0.07693*(F6/G6)*100)))","v":{"$error":"#DIV/0!"}},{"$f":"J6-K6","v":{"$error":"#DIV/0!"}},{"$f":"IF(A6=\"m\",(IF(L6<12.8,1,IF(L6>14.8,3,2))),(IF(L6<11,1,IF(L6>13,3,2))))","v":{"$error":"#DIV/0!"}},{"$f":"IF(M6=1,\"Früh / précoce\",IF(M6=2,\"Durchschnittlich / Normal\",\"Spät / Tardif\"))","v":{"$error":"#DIV/0!"}},{"$f":"IF(A6=\"m\",(IF(L6<12.8,1,IF(L6<13.3,2,IF(L6>14.8,5,IF(L6>14.3,4,3))))),(IF(L6<11,1,IF(L6<11.5,2,IF(L6>13,5,IF(L6>12.5,4,3))))))","v":{"$error":"#DIV/0!"}},{"$f":"IF(O6=1,\"Früh / précoce\",IF(O6=2,\"Möglicherweise Früh / éventuellement précoce\", IF(O6=3,\"Durchschnittlich / Normal\",IF(O6=4,\"Möglicherweise spät / éventuellement tardif\",\"Spät / Tardif\"))))","v":{"$error":"#DIV/0!"}},{"$f":"IF(A6=\"m\",VLOOKUP(K6,Berechnung_Male!$A$1:$D$42,W6,TRUE),VLOOKUP(Eingabeblatt!K6,Berechnung_Female!$A$1:$D$42,W6,TRUE))","v":{"$error":"#DIV/0!"}},{"$f":"G6+Q6","v":{"$error":"#DIV/0!"}},{"$f":"G6/R6","v":{"$error":"#DIV/0!"}},{"$nulls":3},{"$f":"IF(A6=\"m\",IF(L6<12.8,2,IF(L6<14.8,3,4)),IF(L6<11,2,IF(L6<13,3,4)))","v":{"$error":"#DIV/0!"}},null,"f"]
[{"$nulls":8},{"v":0,"d":"0.0"},{"v":0,"d":"0.00"},{"$error":"#DIV/0!"},{"$error":"#DIV/0!"},{"$error":"#DIV/0!"},{"$error":"#DIV/0!"},{"$error":"#DIV/0!"},{"$error":"#DIV/0!"},{"$f":"IF(A7=\"m\",VLOOKUP(K7,Berechnung_Male!$A$1:$D$42,W7,TRUE),VLOOKUP(Eingabeblatt!K7,Berechnung_Female!$A$1:$D$42,W7,TRUE))","v":{"$error":"#DIV/0!"}},{"$error":"#DIV/0!"},{"$error":"#DIV/0!"},{"$nulls":3},{"$error":"#DIV/0!"}]
[{"$nulls":8},{"v":0,"d":"0.0"},{"v":0,"d":"0.00"},{"$error":"#DIV/0!"},{"$error":"#DIV/0!"},{"$error":"#DIV/0!"},{"$error":"#DIV/0!"},{"$error":"#DIV/0!"},{"$error":"#DIV/0!"},{"$f":"IF(A8=\"m\",VLOOKUP(K8,Berechnung_Male!$A$1:$D$42,W8,TRUE),VLOOKUP(Eingabeblatt!K8,Berechnung_Female!$A$1:$D$42,W8,TRUE))","v":{"$error":"#DIV/0!"}},{"$error":"#DIV/0!"},{"$error":"#DIV/0!"},{"$nulls":3},{"$error":"#DIV/0!"}]
[{"$nulls":8},{"v":0,"d":"0.0"},{"v":0,"d":"0.00"},{"$error":"#DIV/0!"},{"$error":"#DIV/0!"},{"$error":"#DIV/0!"},{"$error":"#DIV/0!"},{"$error":"#DIV/0!"},{"$error":"#DIV/0!"},{"$f":"IF(A9=\"m\",VLOOKUP(K9,Berechnung_Male!$A$1:$D$42,W9,TRUE),VLOOKUP(Eingabeblatt!K9,Berechnung_Female!$A$1:$D$42,W9,TRUE))","v":{"$error":"#DIV/0!"}},{"$error":"#DIV/0!"},{"$error":"#DIV/0!"},{"$nulls":3},{"$error":"#DIV/0!"}]
[{"$nulls":8},{"v":0,"d":"0.0"},{"v":0,"d":"0.00"},{"$error":"#DIV/0!"},{"$error":"#DIV/0!"},{"$error":"#DIV/0!"},{"$error":"#DIV/0!"},{"$error":"#DIV/0!"},{"$error":"#DIV/0!"},{"$f":"IF(A10=\"m\",VLOOKUP(K10,Berechnung_Male!$A$1:$D$42,W10,TRUE),VLOOKUP(Eingabeblatt!K10,Berechnung_Female!$A$1:$D$42,W10,TRUE))","v":{"$error":"#DIV/0!"}},{"$error":"#DIV/0!"},{"$error":"#DIV/0!"},{"$nulls":3},{"$error":"#DIV/0!"}]
[{"$nulls":8},{"v":0,"d":"0.0"},{"v":0,"d":"0.00"},{"$error":"#DIV/0!"},{"$error":"#DIV/0!"},{"$error":"#DIV/0!"},{"$error":"#DIV/0!"},{"$error":"#DIV/0!"},{"$error":"#DIV/0!"},{"$f":"IF(A11=\"m\",VLOOKUP(K11,Berechnung_Male!$A$1:$D$42,W11,TRUE),VLOOKUP(Eingabeblatt!K11,Berechnung_Female!$A$1:$D$42,W11,TRUE))","v":{"$error":"#DIV/0!"}},{"$error":"#DIV/0!"},{"$error":"#DIV/0!"},{"$nulls":3},{"$error":"#DIV/0!"}]
[{"$nulls":8},{"v":0,"d":"0.0"},{"v":0,"d":"0.00"},{"$error":"#DIV/0!"},{"$error":"#DIV/0!"},{"$error":"#DIV/0!"},{"$error":"#DIV/0!"},{"$error":"#DIV/0!"},{"$error":"#DIV/0!"},{"$f":"IF(A12=\"m\",VLOOKUP(K12,Berechnung_Male!$A$1:$D$42,W12,TRUE),VLOOKUP(Eingabeblatt!K12,Berechnung_Female!$A$1:$D$42,W12,TRUE))","v":{"$error":"#DIV/0!"}},{"$error":"#DIV/0!"},{"$error":"#DIV/0!"},{"$nulls":3},{"$error":"#DIV/0!"}]
[{"$nulls":8},{"v":0,"d":"0.0"},{"v":0,"d":"0.00"},{"$error":"#DIV/0!"},{"$error":"#DIV/0!"},{"$error":"#DIV/0!"},{"$error":"#DIV/0!"},{"$error":"#DIV/0!"},{"$error":"#DIV/0!"},{"$f":"IF(A13=\"m\",VLOOKUP(K13,Berechnung_Male!$A$1:$D$42,W13,TRUE),VLOOKUP(Eingabeblatt!K13,Berechnung_Female!$A$1:$D$42,W13,TRUE))","v":{"$error":"#DIV/0!"}},{"$error":"#DIV/0!"},{"$error":"#DIV/0!"},{"$nulls":3},{"$error":"#DIV/0!"}]
[{"$nulls":8},{"v":0,"d":"0.0"},{"v":0,"d":"0.00"},{"$error":"#DIV/0!"},{"$error":"#DIV/0!"},{"$error":"#DIV/0!"},{"$error":"#DIV/0!"},{"$error":"#DIV/0!"},{"$error":"#DIV/0!"},{"$f":"IF(A14=\"m\",VLOOKUP(K14,Berechnung_Male!$A$1:$D$42,W14,TRUE),VLOOKUP(Eingabeblatt!K14,Berechnung_Female!$A$1:$D$42,W14,TRUE))","v":{"$error":"#DIV/0!"}},{"$error":"#DIV/0!"},{"$error":"#DIV/0!"},{"$nulls":3},{"$error":"#DIV/0!"}]
[{"$nulls":8},{"v":0,"d":"0.0"},{"v":0,"d":"0.00"},{"$error":"#DIV/0!"},{"$error":"#DIV/0!"},{"$error":"#DIV/0!"},{"$error":"#DIV/0!"},{"$error":"#DIV/0!"},{"$error":"#DIV/0!"},{"$f":"IF(A15=\"m\",VLOOKUP(K15,Berechnung_Male!$A$1:$D$42,W15,TRUE),VLOOKUP(Eingabeblatt!K15,Berechnung_Female!$A$1:$D$42,W15,TRUE))","v":{"$error":"#DIV/0!"}},{"$error":"#DIV/0!"},{"$error":"#DIV/0!"},{"$nulls":3},{"$error":"#DIV/0!"}]
[{"$nulls":8},{"v":0,"d":"0.0"},{"v":0,"d":"0.00"},{"$error":"#DIV/0!"},{"$error":"#DIV/0!"},{"$error":"#DIV/0!"},{"$error":"#DIV/0!"},{"$error":"#DIV/0!"},{"$error":"#DIV/0!"},{"$f":"IF(A16=\"m\",VLOOKUP(K16,Berechnung_Male!$A$1:$D$42,W16,TRUE),VLOOKUP(Eingabeblatt!K16,Berechnung_Female!$A$1:$D$42,W16,TRUE))","v":{"$error":"#DIV/0!"}},{"$error":"#DIV/0!"},{"$error":"#DIV/0!"},{"$nulls":3},{"$error":"#DIV/0!"}]
[{"$nulls":8},{"v":0,"d":"0.0"},{"v":0,"d":"0.00"},{"$error":"#DIV/0!"},{"$error":"#DIV/0!"},{"$error":"#DIV/0!"},{"$error":"#DIV/0!"},{"$error":"#DIV/0!"},{"$error":"#DIV/0!"},{"$f":"IF(A17=\"m\",VLOOKUP(K17,Berechnung_Male!$A$1:$D$42,W17,TRUE),VLOOKUP(Eingabeblatt!K17,Berechnung_Female!$A$1:$D$42,W17,TRUE))","v":{"$error":"#DIV/0!"}},{"$error":"#DIV/0!"},{"$error":"#DIV/0!"},{"$nulls":3},{"$error":"#DIV/0!"}]
[{"$nulls":8},{"v":0,"d":"0.0"},{"v":0,"d":"0.00"},{"$error":"#DIV/0!"},{"$error":"#DIV/0!"},{"$error":"#DIV/0!"},{"$error":"#DIV/0!"},{"$error":"#DIV/0!"},{"$error":"#DIV/0!"},{"$f":"IF(A18=\"m\",VLOOKUP(K18,Berechnung_Male!$A$1:$D$42,W18,TRUE),VLOOKUP(Eingabeblatt!K18,Berechnung_Female!$A$1:$D$42,W18,TRUE))","v":{"$error":"#DIV/0!"}},{"$error":"#DIV/0!"},{"$error":"#DIV/0!"},{"$nulls":3},{"$error":"#DIV/0!"}]
[{"$nulls":8},{"v":0,"d":"0.0"},{"v":0,"d":"0.00"},{"$error":"#DIV/0!"},{"$error":"#DIV/0!"},{"$error":"#DIV/0!"},{"$error":"#DIV/0!"},{"$error":"#DIV/0!"},{"$error":"#DIV/0!"},{"$f":"IF(A19=\"m\",VLOOKUP(K19,Berechnung_Male!$A$1:$D$42,W19,TRUE),VLOOKUP(Eingabeblatt!K19,Berechnung_Female!$A$1:$D$42,W19,TRUE))","v":{"$error":"#DIV/0!"}},{"$error":"#DIV/0!"},{"$error":"#DIV/0!"},{"$nulls":3},{"$error":"#DIV/0!"}]
[{"$nulls":8},{"v":0,"d":"0.0"},{"v":0,"d":"0.00"},{"$error":"#DIV/0!"},{"$error":"#DIV/0!"},{"$error":"#DIV/0!"},{"$error":"#DIV/0!"},{"$error":"#DIV/0!"},{"$error":"#DIV/0!"},{"$f":"IF(A20=\"m\",VLOOKUP(K20,Berechnung_Male!$A$1:$D$42,W20,TRUE),VLOOKUP(Eingabeblatt!K20,Berechnung_Female!$A$1:$D$42,W20,TRUE))","v":{"$error":"#DIV/0!"}},{"$error":"#DIV/0!"},{"$error":"#DIV/0!"},{"$nulls":3},{"$error":"#DIV/0!"}]
[{"$nulls":8},{"v":0,"d":"0.0"},{"v":0,"d":"0.00"},{"$error":"#DIV/0!"},{"$error":"#DIV/0!"},{"$error":"#DIV/0!"},{"$error":"#DIV/0!"},{"$error":"#DIV/0!"},{"$error":"#DIV/0!"},{"$f":"IF(A21=\"m\",VLOOKUP(K21,Berechnung_Male!$A$1:$D$42,W21,TRUE),VLOOKUP(Eingabeblatt!K21,Berechnung_Female!$A$1:$D$42,W21,TRUE))","v":{"$error":"#DIV/0!"}},{"$error":"#DIV/0!"},{"$error":"#DIV/0!"},{"$nulls":3},{"$error":"#DIV/0!"}]
[{"$nulls":8},{"v":0,"d":"0.0"},{"v":0,"d":"0.00"},{"$error":"#DIV/0!"},{"$error":"#DIV/0!"},{"$error":"#DIV/0!"},{"$error":"#DIV/0!"},{"$error":"#DIV/0!"},{"$error":"#DIV/0!"},{"$f":"IF(A22=\"m\",VLOOKUP(K22,Berechnung_Male!$A$1:$D$42,W22,TRUE),VLOOKUP(Eingabeblatt!K22,Berechnung_Female!$A$1:$D$42,W22,TRUE))","v":{"$error":"#DIV/0!"}},{"$error":"#DIV/0!"},{"$error":"#DIV/0!"},{"$nulls":3},{"$error":"#DIV/0!"}]
[{"$nulls":8},{"v":0,"d":"0.0"},{"v":0,"d":"0.00"},{"$error":"#DIV/0!"},{"$error":"#DIV/0!"},{"$error":"#DIV/0!"},{"$error":"#DIV/0!"},{"$error":"#DIV/0!"},{"$error":"#DIV/0!"},{"$f":"IF(A23=\"m\",VLOOKUP(K23,Berechnung_Male!$A$1:$D$42,W23,TRUE),VLOOKUP(Eingabeblatt!K23,Berechnung_Female!$A$1:$D$42,W23,TRUE))","v":{"$error":"#DIV/0!"}},{"$error":"#DIV/0!"},{"$error":"#DIV/0!"},{"$nulls":3},{"$error":"#DIV/0!"}]
[{"$nulls":8},{"v":0,"d":"0.0"},{"v":0,"d":"0.00"},{"$error":"#DIV/0!"},{"$error":"#DIV/0!"},{"$error":"#DIV/0!"},{"$error":"#DIV/0!"},{"$error":"#DIV/0!"},{"$error":"#DIV/0!"},{"$f":"IF(A24=\"m\",VLOOKUP(K24,Berechnung_Male!$A$1:$D$42,W24,TRUE),VLOOKUP(Eingabeblatt!K24,Berechnung_Female!$A$1:$D$42,W24,TRUE))","v":{"$error":"#DIV/0!"}},{"$error":"#DIV/0!"},{"$error":"#DIV/0!"},{"$nulls":3},{"$error":"#DIV/0!"}]
[{"$nulls":8},{"v":0,"d":"0.0"},{"v":0,"d":"0.00"},{"$error":"#DIV/0!"},{"$error":"#DIV/0!"},{"$error":"#DIV/0!"},{"$error":"#DIV/0!"},{"$error":"#DIV/0!"},{"$error":"#DIV/0!"},{"$f":"IF(A25=\"m\",VLOOKUP(K25,Berechnung_Male!$A$1:$D$42,W25,TRUE),VLOOKUP(Eingabeblatt!K25,Berechnung_Female!$A$1:$D$42,W25,TRUE))","v":{"$error":"#DIV/0!"}},{"$error":"#DIV/0!"},{"$error":"#DIV/0!"},{"$nulls":3},{"$error":"#DIV/0!"}]
[{"$nulls":8},{"v":0,"d":"0.0"},{"v":0,"d":"0.00"},{"$error":"#DIV/0!"},{"$error":"#DIV/0!"},{"$error":"#DIV/0!"},{"$error":"#DIV/0!"},{"$error":"#DIV/0!"},{"$error":"#DIV/0!"},{"$f":"IF(A26=\"m\",VLOOKUP(K26,Berechnung_Male!$A$1:$D$42,W26,TRUE),VLOOKUP(Eingabeblatt!K26,Berechnung_Female!$A$1:$D$42,W26,TRUE))","v":{"$error":"#DIV/0!"}},{"$error":"#DIV/0!"},{"$error":"#DIV/0!"},{"$nulls":3},{"$error":"#DIV/0!"}]
[{"$nulls":8},{"v":0,"d":"0.0"},{"v":0,"d":"0.00"},{"$error":"#DIV/0!"},{"$error":"#DIV/0!"},{"$error":"#DIV/0!"},{"$error":"#DIV/0!"},{"$error":"#DIV/0!"},{"$error":"#DIV/0!"},{"$f":"IF(A27=\"m\",VLOOKUP(K27,Berechnung_Male!$A$1:$D$42,W27,TRUE),VLOOKUP(Eingabeblatt!K27,Berechnung_Female!$A$1:$D$42,W27,TRUE))","v":{"$error":"#DIV/0!"}},{"$error":"#DIV/0!"},{"$error":"#DIV/0!"},{"$nulls":3},{"$error":"#DIV/0!"}]
[{"$nulls":8},{"v":0,"d":"0.0"},{"v":0,"d":"0.00"},{"$error":"#DIV/0!"},{"$error":"#DIV/0!"},{"$error":"#DIV/0!"},{"$error":"#DIV/0!"},{"$error":"#DIV/0!"},{"$error":"#DIV/0!"},{"$f":"IF(A28=\"m\",VLOOKUP(K28,Berechnung_Male!$A$1:$D$42,W28,TRUE),VLOOKUP(Eingabeblatt!K28,Berechnung_Female!$A$1:$D$42,W28,TRUE))","v":{"$error":"#DIV/0!"}},{"$error":"#DIV/0!"},{"$error":"#DIV/0!"},{"$nulls":3},{"$error":"#DIV/0!"}]
[{"$nulls":8},{"v":0,"d":"0.0"},{"v":0,"d":"0.00"},{"$error":"#DIV/0!"},{"$error":"#DIV/0!"},{"$error":"#DIV/0!"},{"$error":"#DIV/0!"},{"$error":"#DIV/0!"},{"$error":"#DIV/0!"},{"$f":"IF(A29=\"m\",VLOOKUP(K29,Berechnung_Male!$A$1:$D$42,W29,TRUE),VLOOKUP(Eingabeblatt!K29,Berechnung_Female!$A$1:$D$42,W29,TRUE))","v":{"$error":"#DIV/0!"}},{"$error":"#DIV/0!"},{"$error":"#DIV/0!"},{"$nulls":3},{"$error":"#DIV/0!"}]
[{"$nulls":8},{"v":0,"d":"0.0"},{"v":0,"d":"0.00"},{"$error":"#DIV/0!"},{"$error":"#DIV/0!"},{"$error":"#DIV/0!"},{"$error":"#DIV/0!"},{"$error":"#DIV/0!"},{"$error":"#DIV/0!"},{"$f":"IF(A30=\"m\",VLOOKUP(K30,Berechnung_Male!$A$1:$D$42,W30,TRUE),VLOOKUP(Eingabeblatt!K30,Berechnung_Female!$A$1:$D$42,W30,TRUE))","v":{"$error":"#DIV/0!"}},{"$error":"#DIV/0!"},{"$error":"#DIV/0!"},{"$nulls":3},{"$error":"#DIV/0!"}]
[{"$nulls":8},{"v":0,"d":"0.0"},{"v":0,"d":"0.00"},{"$error":"#DIV/0!"},{"$error":"#DIV/0!"},{"$error":"#DIV/0!"},{"$error":"#DIV/0!"},{"$error":"#DIV/0!"},{"$error":"#DIV/0!"},{"$f":"IF(A31=\"m\",VLOOKUP(K31,Berechnung_Male!$A$1:$D$42,W31,TRUE),VLOOKUP(Eingabeblatt!K31,Berechnung_Female!$A$1:$D$42,W31,TRUE))","v":{"$error":"#DIV/0!"}},{"$error":"#DIV/0!"},{"$error":"#DIV/0!"},{"$nulls":3},{"$error":"#DIV/0!"}]
[{"$nulls":8},{"v":0,"d":"0.0"},{"v":0,"d":"0.00"},{"$error":"#DIV/0!"},{"$error":"#DIV/0!"},{"$error":"#DIV/0!"},{"$error":"#DIV/0!"},{"$error":"#DIV/0!"},{"$error":"#DIV/0!"},{"$f":"IF(A32=\"m\",VLOOKUP(K32,Berechnung_Male!$A$1:$D$42,W32,TRUE),VLOOKUP(Eingabeblatt!K32,Berechnung_Female!$A$1:$D$42,W32,TRUE))","v":{"$error":"#DIV/0!"}},{"$error":"#DIV/0!"},{"$error":"#DIV/0!"},{"$nulls":3},{"$error":"#DIV/0!"}]
[{"$nulls":8},{"v":0,"d":"0.0"},{"v":0,"d":"0.00"},{"$error":"#DIV/0!"},{"$error":"#DIV/0!"},{"$error":"#DIV/0!"},{"$error":"#DIV/0!"},{"$error":"#DIV/0!"},{"$error":"#DIV/0!"},{"$f":"IF(A33=\"m\",VLOOKUP(K33,Berechnung_Male!$A$1:$D$42,W33,TRUE),VLOOKUP(Eingabeblatt!K33,Berechnung_Female!$A$1:$D$42,W33,TRUE))","v":{"$error":"#DIV/0!"}},{"$error":"#DIV/0!"},{"$error":"#DIV/0!"},{"$nulls":3},{"$error":"#DIV/0!"}]
[{"$nulls":8},{"v":0,"d":"0.0"},{"v":0,"d":"0.00"},{"$error":"#DIV/0!"},{"$error":"#DIV/0!"},{"$error":"#DIV/0!"},{"$error":"#DIV/0!"},{"$error":"#DIV/0!"},{"$error":"#DIV/0!"},{"$f":"IF(A34=\"m\",VLOOKUP(K34,Berechnung_Male!$A$1:$D$42,W34,TRUE),VLOOKUP(Eingabeblatt!K34,Berechnung_Female!$A$1:$D$42,W34,TRUE))","v":{"$error":"#DIV/0!"}},{"$error":"#DIV/0!"},{"$error":"#DIV/0!"},{"$nulls":3},{"$error":"#DIV/0!"}]
[{"$nulls":8},{"v":0,"d":"0.0"},{"v":0,"d":"0.00"},{"$error":"#DIV/0!"},{"$error":"#DIV/0!"},{"$error":"#DIV/0!"},{"$error":"#DIV/0!"},{"$error":"#DIV/0!"},{"$error":"#DIV/0!"},{"$f":"IF(A35=\"m\",VLOOKUP(K35,Berechnung_Male!$A$1:$D$42,W35,TRUE),VLOOKUP(Eingabeblatt!K35,Berechnung_Female!$A$1:$D$42,W35,TRUE))","v":{"$error":"#DIV/0!"}},{"$error":"#DIV/0!"},{"$error":"#DIV/0!"},{"$nulls":3},{"$error":"#DIV/0!"}]
[{"$nulls":8},{"v":0,"d":"0.0"},{"v":0,"d":"0.00"},{"$error":"#DIV/0!"},{"$error":"#DIV/0!"},{"$error":"#DIV/0!"},{"$error":"#DIV/0!"},{"$error":"#DIV/0!"},{"$error":"#DIV/0!"},{"$f":"IF(A36=\"m\",VLOOKUP(K36,Berechnung_Male!$A$1:$D$42,W36,TRUE),VLOOKUP(Eingabeblatt!K36,Berechnung_Female!$A$1:$D$42,W36,TRUE))","v":{"$error":"#DIV/0!"}},{"$error":"#DIV/0!"},{"$error":"#DIV/0!"},{"$nulls":3},{"$error":"#DIV/0!"}]
[{"$nulls":8},{"v":0,"d":"0.0"},{"v":0,"d":"0.00"},{"$error":"#DIV/0!"},{"$error":"#DIV/0!"},{"$error":"#DIV/0!"},{"$error":"#DIV/0!"},{"$error":"#DIV/0!"},{"$error":"#DIV/0!"},{"$f":"IF(A37=\"m\",VLOOKUP(K37,Berechnung_Male!$A$1:$D$42,W37,TRUE),VLOOKUP(Eingabeblatt!K37,Berechnung_Female!$A$1:$D$42,W37,TRUE))","v":{"$error":"#DIV/0!"}},{"$error":"#DIV/0!"},{"$error":"#DIV/0!"},{"$nulls":3},{"$error":"#DIV/0!"}]
[{"$nulls":8},{"v":0,"d":"0.0"},{"v":0,"d":"0.00"},{"$error":"#DIV/0!"},{"$error":"#DIV/0!"},{"$error":"#DIV/0!"},{"$error":"#DIV/0!"},{"$error":"#DIV/0!"},{"$error":"#DIV/0!"},{"$f":"IF(A38=\"m\",VLOOKUP(K38,Berechnung_Male!$A$1:$D$42,W38,TRUE),VLOOKUP(Eingabeblatt!K38,Berechnung_Female!$A$1:$D$42,W38,TRUE))","v":{"$error":"#DIV/0!"}},{"$error":"#DIV/0!"},{"$error":"#DIV/0!"},{"$nulls":3},{"$error":"#DIV/0!"}]
[{"$nulls":8},{"v":0,"d":"0.0"},{"v":0,"d":"0.00"},{"$error":"#DIV/0!"},{"$error":"#DIV/0!"},{"$error":"#DIV/0!"},{"$error":"#DIV/0!"},{"$error":"#DIV/0!"},{"$error":"#DIV/0!"},{"$f":"IF(A39=\"m\",VLOOKUP(K39,Berechnung_Male!$A$1:$D$42,W39,TRUE),VLOOKUP(Eingabeblatt!K39,Berechnung_Female!$A$1:$D$42,W39,TRUE))","v":{"$error":"#DIV/0!"}},{"$error":"#DIV/0!"},{"$error":"#DIV/0!"},{"$nulls":3},{"$error":"#DIV/0!"}]
[{"$nulls":8},{"v":0,"d":"0.0"},{"v":0,"d":"0.00"},{"$error":"#DIV/0!"},{"$error":"#DIV/0!"},{"$error":"#DIV/0!"},{"$error":"#DIV/0!"},{"$error":"#DIV/0!"},{"$error":"#DIV/0!"},{"$f":"IF(A40=\"m\",VLOOKUP(K40,Berechnung_Male!$A$1:$D$42,W40,TRUE),VLOOKUP(Eingabeblatt!K40,Berechnung_Female!$A$1:$D$42,W40,TRUE))","v":{"$error":"#DIV/0!"}},{"$error":"#DIV/0!"},{"$error":"#DIV/0!"},{"$nulls":3},{"$error":"#DIV/0!"}]
[{"$nulls":8},{"v":0,"d":"0.0"},{"v":0,"d":"0.00"},{"$error":"#DIV/0!"},{"$error":"#DIV/0!"},{"$error":"#DIV/0!"},{"$error":"#DIV/0!"},{"$error":"#DIV/0!"},{"$error":"#DIV/0!"},{"$f":"IF(A41=\"m\",VLOOKUP(K41,Berechnung_Male!$A$1:$D$42,W41,TRUE),VLOOKUP(Eingabeblatt!K41,Berechnung_Female!$A$1:$D$42,W41,TRUE))","v":{"$error":"#DIV/0!"}},{"$error":"#DIV/0!"},{"$error":"#DIV/0!"},{"$nulls":3},{"$error":"#DIV/0!"}]
[{"$nulls":8},{"v":0,"d":"0.0"},{"v":0,"d":"0.00"},{"$error":"#DIV/0!"},{"$error":"#DIV/0!"},{"$error":"#DIV/0!"},{"$error":"#DIV/0!"},{"$error":"#DIV/0!"},{"$error":"#DIV/0!"},{"$f":"IF(A42=\"m\",VLOOKUP(K42,Berechnung_Male!$A$1:$D$42,W42,TRUE),VLOOKUP(Eingabeblatt!K42,Berechnung_Female!$A$1:$D$42,W42,TRUE))","v":{"$error":"#DIV/0!"}},{"$error":"#DIV/0!"},{"$error":"#DIV/0!"},{"$nulls":3},{"$error":"#DIV/0!"}]
[{"$nulls":8},{"v":0,"d":"0.0"},{"v":0,"d":"0.00"},{"$error":"#DIV/0!"},{"$error":"#DIV/0!"},{"$error":"#DIV/0!"},{"$error":"#DIV/0!"},{"$error":"#DIV/0!"},{"$error":"#DIV/0!"},{"$f":"IF(A43=\"m\",VLOOKUP(K43,Berechnung_Male!$A$1:$D$42,W43,TRUE),VLOOKUP(Eingabeblatt!K43,Berechnung_Female!$A$1:$D$42,W43,TRUE))","v":{"$error":"#DIV/0!"}},{"$error":"#DIV/0!"},{"$error":"#DIV/0!"},{"$nulls":3},{"$error":"#DIV/0!"}]
[{"$nulls":8},{"v":0,"d":"0.0"},{"v":0,"d":"0.00"},{"$error":"#DIV/0!"},{"$error":"#DIV/0!"},{"$error":"#DIV/0!"},{"$error":"#DIV/0!"},{"$error":"#DIV/0!"},{"$error":"#DIV/0!"},{"$f":"IF(A44=\"m\",VLOOKUP(K44,Berechnung_Male!$A$1:$D$42,W44,TRUE),VLOOKUP(Eingabeblatt!K44,Berechnung_Female!$A$1:$D$42,W44,TRUE))","v":{"$error":"#DIV/0!"}},{"$error":"#DIV/0!"},{"$error":"#DIV/0!"},{"$nulls":3},{"$error":"#DIV/0!"}]
[{"$nulls":8},{"v":0,"d":"0.0"},{"v":0,"d":"0.00"},{"$error":"#DIV/0!"},{"$error":"#DIV/0!"},{"$error":"#DIV/0!"},{"$error":"#DIV/0!"},{"$error":"#DIV/0!"},{"$error":"#DIV/0!"},{"$f":"IF(A45=\"m\",VLOOKUP(K45,Berechnung_Male!$A$1:$D$42,W45,TRUE),VLOOKUP(Eingabeblatt!K45,Berechnung_Female!$A$1:$D$42,W45,TRUE))","v":{"$error":"#DIV/0!"}},{"$error":"#DIV/0!"},{"$error":"#DIV/0!"},{"$nulls":3},{"$error":"#DIV/0!"}]
[{"$nulls":8},{"v":0,"d":"0.0"},{"v":0,"d":"0.00"},{"$error":"#DIV/0!"},{"$error":"#DIV/0!"},{"$error":"#DIV/0!"},{"$error":"#DIV/0!"},{"$error":"#DIV/0!"},{"$error":"#DIV/0!"},{"$f":"IF(A46=\"m\",VLOOKUP(K46,Berechnung_Male!$A$1:$D$42,W46,TRUE),VLOOKUP(Eingabeblatt!K46,Berechnung_Female!$A$1:$D$42,W46,TRUE))","v":{"$error":"#DIV/0!"}},{"$error":"#DIV/0!"},{"$error":"#DIV/0!"},{"$nulls":3},{"$error":"#DIV/0!"}]
[{"$nulls":8},{"v":0,"d":"0.0"},{"v":0,"d":"0.00"},{"$error":"#DIV/0!"},{"$error":"#DIV/0!"},{"$error":"#DIV/0!"},{"$error":"#DIV/0!"},{"$error":"#DIV/0!"},{"$error":"#DIV/0!"},{"$f":"IF(A47=\"m\",VLOOKUP(K47,Berechnung_Male!$A$1:$D$42,W47,TRUE),VLOOKUP(Eingabeblatt!K47,Berechnung_Female!$A$1:$D$42,W47,TRUE))","v":{"$error":"#DIV/0!"}},{"$error":"#DIV/0!"},{"$error":"#DIV/0!"},{"$nulls":3},{"$error":"#DIV/0!"}]
[{"$nulls":8},{"v":0,"d":"0.0"},{"v":0,"d":"0.00"},{"$error":"#DIV/0!"},{"$error":"#DIV/0!"},{"$error":"#DIV/0!"},{"$error":"#DIV/0!"},{"$error":"#DIV/0!"},{"$error":"#DIV/0!"},{"$f":"IF(A48=\"m\",VLOOKUP(K48,Berechnung_Male!$A$1:$D$42,W48,TRUE),VLOOKUP(Eingabeblatt!K48,Berechnung_Female!$A$1:$D$42,W48,TRUE))","v":{"$error":"#DIV/0!"}},{"$error":"#DIV/0!"},{"$error":"#DIV/0!"},{"$nulls":3},{"$error":"#DIV/0!"}]
[{"$nulls":8},{"v":0,"d":"0.0"},{"v":0,"d":"0.00"},{"$error":"#DIV/0!"},{"$error":"#DIV/0!"},{"$error":"#DIV/0!"},{"$error":"#DIV/0!"},{"$error":"#DIV/0!"},{"$error":"#DIV/0!"},{"$f":"IF(A49=\"m\",VLOOKUP(K49,Berechnung_Male!$A$1:$D$42,W49,TRUE),VLOOKUP(Eingabeblatt!K49,Berechnung_Female!$A$1:$D$42,W49,TRUE))","v":{"$error":"#DIV/0!"}},{"$error":"#DIV/0!"},{"$error":"#DIV/0!"},{"$nulls":3},{"$error":"#DIV/0!"}]
[{"$nulls":8},{"v":0,"d":"0.0"},{"v":0,"d":"0.00"},{"$error":"#DIV/0!"},{"$error":"#DIV/0!"},{"$error":"#DIV/0!"},{"$error":"#DIV/0!"},{"$error":"#DIV/0!"},{"$error":"#DIV/0!"},{"$f":"IF(A50=\"m\",VLOOKUP(K50,Berechnung_Male!$A$1:$D$42,W50,TRUE),VLOOKUP(Eingabeblatt!K50,Berechnung_Female!$A$1:$D$42,W50,TRUE))","v":{"$error":"#DIV/0!"}},{"$error":"#DIV/0!"},{"$error":"#DIV/0!"},{"$nulls":3},{"$error":"#DIV/0!"}]
[{"$nulls":8},{"v":0,"d":"0.0"},{"v":0,"d":"0.00"},{"$error":"#DIV/0!"},{"$error":"#DIV/0!"},{"$error":"#DIV/0!"},{"$error":"#DIV/0!"},{"$error":"#DIV/0!"},{"$error":"#DIV/0!"},{"$f":"IF(A51=\"m\",VLOOKUP(K51,Berechnung_Male!$A$1:$D$42,W51,TRUE),VLOOKUP(Eingabeblatt!K51,Berechnung_Female!$A$1:$D$42,W51,TRUE))","v":{"$error":"#DIV/0!"}},{"$error":"#DIV/0!"},{"$error":"#DIV/0!"},{"$nulls":3},{"$error":"#DIV/0!"}]
[{"$nulls":8},{"v":0,"d":"0.0"},{"v":0,"d":"0.00"},{"$error":"#DIV/0!"},{"$error":"#DIV/0!"},{"$error":"#DIV/0!"},{"$error":"#DIV/0!"},{"$error":"#DIV/0!"},{"$error":"#DIV/0!"},{"$f":"IF(A52=\"m\",VLOOKUP(K52,Berechnung_Male!$A$1:$D$42,W52,TRUE),VLOOKUP(Eingabeblatt!K52,Berechnung_Female!$A$1:$D$42,W52,TRUE))","v":{"$error":"#DIV/0!"}},{"$error":"#DIV/0!"},{"$error":"#DIV/0!"},{"$nulls":3},{"$error":"#DIV/0!"}]
[{"$nulls":8},{"v":0,"d":"0.0"},{"v":0,"d":"0.00"},{"$error":"#DIV/0!"},{"$error":"#DIV/0!"},{"$error":"#DIV/0!"},{"$error":"#DIV/0!"},{"$error":"#DIV/0!"},{"$error":"#DIV/0!"},{"$f":"IF(A53=\"m\",VLOOKUP(K53,Berechnung_Male!$A$1:$D$42,W53,TRUE),VLOOKUP(Eingabeblatt!K53,Berechnung_Female!$A$1:$D$42,W53,TRUE))","v":{"$error":"#DIV/0!"}},{"$error":"#DIV/0!"},{"$error":"#DIV/0!"},{"$nulls":3},{"$error":"#DIV/0!"}]
[{"$nulls":8},{"v":0,"d":"0.0"},{"v":0,"d":"0.00"},{"$error":"#DIV/0!"},{"$error":"#DIV/0!"},{"$error":"#DIV/0!"},{"$error":"#DIV/0!"},{"$error":"#DIV/0!"},{"$error":"#DIV/0!"},{"$f":"IF(A54=\"m\",VLOOKUP(K54,Berechnung_Male!$A$1:$D$42,W54,TRUE),VLOOKUP(Eingabeblatt!K54,Berechnung_Female!$A$1:$D$42,W54,TRUE))","v":{"$error":"#DIV/0!"}},{"$error":"#DIV/0!"},{"$error":"#DIV/0!"},{"$nulls":3},{"$error":"#DIV/0!"}]
[{"$nulls":8},{"v":0,"d":"0.0"},{"v":0,"d":"0.00"},{"$error":"#DIV/0!"},{"$error":"#DIV/0!"},{"$error":"#DIV/0!"},{"$error":"#DIV/0!"},{"$error":"#DIV/0!"},{"$error":"#DIV/0!"},{"$f":"IF(A55=\"m\",VLOOKUP(K55,Berechnung_Male!$A$1:$D$42,W55,TRUE),VLOOKUP(Eingabeblatt!K55,Berechnung_Female!$A$1:$D$42,W55,TRUE))","v":{"$error":"#DIV/0!"}},{"$error":"#DIV/0!"},{"$error":"#DIV/0!"},{"$nulls":3},{"$error":"#DIV/0!"}]
[{"$nulls":8},{"v":0,"d":"0.0"},{"v":0,"d":"0.00"},{"$error":"#DIV/0!"},{"$error":"#DIV/0!"},{"$error":"#DIV/0!"},{"$error":"#DIV/0!"},{"$error":"#DIV/0!"},{"$error":"#DIV/0!"},{"$f":"IF(A56=\"m\",VLOOKUP(K56,Berechnung_Male!$A$1:$D$42,W56,TRUE),VLOOKUP(Eingabeblatt!K56,Berechnung_Female!$A$1:$D$42,W56,TRUE))","v":{"$error":"#DIV/0!"}},{"$error":"#DIV/0!"},{"$error":"#DIV/0!"},{"$nulls":3},{"$error":"#DIV/0!"}]
[{"$nulls":8},{"v":0,"d":"0.0"},{"v":0,"d":"0.00"},{"$error":"#DIV/0!"},{"$error":"#DIV/0!"},{"$error":"#DIV/0!"},{"$error":"#DIV/0!"},{"$error":"#DIV/0!"},{"$error":"#DIV/0!"},{"$f":"IF(A57=\"m\",VLOOKUP(K57,Berechnung_Male!$A$1:$D$42,W57,TRUE),VLOOKUP(Eingabeblatt!K57,Berechnung_Female!$A$1:$D$42,W57,TRUE))","v":{"$error":"#DIV/0!"}},{"$error":"#DIV/0!"},{"$error":"#DIV/0!"},{"$nulls":3},{"$error":"#DIV/0!"}]
[{"$nulls":8},{"v":0,"d":"0.0"},{"v":0,"d":"0.00"},{"$error":"#DIV/0!"},{"$error":"#DIV/0!"},{"$error":"#DIV/0!"},{"$error":"#DIV/0!"},{"$error":"#DIV/0!"},{"$error":"#DIV/0!"},{"$f":"IF(A58=\"m\",VLOOKUP(K58,Berechnung_Male!$A$1:$D$42,W58,TRUE),VLOOKUP(Eingabeblatt!K58,Berechnung_Female!$A$1:$D$42,W58,TRUE))","v":{"$error":"#DIV/0!"}},{"$error":"#DIV/0!"},{"$error":"#DIV/0!"},{"$nulls":3},{"$error":"#DIV/0!"}]
[{"$nulls":8},{"v":0,"d":"0.0"},{"v":0,"d":"0.00"},{"$error":"#DIV/0!"},{"$error":"#DIV/0!"},{"$error":"#DIV/0!"},{"$error":"#DIV/0!"},{"$error":"#DIV/0!"},{"$error":"#DIV/0!"},{"$f":"IF(A59=\"m\",VLOOKUP(K59,Berechnung_Male!$A$1:$D$42,W59,TRUE),VLOOKUP(Eingabeblatt!K59,Berechnung_Female!$A$1:$D$42,W59,TRUE))","v":{"$error":"#DIV/0!"}},{"$error":"#DIV/0!"},{"$error":"#DIV/0!"},{"$nulls":3},{"$error":"#DIV/0!"}]
[{"$nulls":8},{"v":0,"d":"0.0"},{"v":0,"d":"0.00"},{"$error":"#DIV/0!"},{"$error":"#DIV/0!"},{"$error":"#DIV/0!"},{"$error":"#DIV/0!"},{"$error":"#DIV/0!"},{"$error":"#DIV/0!"},{"$f":"IF(A60=\"m\",VLOOKUP(K60,Berechnung_Male!$A$1:$D$42,W60,TRUE),VLOOKUP(Eingabeblatt!K60,Berechnung_Female!$A$1:$D$42,W60,TRUE))","v":{"$error":"#DIV/0!"}},{"$error":"#DIV/0!"},{"$error":"#DIV/0!"},{"$nulls":3},{"$error":"#DIV/0!"}]
[{"$nulls":8},{"v":0,"d":"0.0"},{"v":0,"d":"0.00"},{"$error":"#DIV/0!"},{"$error":"#DIV/0!"},{"$error":"#DIV/0!"},{"$error":"#DIV/0!"},{"$error":"#DIV/0!"},{"$error":"#DIV/0!"},{"$f":"IF(A61=\"m\",VLOOKUP(K61,Berechnung_Male!$A$1:$D$42,W61,TRUE),VLOOKUP(Eingabeblatt!K61,Berechnung_Female!$A$1:$D$42,W61,TRUE))","v":{"$error":"#DIV/0!"}},{"$error":"#DIV/0!"},{"$error":"#DIV/0!"},{"$nulls":3},{"$error":"#DIV/0!"}]
[{"$nulls":8},{"v":0,"d":"0.0"},{"v":0,"d":"0.00"},{"$error":"#DIV/0!"},{"$error":"#DIV/0!"},{"$error":"#DIV/0!"},{"$error":"#DIV/0!"},{"$error":"#DIV/0!"},{"$error":"#DIV/0!"},{"$f":"IF(A62=\"m\",VLOOKUP(K62,Berechnung_Male!$A$1:$D$42,W62,TRUE),VLOOKUP(Eingabeblatt!K62,Berechnung_Female!$A$1:$D$42,W62,TRUE))","v":{"$error":"#DIV/0!"}},{"$error":"#DIV/0!"},{"$error":"#DIV/0!"},{"$nulls":3},{"$error":"#DIV/0!"}]
[{"$nulls":8},{"v":0,"d":"0.0"},{"v":0,"d":"0.00"},{"$error":"#DIV/0!"},{"$error":"#DIV/0!"},{"$error":"#DIV/0!"},{"$error":"#DIV/0!"},{"$error":"#DIV/0!"},{"$error":"#DIV/0!"},{"$f":"IF(A63=\"m\",VLOOKUP(K63,Berechnung_Male!$A$1:$D$42,W63,TRUE),VLOOKUP(Eingabeblatt!K63,Berechnung_Female!$A$1:$D$42,W63,TRUE))","v":{"$error":"#DIV/0!"}},{"$error":"#DIV/0!"},{"$error":"#DIV/0!"},{"$nulls":3},{"$error":"#DIV/0!"}]
[{"$nulls":8},{"v":0,"d":"0.0"},{"v":0,"d":"0.00"},{"$error":"#DIV/0!"},{"$error":"#DIV/0!"},{"$error":"#DIV/0!"},{"$error":"#DIV/0!"},{"$error":"#DIV/0!"},{"$error":"#DIV/0!"},{"$f":"IF(A64=\"m\",VLOOKUP(K64,Berechnung_Male!$A$1:$D$42,W64,TRUE),VLOOKUP(Eingabeblatt!K64,Berechnung_Female!$A$1:$D$42,W64,TRUE))","v":{"$error":"#DIV/0!"}},{"$error":"#DIV/0!"},{"$error":"#DIV/0!"},{"$nulls":3},{"$error":"#DIV/0!"}]
[{"$nulls":8},{"v":0,"d":"0.0"},{"v":0,"d":"0.00"},{"$error":"#DIV/0!"},{"$error":"#DIV/0!"},{"$error":"#DIV/0!"},{"$error":"#DIV/0!"},{"$error":"#DIV/0!"},{"$error":"#DIV/0!"},{"$f":"IF(A65=\"m\",VLOOKUP(K65,Berechnung_Male!$A$1:$D$42,W65,TRUE),VLOOKUP(Eingabeblatt!K65,Berechnung_Female!$A$1:$D$42,W65,TRUE))","v":{"$error":"#DIV/0!"}},{"$error":"#DIV/0!"},{"$error":"#DIV/0!"},{"$nulls":3},{"$error":"#DIV/0!"}]
[{"$nulls":8},{"v":0,"d":"0.0"},{"v":0,"d":"0.00"},{"$error":"#DIV/0!"},{"$error":"#DIV/0!"},{"$error":"#DIV/0!"},{"$error":"#DIV/0!"},{"$error":"#DIV/0!"},{"$error":"#DIV/0!"},{"$f":"IF(A66=\"m\",VLOOKUP(K66,Berechnung_Male!$A$1:$D$42,W66,TRUE),VLOOKUP(Eingabeblatt!K66,Berechnung_Female!$A$1:$D$42,W66,TRUE))","v":{"$error":"#DIV/0!"}},{"$error":"#DIV/0!"},{"$error":"#DIV/0!"},{"$nulls":3},{"$error":"#DIV/0!"}]
[{"$nulls":8},{"v":0,"d":"0.0"},{"v":0,"d":"0.00"},{"$error":"#DIV/0!"},{"$error":"#DIV/0!"},{"$error":"#DIV/0!"},{"$error":"#DIV/0!"},{"$error":"#DIV/0!"},{"$error":"#DIV/0!"},{"$f":"IF(A67=\"m\",VLOOKUP(K67,Berechnung_Male!$A$1:$D$42,W67,TRUE),VLOOKUP(Eingabeblatt!K67,Berechnung_Female!$A$1:$D$42,W67,TRUE))","v":{"$error":"#DIV/0!"}},{"$error":"#DIV/0!"},{"$error":"#DIV/0!"},{"$nulls":3},{"$error":"#DIV/0!"}]
[{"$nulls":8},{"v":0,"d":"0.0"},{"v":0,"d":"0.00"},{"$error":"#DIV/0!"},{"$error":"#DIV/0!"},{"$error":"#DIV/0!"},{"$error":"#DIV/0!"},{"$error":"#DIV/0!"},{"$error":"#DIV/0!"},{"$f":"IF(A68=\"m\",VLOOKUP(K68,Berechnung_Male!$A$1:$D$42,W68,TRUE),VLOOKUP(Eingabeblatt!K68,Berechnung_Female!$A$1:$D$42,W68,TRUE))","v":{"$error":"#DIV/0!"}},{"$error":"#DIV/0!"},{"$error":"#DIV/0!"},{"$nulls":3},{"$error":"#DIV/0!"}]
[{"$nulls":8},{"v":0,"d":"0.0"},{"v":0,"d":"0.00"},{"$error":"#DIV/0!"},{"$error":"#DIV/0!"},{"$error":"#DIV/0!"},{"$error":"#DIV/0!"},{"$error":"#DIV/0!"},{"$error":"#DIV/0!"},{"$f":"IF(A69=\"m\",VLOOKUP(K69,Berechnung_Male!$A$1:$D$42,W69,TRUE),VLOOKUP(Eingabeblatt!K69,Berechnung_Female!$A$1:$D$42,W69,TRUE))","v":{"$error":"#DIV/0!"}},{"$error":"#DIV/0!"},{"$error":"#DIV/0!"},{"$nulls":3},{"$error":"#DIV/0!"}]
[{"$nulls":8},{"$f":"G70-H70","v":{"v":0,"d":"0.0"}},{"$f":"(B70-E70)/365.25","v":{"v":0,"d":"0.00"}},{"$f":"IF(A70=\"m\",(-9.236+(0.0002708*I70*H70)+(-0.001663*J70*I70)+(0.007216*J70*H70)+(0.02292*F70/G70*100)),(-9.376+(0.0001882*I70*H70)+(0.0022*J70*I70)+(0.005841*J70*H70)-(0.002658*J70*F70)+(0.07693*(F70/G70)*100)))","v":{"$error":"#DIV/0!"}},{"$f":"J70-K70","v":{"$error":"#DIV/0!"}},{"$f":"IF(A70=\"m\",(IF(L70<12.8,1,IF(L70>14.8,3,2))),(IF(L70<11,1,IF(L70>13,3,2))))","v":{"$error":"#DIV/0!"}},{"$f":"IF(M70=1,\"Früh / précoce\",IF(M70=2,\"Durchschnittlich / Normal\",\"Spät / Tardif\"))","v":{"$error":"#DIV/0!"}},{"$f":"IF(A70=\"m\",(IF(L70<12.8,1,IF(L70<13.3,2,IF(L70>14.8,5,IF(L70>14.3,4,3))))),(IF(L70<11,1,IF(L70<11.5,2,IF(L70>13,5,IF(L70>12.5,4,3))))))","v":{"$error":"#DIV/0!"}},{"$f":"IF(O70=1,\"Früh / précoce\",IF(O70=2,\"Möglicherweise Früh / éventuellement précoce\", IF(O70=3,\"Durchschnittlich / Normal\",IF(O70=4,\"Möglicherweise spät / éventuellement tardif\",\"Spät / Tardif\"))))","v":{"$error":"#DIV/0!"}},{"$f":"IF(A70=\"m\",VLOOKUP(K70,Berechnung_Male!$A$1:$D$42,W70,TRUE),VLOOKUP(Eingabeblatt!K70,Berechnung_Female!$A$1:$D$42,W70,TRUE))","v":{"$error":"#DIV/0!"}},{"$f":"G70+Q70","v":{"$error":"#DIV/0!"}},{"$f":"G70/R70","v":{"$error":"#DIV/0!"}},{"$nulls":3},{"$f":"IF(A70=\"m\",IF(L70<12.8,2,IF(L70<14.8,3,4)),IF(L70<11,2,IF(L70<13,3,4)))","v":{"$error":"#DIV/0!"}}]
[{"$nulls":8},{"v":0,"d":"0.0"},{"v":0,"d":"0.00"},{"$error":"#DIV/0!"},{"$error":"#DIV/0!"},{"$error":"#DIV/0!"},{"$error":"#DIV/0!"},{"$error":"#DIV/0!"},{"$error":"#DIV/0!"},{"$f":"IF(A71=\"m\",VLOOKUP(K71,Berechnung_Male!$A$1:$D$42,W71,TRUE),VLOOKUP(Eingabeblatt!K71,Berechnung_Female!$A$1:$D$42,W71,TRUE))","v":{"$error":"#DIV/0!"}},{"$error":"#DIV/0!"},{"$error":"#DIV/0!"},{"$nulls":3},{"$error":"#DIV/0!"}]
[{"$nulls":8},{"v":0,"d":"0.0"},{"v":0,"d":"0.00"},{"$error":"#DIV/0!"},{"$error":"#DIV/0!"},{"$error":"#DIV/0!"},{"$error":"#DIV/0!"},{"$error":"#DIV/0!"},{"$error":"#DIV/0!"},{"$f":"IF(A72=\"m\",VLOOKUP(K72,Berechnung_Male!$A$1:$D$42,W72,TRUE),VLOOKUP(Eingabeblatt!K72,Berechnung_Female!$A$1:$D$42,W72,TRUE))","v":{"$error":"#DIV/0!"}},{"$error":"#DIV/0!"},{"$error":"#DIV/0!"},{"$nulls":3},{"$error":"#DIV/0!"}]
[{"$nulls":8},{"v":0,"d":"0.0"},{"v":0,"d":"0.00"},{"$error":"#DIV/0!"},{"$error":"#DIV/0!"},{"$error":"#DIV/0!"},{"$error":"#DIV/0!"},{"$error":"#DIV/0!"},{"$error":"#DIV/0!"},{"$f":"IF(A73=\"m\",VLOOKUP(K73,Berechnung_Male!$A$1:$D$42,W73,TRUE),VLOOKUP(Eingabeblatt!K73,Berechnung_Female!$A$1:$D$42,W73,TRUE))","v":{"$error":"#DIV/0!"}},{"$error":"#DIV/0!"},{"$error":"#DIV/0!"},{"$nulls":3},{"$error":"#DIV/0!"}]
[{"$nulls":8},{"v":0,"d":"0.0"},{"v":0,"d":"0.00"},{"$error":"#DIV/0!"},{"$error":"#DIV/0!"},{"$error":"#DIV/0!"},{"$error":"#DIV/0!"},{"$error":"#DIV/0!"},{"$error":"#DIV/0!"},{"$f":"IF(A74=\"m\",VLOOKUP(K74,Berechnung_Male!$A$1:$D$42,W74,TRUE),VLOOKUP(Eingabeblatt!K74,Berechnung_Female!$A$1:$D$42,W74,TRUE))","v":{"$error":"#DIV/0!"}},{"$error":"#DIV/0!"},{"$error":"#DIV/0!"},{"$nulls":3},{"$error":"#DIV/0!"}]
[{"$nulls":8},{"v":0,"d":"0.0"},{"v":0,"d":"0.00"},{"$error":"#DIV/0!"},{"$error":"#DIV/0!"},{"$error":"#DIV/0!"},{"$error":"#DIV/0!"},{"$error":"#DIV/0!"},{"$error":"#DIV/0!"},{"$f":"IF(A75=\"m\",VLOOKUP(K75,Berechnung_Male!$A$1:$D$42,W75,TRUE),VLOOKUP(Eingabeblatt!K75,Berechnung_Female!$A$1:$D$42,W75,TRUE))","v":{"$error":"#DIV/0!"}},{"$error":"#DIV/0!"},{"$error":"#DIV/0!"},{"$nulls":3},{"$error":"#DIV/0!"}]
[{"$nulls":8},{"v":0,"d":"0.0"},{"v":0,"d":"0.00"},{"$error":"#DIV/0!"},{"$error":"#DIV/0!"},{"$error":"#DIV/0!"},{"$error":"#DIV/0!"},{"$error":"#DIV/0!"},{"$error":"#DIV/0!"},{"$f":"IF(A76=\"m\",VLOOKUP(K76,Berechnung_Male!$A$1:$D$42,W76,TRUE),VLOOKUP(Eingabeblatt!K76,Berechnung_Female!$A$1:$D$42,W76,TRUE))","v":{"$error":"#DIV/0!"}},{"$error":"#DIV/0!"},{"$error":"#DIV/0!"},{"$nulls":3},{"$error":"#DIV/0!"}]
[{"$nulls":8},{"v":0,"d":"0.0"},{"v":0,"d":"0.00"},{"$error":"#DIV/0!"},{"$error":"#DIV/0!"},{"$error":"#DIV/0!"},{"$error":"#DIV/0!"},{"$error":"#DIV/0!"},{"$error":"#DIV/0!"},{"$f":"IF(A77=\"m\",VLOOKUP(K77,Berechnung_Male!$A$1:$D$42,W77,TRUE),VLOOKUP(Eingabeblatt!K77,Berechnung_Female!$A$1:$D$42,W77,TRUE))","v":{"$error":"#DIV/0!"}},{"$error":"#DIV/0!"},{"$error":"#DIV/0!"},{"$nulls":3},{"$error":"#DIV/0!"}]
[{"$nulls":8},{"v":0,"d":"0.0"},{"v":0,"d":"0.00"},{"$error":"#DIV/0!"},{"$error":"#DIV/0!"},{"$error":"#DIV/0!"},{"$error":"#DIV/0!"},{"$error":"#DIV/0!"},{"$error":"#DIV/0!"},{"$f":"IF(A78=\"m\",VLOOKUP(K78,Berechnung_Male!$A$1:$D$42,W78,TRUE),VLOOKUP(Eingabeblatt!K78,Berechnung_Female!$A$1:$D$42,W78,TRUE))","v":{"$error":"#DIV/0!"}},{"$error":"#DIV/0!"},{"$error":"#DIV/0!"},{"$nulls":3},{"$error":"#DIV/0!"}]
[{"$nulls":8},{"v":0,"d":"0.0"},{"v":0,"d":"0.00"},{"$error":"#DIV/0!"},{"$error":"#DIV/0!"},{"$error":"#DIV/0!"},{"$error":"#DIV/0!"},{"$error":"#DIV/0!"},{"$error":"#DIV/0!"},{"$f":"IF(A79=\"m\",VLOOKUP(K79,Berechnung_Male!$A$1:$D$42,W79,TRUE),VLOOKUP(Eingabeblatt!K79,Berechnung_Female!$A$1:$D$42,W79,TRUE))","v":{"$error":"#DIV/0!"}},{"$error":"#DIV/0!"},{"$error":"#DIV/0!"},{"$nulls":3},{"$error":"#DIV/0!"}]
[{"$nulls":8},{"v":0,"d":"0.0"},{"v":0,"d":"0.00"},{"$error":"#DIV/0!"},{"$error":"#DIV/0!"},{"$error":"#DIV/0!"},{"$error":"#DIV/0!"},{"$error":"#DIV/0!"},{"$error":"#DIV/0!"},{"$f":"IF(A80=\"m\",VLOOKUP(K80,Berechnung_Male!$A$1:$D$42,W80,TRUE),VLOOKUP(Eingabeblatt!K80,Berechnung_Female!$A$1:$D$42,W80,TRUE))","v":{"$error":"#DIV/0!"}},{"$error":"#DIV/0!"},{"$error":"#DIV/0!"},{"$nulls":3},{"$error":"#DIV/0!"}]
[{"$nulls":8},{"v":0,"d":"0.0"},{"v":0,"d":"0.00"},{"$error":"#DIV/0!"},{"$error":"#DIV/0!"},{"$error":"#DIV/0!"},{"$error":"#DIV/0!"},{"$error":"#DIV/0!"},{"$error":"#DIV/0!"},{"$f":"IF(A81=\"m\",VLOOKUP(K81,Berechnung_Male!$A$1:$D$42,W81,TRUE),VLOOKUP(Eingabeblatt!K81,Berechnung_Female!$A$1:$D$42,W81,TRUE))","v":{"$error":"#DIV/0!"}},{"$error":"#DIV/0!"},{"$error":"#DIV/0!"},{"$nulls":3},{"$error":"#DIV/0!"}]
[{"$nulls":8},{"v":0,"d":"0.0"},{"v":0,"d":"0.00"},{"$error":"#DIV/0!"},{"$error":"#DIV/0!"},{"$error":"#DIV/0!"},{"$error":"#DIV/0!"},{"$error":"#DIV/0!"},{"$error":"#DIV/0!"},{"$f":"IF(A82=\"m\",VLOOKUP(K82,Berechnung_Male!$A$1:$D$42,W82,TRUE),VLOOKUP(Eingabeblatt!K82,Berechnung_Female!$A$1:$D$42,W82,TRUE))","v":{"$error":"#DIV/0!"}},{"$error":"#DIV/0!"},{"$error":"#DIV/0!"},{"$nulls":3},{"$error":"#DIV/0!"}]
[{"$nulls":8},{"v":0,"d":"0.0"},{"v":0,"d":"0.00"},{"$error":"#DIV/0!"},{"$error":"#DIV/0!"},{"$error":"#DIV/0!"},{"$error":"#DIV/0!"},{"$error":"#DIV/0!"},{"$error":"#DIV/0!"},{"$f":"IF(A83=\"m\",VLOOKUP(K83,Berechnung_Male!$A$1:$D$42,W83,TRUE),VLOOKUP(Eingabeblatt!K83,Berechnung_Female!$A$1:$D$42,W83,TRUE))","v":{"$error":"#DIV/0!"}},{"$error":"#DIV/0!"},{"$error":"#DIV/0!"},{"$nulls":3},{"$error":"#DIV/0!"}]
[{"$nulls":8},{"v":0,"d":"0.0"},{"v":0,"d":"0.00"},{"$error":"#DIV/0!"},{"$error":"#DIV/0!"},{"$error":"#DIV/0!"},{"$error":"#DIV/0!"},{"$error":"#DIV/0!"},{"$error":"#DIV/0!"},{"$f":"IF(A84=\"m\",VLOOKUP(K84,Berechnung_Male!$A$1:$D$42,W84,TRUE),VLOOKUP(Eingabeblatt!K84,Berechnung_Female!$A$1:$D$42,W84,TRUE))","v":{"$error":"#DIV/0!"}},{"$error":"#DIV/0!"},{"$error":"#DIV/0!"},{"$nulls":3},{"$error":"#DIV/0!"}]
[{"$nulls":8},{"v":0,"d":"0.0"},{"v":0,"d":"0.00"},{"$error":"#DIV/0!"},{"$error":"#DIV/0!"},{"$error":"#DIV/0!"},{"$error":"#DIV/0!"},{"$error":"#DIV/0!"},{"$error":"#DIV/0!"},{"$f":"IF(A85=\"m\",VLOOKUP(K85,Berechnung_Male!$A$1:$D$42,W85,TRUE),VLOOKUP(Eingabeblatt!K85,Berechnung_Female!$A$1:$D$42,W85,TRUE))","v":{"$error":"#DIV/0!"}},{"$error":"#DIV/0!"},{"$error":"#DIV/0!"},{"$nulls":3},{"$error":"#DIV/0!"}]
[{"$nulls":8},{"v":0,"d":"0.0"},{"v":0,"d":"0.00"},{"$error":"#DIV/0!"},{"$error":"#DIV/0!"},{"$error":"#DIV/0!"},{"$error":"#DIV/0!"},{"$error":"#DIV/0!"},{"$error":"#DIV/0!"},{"$f":"IF(A86=\"m\",VLOOKUP(K86,Berechnung_Male!$A$1:$D$42,W86,TRUE),VLOOKUP(Eingabeblatt!K86,Berechnung_Female!$A$1:$D$42,W86,TRUE))","v":{"$error":"#DIV/0!"}},{"$error":"#DIV/0!"},{"$error":"#DIV/0!"},{"$nulls":3},{"$error":"#DIV/0!"}]
[{"$nulls":8},{"v":0,"d":"0.0"},{"v":0,"d":"0.00"},{"$error":"#DIV/0!"},{"$error":"#DIV/0!"},{"$error":"#DIV/0!"},{"$error":"#DIV/0!"},{"$error":"#DIV/0!"},{"$error":"#DIV/0!"},{"$f":"IF(A87=\"m\",VLOOKUP(K87,Berechnung_Male!$A$1:$D$42,W87,TRUE),VLOOKUP(Eingabeblatt!K87,Berechnung_Female!$A$1:$D$42,W87,TRUE))","v":{"$error":"#DIV/0!"}},{"$error":"#DIV/0!"},{"$error":"#DIV/0!"},{"$nulls":3},{"$error":"#DIV/0!"}]
[{"$nulls":8},{"v":0,"d":"0.0"},{"v":0,"d":"0.00"},{"$error":"#DIV/0!"},{"$error":"#DIV/0!"},{"$error":"#DIV/0!"},{"$error":"#DIV/0!"},{"$error":"#DIV/0!"},{"$error":"#DIV/0!"},{"$f":"IF(A88=\"m\",VLOOKUP(K88,Berechnung_Male!$A$1:$D$42,W88,TRUE),VLOOKUP(Eingabeblatt!K88,Berechnung_Female!$A$1:$D$42,W88,TRUE))","v":{"$error":"#DIV/0!"}},{"$error":"#DIV/0!"},{"$error":"#DIV/0!"},{"$nulls":3},{"$error":"#DIV/0!"}]
[{"$nulls":8},{"v":0,"d":"0.0"},{"v":0,"d":"0.00"},{"$error":"#DIV/0!"},{"$error":"#DIV/0!"},{"$error":"#DIV/0!"},{"$error":"#DIV/0!"},{"$error":"#DIV/0!"},{"$error":"#DIV/0!"},{"$f":"IF(A89=\"m\",VLOOKUP(K89,Berechnung_Male!$A$1:$D$42,W89,TRUE),VLOOKUP(Eingabeblatt!K89,Berechnung_Female!$A$1:$D$42,W89,TRUE))","v":{"$error":"#DIV/0!"}},{"$error":"#DIV/0!"},{"$error":"#DIV/0!"},{"$nulls":3},{"$error":"#DIV/0!"}]
[{"$nulls":8},{"v":0,"d":"0.0"},{"v":0,"d":"0.00"},{"$error":"#DIV/0!"},{"$error":"#DIV/0!"},{"$error":"#DIV/0!"},{"$error":"#DIV/0!"},{"$error":"#DIV/0!"},{"$error":"#DIV/0!"},{"$f":"IF(A90=\"m\",VLOOKUP(K90,Berechnung_Male!$A$1:$D$42,W90,TRUE),VLOOKUP(Eingabeblatt!K90,Berechnung_Female!$A$1:$D$42,W90,TRUE))","v":{"$error":"#DIV/0!"}},{"$error":"#DIV/0!"},{"$error":"#DIV/0!"},{"$nulls":3},{"$error":"#DIV/0!"}]
[{"$nulls":8},{"v":0,"d":"0.0"},{"v":0,"d":"0.00"},{"$error":"#DIV/0!"},{"$error":"#DIV/0!"},{"$error":"#DIV/0!"},{"$error":"#DIV/0!"},{"$error":"#DIV/0!"},{"$error":"#DIV/0!"},{"$f":"IF(A91=\"m\",VLOOKUP(K91,Berechnung_Male!$A$1:$D$42,W91,TRUE),VLOOKUP(Eingabeblatt!K91,Berechnung_Female!$A$1:$D$42,W91,TRUE))","v":{"$error":"#DIV/0!"}},{"$error":"#DIV/0!"},{"$error":"#DIV/0!"},{"$nulls":3},{"$error":"#DIV/0!"}]
[{"$nulls":8},{"v":0,"d":"0.0"},{"v":0,"d":"0.00"},{"$error":"#DIV/0!"},{"$error":"#DIV/0!"},{"$error":"#DIV/0!"},{"$error":"#DIV/0!"},{"$error":"#DIV/0!"},{"$error":"#DIV/0!"},{"$f":"IF(A92=\"m\",VLOOKUP(K92,Berechnung_Male!$A$1:$D$42,W92,TRUE),VLOOKUP(Eingabeblatt!K92,Berechnung_Female!$A$1:$D$42,W92,TRUE))","v":{"$error":"#DIV/0!"}},{"$error":"#DIV/0!"},{"$error":"#DIV/0!"},{"$nulls":3},{"$error":"#DIV/0!"}]
[{"$nulls":8},{"v":0,"d":"0.0"},{"v":0,"d":"0.00"},{"$error":"#DIV/0!"},{"$error":"#DIV/0!"},{"$error":"#DIV/0!"},{"$error":"#DIV/0!"},{"$error":"#DIV/0!"},{"$error":"#DIV/0!"},{"$f":"IF(A93=\"m\",VLOOKUP(K93,Berechnung_Male!$A$1:$D$42,W93,TRUE),VLOOKUP(Eingabeblatt!K93,Berechnung_Female!$A$1:$D$42,W93,TRUE))","v":{"$error":"#DIV/0!"}},{"$error":"#DIV/0!"},{"$error":"#DIV/0!"},{"$nulls":3},{"$error":"#DIV/0!"}]
[{"$nulls":8},{"v":0,"d":"0.0"},{"v":0,"d":"0.00"},{"$error":"#DIV/0!"},{"$error":"#DIV/0!"},{"$error":"#DIV/0!"},{"$error":"#DIV/0!"},{"$error":"#DIV/0!"},{"$error":"#DIV/0!"},{"$f":"IF(A94=\"m\",VLOOKUP(K94,Berechnung_Male!$A$1:$D$42,W94,TRUE),VLOOKUP(Eingabeblatt!K94,Berechnung_Female!$A$1:$D$42,W94,TRUE))","v":{"$error":"#DIV/0!"}},{"$error":"#DIV/0!"},{"$error":"#DIV/0!"},{"$nulls":3},{"$error":"#DIV/0!"}]
[{"$nulls":8},{"v":0,"d":"0.0"},{"v":0,"d":"0.00"},{"$error":"#DIV/0!"},{"$error":"#DIV/0!"},{"$error":"#DIV/0!"},{"$error":"#DIV/0!"},{"$error":"#DIV/0!"},{"$error":"#DIV/0!"},{"$f":"IF(A95=\"m\",VLOOKUP(K95,Berechnung_Male!$A$1:$D$42,W95,TRUE),VLOOKUP(Eingabeblatt!K95,Berechnung_Female!$A$1:$D$42,W95,TRUE))","v":{"$error":"#DIV/0!"}},{"$error":"#DIV/0!"},{"$error":"#DIV/0!"},{"$nulls":3},{"$error":"#DIV/0!"}]
[{"$nulls":8},{"v":0,"d":"0.0"},{"v":0,"d":"0.00"},{"$error":"#DIV/0!"},{"$error":"#DIV/0!"},{"$error":"#DIV/0!"},{"$error":"#DIV/0!"},{"$error":"#DIV/0!"},{"$error":"#DIV/0!"},{"$f":"IF(A96=\"m\",VLOOKUP(K96,Berechnung_Male!$A$1:$D$42,W96,TRUE),VLOOKUP(Eingabeblatt!K96,Berechnung_Female!$A$1:$D$42,W96,TRUE))","v":{"$error":"#DIV/0!"}},{"$error":"#DIV/0!"},{"$error":"#DIV/0!"},{"$nulls":3},{"$error":"#DIV/0!"}]
[{"$nulls":8},{"v":0,"d":"0.0"},{"v":0,"d":"0.00"},{"$error":"#DIV/0!"},{"$error":"#DIV/0!"},{"$error":"#DIV/0!"},{"$error":"#DIV/0!"},{"$error":"#DIV/0!"},{"$error":"#DIV/0!"},{"$f":"IF(A97=\"m\",VLOOKUP(K97,Berechnung_Male!$A$1:$D$42,W97,TRUE),VLOOKUP(Eingabeblatt!K97,Berechnung_Female!$A$1:$D$42,W97,TRUE))","v":{"$error":"#DIV/0!"}},{"$error":"#DIV/0!"},{"$error":"#DIV/0!"},{"$nulls":3},{"$error":"#DIV/0!"}]
[{"$nulls":8},{"v":0,"d":"0.0"},{"v":0,"d":"0.00"},{"$error":"#DIV/0!"},{"$error":"#DIV/0!"},{"$error":"#DIV/0!"},{"$error":"#DIV/0!"},{"$error":"#DIV/0!"},{"$error":"#DIV/0!"},{"$f":"IF(A98=\"m\",VLOOKUP(K98,Berechnung_Male!$A$1:$D$42,W98,TRUE),VLOOKUP(Eingabeblatt!K98,Berechnung_Female!$A$1:$D$42,W98,TRUE))","v":{"$error":"#DIV/0!"}},{"$error":"#DIV/0!"},{"$error":"#DIV/0!"},{"$nulls":3},{"$error":"#DIV/0!"}]
[{"$nulls":8},{"v":0,"d":"0.0"},{"v":0,"d":"0.00"},{"$error":"#DIV/0!"},{"$error":"#DIV/0!"},{"$error":"#DIV/0!"},{"$error":"#DIV/0!"},{"$error":"#DIV/0!"},{"$error":"#DIV/0!"},{"$f":"IF(A99=\"m\",VLOOKUP(K99,Berechnung_Male!$A$1:$D$42,W99,TRUE),VLOOKUP(Eingabeblatt!K99,Berechnung_Female!$A$1:$D$42,W99,TRUE))","v":{"$error":"#DIV/0!"}},{"$error":"#DIV/0!"},{"$error":"#DIV/0!"},{"$nulls":3},{"$error":"#DIV/0!"}]
[{"$nulls":8},{"v":0,"d":"0.0"},{"v":0,"d":"0.00"},{"$error":"#DIV/0!"},{"$error":"#DIV/0!"},{"$error":"#DIV/0!"},{"$error":"#DIV/0!"},{"$error":"#DIV/0!"},{"$error":"#DIV/0!"},{"$f":"IF(A100=\"m\",VLOOKUP(K100,Berechnung_Male!$A$1:$D$42,W100,TRUE),VLOOKUP(Eingabeblatt!K100,Berechnung_Female!$A$1:$D$42,W100,TRUE))","v":{"$error":"#DIV/0!"}},{"$error":"#DIV/0!"},{"$error":"#DIV/0!"},{"$nulls":3},{"$error":"#DIV/0!"}]
[{"$nulls":8},{"v":0,"d":"0.0"},{"v":0,"d":"0.00"},{"$error":"#DIV/0!"},{"$error":"#DIV/0!"},{"$error":"#DIV/0!"},{"$error":"#DIV/0!"},{"$error":"#DIV/0!"},{"$error":"#DIV/0!"},{"$f":"IF(A101=\"m\",VLOOKUP(K101,Berechnung_Male!$A$1:$D$42,W101,TRUE),VLOOKUP(Eingabeblatt!K101,Berechnung_Female!$A$1:$D$42,W101,TRUE))","v":{"$error":"#DIV/0!"}},{"$error":"#DIV/0!"},{"$error":"#DIV/0!"},{"$nulls":3},{"$error":"#DIV/0!"}]
[{"$nulls":8},{"v":0,"d":"0.0"},{"v":0,"d":"0.00"},{"$error":"#DIV/0!"},{"$error":"#DIV/0!"},{"$error":"#DIV/0!"},{"$error":"#DIV/0!"},{"$error":"#DIV/0!"},{"$error":"#DIV/0!"},{"$f":"IF(A102=\"m\",VLOOKUP(K102,Berechnung_Male!$A$1:$D$42,W102,TRUE),VLOOKUP(Eingabeblatt!K102,Berechnung_Female!$A$1:$D$42,W102,TRUE))","v":{"$error":"#DIV/0!"}},{"$error":"#DIV/0!"},{"$error":"#DIV/0!"},{"$nulls":3},{"$error":"#DIV/0!"}]
[{"$nulls":8},{"v":0,"d":"0.0"},{"v":0,"d":"0.00"},{"$error":"#DIV/0!"},{"$error":"#DIV/0!"},{"$error":"#DIV/0!"},{"$error":"#DIV/0!"},{"$error":"#DIV/0!"},{"$error":"#DIV/0!"},{"$f":"IF(A103=\"m\",VLOOKUP(K103,Berechnung_Male!$A$1:$D$42,W103,TRUE),VLOOKUP(Eingabeblatt!K103,Berechnung_Female!$A$1:$D$42,W103,TRUE))","v":{"$error":"#DIV/0!"}},{"$error":"#DIV/0!"},{"$error":"#DIV/0!"},{"$nulls":3},{"$error":"#DIV/0!"}]
[{"$nulls":8},{"v":0,"d":"0.0"},{"v":0,"d":"0.00"},{"$error":"#DIV/0!"},{"$error":"#DIV/0!"},{"$error":"#DIV/0!"},{"$error":"#DIV/0!"},{"$error":"#DIV/0!"},{"$error":"#DIV/0!"},{"$f":"IF(A104=\"m\",VLOOKUP(K104,Berechnung_Male!$A$1:$D$42,W104,TRUE),VLOOKUP(Eingabeblatt!K104,Berechnung_Female!$A$1:$D$42,W104,TRUE))","v":{"$error":"#DIV/0!"}},{"$error":"#DIV/0!"},{"$error":"#DIV/0!"},{"$nulls":3},{"$error":"#DIV/0!"}]
[{"$nulls":8},{"v":0,"d":"0.0"},{"v":0,"d":"0.00"},{"$error":"#DIV/0!"},{"$error":"#DIV/0!"},{"$error":"#DIV/0!"},{"$error":"#DIV/0!"},{"$error":"#DIV/0!"},{"$error":"#DIV/0!"},{"$f":"IF(A105=\"m\",VLOOKUP(K105,Berechnung_Male!$A$1:$D$42,W105,TRUE),VLOOKUP(Eingabeblatt!K105,Berechnung_Female!$A$1:$D$42,W105,TRUE))","v":{"$error":"#DIV/0!"}},{"$error":"#DIV/0!"},{"$error":"#DIV/0!"},{"$nulls":3},{"$error":"#DIV/0!"}]
[{"$nulls":8},{"v":0,"d":"0.0"},{"v":0,"d":"0.00"},{"$error":"#DIV/0!"},{"$error":"#DIV/0!"},{"$error":"#DIV/0!"},{"$error":"#DIV/0!"},{"$error":"#DIV/0!"},{"$error":"#DIV/0!"},{"$f":"IF(A106=\"m\",VLOOKUP(K106,Berechnung_Male!$A$1:$D$42,W106,TRUE),VLOOKUP(Eingabeblatt!K106,Berechnung_Female!$A$1:$D$42,W106,TRUE))","v":{"$error":"#DIV/0!"}},{"$error":"#DIV/0!"},{"$error":"#DIV/0!"},{"$nulls":3},{"$error":"#DIV/0!"}]
[{"$nulls":8},{"v":0,"d":"0.0"},{"v":0,"d":"0.00"},{"$error":"#DIV/0!"},{"$error":"#DIV/0!"},{"$error":"#DIV/0!"},{"$error":"#DIV/0!"},{"$error":"#DIV/0!"},{"$error":"#DIV/0!"},{"$f":"IF(A107=\"m\",VLOOKUP(K107,Berechnung_Male!$A$1:$D$42,W107,TRUE),VLOOKUP(Eingabeblatt!K107,Berechnung_Female!$A$1:$D$42,W107,TRUE))","v":{"$error":"#DIV/0!"}},{"$error":"#DIV/0!"},{"$error":"#DIV/0!"},{"$nulls":3},{"$error":"#DIV/0!"}]
[{"$nulls":8},{"v":0,"d":"0.0"},{"v":0,"d":"0.00"},{"$error":"#DIV/0!"},{"$error":"#DIV/0!"},{"$error":"#DIV/0!"},{"$error":"#DIV/0!"},{"$error":"#DIV/0!"},{"$error":"#DIV/0!"},{"$f":"IF(A108=\"m\",VLOOKUP(K108,Berechnung_Male!$A$1:$D$42,W108,TRUE),VLOOKUP(Eingabeblatt!K108,Berechnung_Female!$A$1:$D$42,W108,TRUE))","v":{"$error":"#DIV/0!"}},{"$error":"#DIV/0!"},{"$error":"#DIV/0!"},{"$nulls":3},{"$error":"#DIV/0!"}]
[{"$nulls":8},{"v":0,"d":"0.0"},{"v":0,"d":"0.00"},{"$error":"#DIV/0!"},{"$error":"#DIV/0!"},{"$error":"#DIV/0!"},{"$error":"#DIV/0!"},{"$error":"#DIV/0!"},{"$error":"#DIV/0!"},{"$f":"IF(A109=\"m\",VLOOKUP(K109,Berechnung_Male!$A$1:$D$42,W109,TRUE),VLOOKUP(Eingabeblatt!K109,Berechnung_Female!$A$1:$D$42,W109,TRUE))","v":{"$error":"#DIV/0!"}},{"$error":"#DIV/0!"},{"$error":"#DIV/0!"},{"$nulls":3},{"$error":"#DIV/0!"}]
[{"$nulls":8},{"v":0,"d":"0.0"},{"v":0,"d":"0.00"},{"$error":"#DIV/0!"},{"$error":"#DIV/0!"},{"$error":"#DIV/0!"},{"$error":"#DIV/0!"},{"$error":"#DIV/0!"},{"$error":"#DIV/0!"},{"$f":"IF(A110=\"m\",VLOOKUP(K110,Berechnung_Male!$A$1:$D$42,W110,TRUE),VLOOKUP(Eingabeblatt!K110,Berechnung_Female!$A$1:$D$42,W110,TRUE))","v":{"$error":"#DIV/0!"}},{"$error":"#DIV/0!"},{"$error":"#DIV/0!"},{"$nulls":3},{"$error":"#DIV/0!"}]
[{"$nulls":8},{"v":0,"d":"0.0"},{"v":0,"d":"0.00"},{"$error":"#DIV/0!"},{"$error":"#DIV/0!"},{"$error":"#DIV/0!"},{"$error":"#DIV/0!"},{"$error":"#DIV/0!"},{"$error":"#DIV/0!"},{"$f":"IF(A111=\"m\",VLOOKUP(K111,Berechnung_Male!$A$1:$D$42,W111,TRUE),VLOOKUP(Eingabeblatt!K111,Berechnung_Female!$A$1:$D$42,W111,TRUE))","v":{"$error":"#DIV/0!"}},{"$error":"#DIV/0!"},{"$error":"#DIV/0!"},{"$nulls":3},{"$error":"#DIV/0!"}]
[{"$nulls":8},{"v":0,"d":"0.0"},{"v":0,"d":"0.00"},{"$error":"#DIV/0!"},{"$error":"#DIV/0!"},{"$error":"#DIV/0!"},{"$error":"#DIV/0!"},{"$error":"#DIV/0!"},{"$error":"#DIV/0!"},{"$f":"IF(A112=\"m\",VLOOKUP(K112,Berechnung_Male!$A$1:$D$42,W112,TRUE),VLOOKUP(Eingabeblatt!K112,Berechnung_Female!$A$1:$D$42,W112,TRUE))","v":{"$error":"#DIV/0!"}},{"$error":"#DIV/0!"},{"$error":"#DIV/0!"},{"$nulls":3},{"$error":"#DIV/0!"}]
[{"$nulls":8},{"v":0,"d":"0.0"},{"v":0,"d":"0.00"},{"$error":"#DIV/0!"},{"$error":"#DIV/0!"},{"$error":"#DIV/0!"},{"$error":"#DIV/0!"},{"$error":"#DIV/0!"},{"$error":"#DIV/0!"},{"$f":"IF(A113=\"m\",VLOOKUP(K113,Berechnung_Male!$A$1:$D$42,W113,TRUE),VLOOKUP(Eingabeblatt!K113,Berechnung_Female!$A$1:$D$42,W113,TRUE))","v":{"$error":"#DIV/0!"}},{"$error":"#DIV/0!"},{"$error":"#DIV/0!"},{"$nulls":3},{"$error":"#DIV/0!"}]
[{"$nulls":8},{"v":0,"d":"0.0"},{"v":0,"d":"0.00"},{"$error":"#DIV/0!"},{"$error":"#DIV/0!"},{"$error":"#DIV/0!"},{"$error":"#DIV/0!"},{"$error":"#DIV/0!"},{"$error":"#DIV/0!"},{"$f":"IF(A114=\"m\",VLOOKUP(K114,Berechnung_Male!$A$1:$D$42,W114,TRUE),VLOOKUP(Eingabeblatt!K114,Berechnung_Female!$A$1:$D$42,W114,TRUE))","v":{"$error":"#DIV/0!"}},{"$error":"#DIV/0!"},{"$error":"#DIV/0!"},{"$nulls":3},{"$error":"#DIV/0!"}]
[{"$nulls":8},{"v":0,"d":"0.0"},{"v":0,"d":"0.00"},{"$error":"#DIV/0!"},{"$error":"#DIV/0!"},{"$error":"#DIV/0!"},{"$error":"#DIV/0!"},{"$error":"#DIV/0!"},{"$error":"#DIV/0!"},{"$f":"IF(A115=\"m\",VLOOKUP(K115,Berechnung_Male!$A$1:$D$42,W115,TRUE),VLOOKUP(Eingabeblatt!K115,Berechnung_Female!$A$1:$D$42,W115,TRUE))","v":{"$error":"#DIV/0!"}},{"$error":"#DIV/0!"},{"$error":"#DIV/0!"},{"$nulls":3},{"$error":"#DIV/0!"}]
[{"$nulls":8},{"v":0,"d":"0.0"},{"v":0,"d":"0.00"},{"$error":"#DIV/0!"},{"$error":"#DIV/0!"},{"$error":"#DIV/0!"},{"$error":"#DIV/0!"},{"$error":"#DIV/0!"},{"$error":"#DIV/0!"},{"$f":"IF(A116=\"m\",VLOOKUP(K116,Berechnung_Male!$A$1:$D$42,W116,TRUE),VLOOKUP(Eingabeblatt!K116,Berechnung_Female!$A$1:$D$42,W116,TRUE))","v":{"$error":"#DIV/0!"}},{"$error":"#DIV/0!"},{"$error":"#DIV/0!"},{"$nulls":3},{"$error":"#DIV/0!"}]
[{"$nulls":8},{"v":0,"d":"0.0"},{"v":0,"d":"0.00"},{"$error":"#DIV/0!"},{"$error":"#DIV/0!"},{"$error":"#DIV/0!"},{"$error":"#DIV/0!"},{"$error":"#DIV/0!"},{"$error":"#DIV/0!"},{"$f":"IF(A117=\"m\",VLOOKUP(K117,Berechnung_Male!$A$1:$D$42,W117,TRUE),VLOOKUP(Eingabeblatt!K117,Berechnung_Female!$A$1:$D$42,W117,TRUE))","v":{"$error":"#DIV/0!"}},{"$error":"#DIV/0!"},{"$error":"#DIV/0!"},{"$nulls":3},{"$error":"#DIV/0!"}]
[{"$nulls":8},{"v":0,"d":"0.0"},{"v":0,"d":"0.00"},{"$error":"#DIV/0!"},{"$error":"#DIV/0!"},{"$error":"#DIV/0!"},{"$error":"#DIV/0!"},{"$error":"#DIV/0!"},{"$error":"#DIV/0!"},{"$f":"IF(A118=\"m\",VLOOKUP(K118,Berechnung_Male!$A$1:$D$42,W118,TRUE),VLOOKUP(Eingabeblatt!K118,Berechnung_Female!$A$1:$D$42,W118,TRUE))","v":{"$error":"#DIV/0!"}},{"$error":"#DIV/0!"},{"$error":"#DIV/0!"},{"$nulls":3},{"$error":"#DIV/0!"}]
[{"$nulls":8},{"v":0,"d":"0.0"},{"v":0,"d":"0.00"},{"$error":"#DIV/0!"},{"$error":"#DIV/0!"},{"$error":"#DIV/0!"},{"$error":"#DIV/0!"},{"$error":"#DIV/0!"},{"$error":"#DIV/0!"},{"$f":"IF(A119=\"m\",VLOOKUP(K119,Berechnung_Male!$A$1:$D$42,W119,TRUE),VLOOKUP(Eingabeblatt!K119,Berechnung_Female!$A$1:$D$42,W119,TRUE))","v":{"$error":"#DIV/0!"}},{"$error":"#DIV/0!"},{"$error":"#DIV/0!"},{"$nulls":3},{"$error":"#DIV/0!"}]
[{"$nulls":8},{"v":0,"d":"0.0"},{"v":0,"d":"0.00"},{"$error":"#DIV/0!"},{"$error":"#DIV/0!"},{"$error":"#DIV/0!"},{"$error":"#DIV/0!"},{"$error":"#DIV/0!"},{"$error":"#DIV/0!"},{"$f":"IF(A120=\"m\",VLOOKUP(K120,Berechnung_Male!$A$1:$D$42,W120,TRUE),VLOOKUP(Eingabeblatt!K120,Berechnung_Female!$A$1:$D$42,W120,TRUE))","v":{"$error":"#DIV/0!"}},{"$error":"#DIV/0!"},{"$error":"#DIV/0!"},{"$nulls":3},{"$error":"#DIV/0!"}]
[{"$nulls":8},{"v":0,"d":"0.0"},{"v":0,"d":"0.00"},{"$error":"#DIV/0!"},{"$error":"#DIV/0!"},{"$error":"#DIV/0!"},{"$error":"#DIV/0!"},{"$error":"#DIV/0!"},{"$error":"#DIV/0!"},{"$f":"IF(A121=\"m\",VLOOKUP(K121,Berechnung_Male!$A$1:$D$42,W121,TRUE),VLOOKUP(Eingabeblatt!K121,Berechnung_Female!$A$1:$D$42,W121,TRUE))","v":{"$error":"#DIV/0!"}},{"$error":"#DIV/0!"},{"$error":"#DIV/0!"},{"$nulls":3},{"$error":"#DIV/0!"}]
[{"$nulls":8},{"v":0,"d":"0.0"},{"v":0,"d":"0.00"},{"$error":"#DIV/0!"},{"$error":"#DIV/0!"},{"$error":"#DIV/0!"},{"$error":"#DIV/0!"},{"$error":"#DIV/0!"},{"$error":"#DIV/0!"},{"$f":"IF(A122=\"m\",VLOOKUP(K122,Berechnung_Male!$A$1:$D$42,W122,TRUE),VLOOKUP(Eingabeblatt!K122,Berechnung_Female!$A$1:$D$42,W122,TRUE))","v":{"$error":"#DIV/0!"}},{"$error":"#DIV/0!"},{"$error":"#DIV/0!"},{"$nulls":3},{"$error":"#DIV/0!"}]
[{"$nulls":8},{"v":0,"d":"0.0"},{"v":0,"d":"0.00"},{"$error":"#DIV/0!"},{"$error":"#DIV/0!"},{"$error":"#DIV/0!"},{"$error":"#DIV/0!"},{"$error":"#DIV/0!"},{"$error":"#DIV/0!"},{"$f":"IF(A123=\"m\",VLOOKUP(K123,Berechnung_Male!$A$1:$D$42,W123,TRUE),VLOOKUP(Eingabeblatt!K123,Berechnung_Female!$A$1:$D$42,W123,TRUE))","v":{"$error":"#DIV/0!"}},{"$error":"#DIV/0!"},{"$error":"#DIV/0!"},{"$nulls":3},{"$error":"#DIV/0!"}]
[{"$nulls":8},{"v":0,"d":"0.0"},{"v":0,"d":"0.00"},{"$error":"#DIV/0!"},{"$error":"#DIV/0!"},{"$error":"#DIV/0!"},{"$error":"#DIV/0!"},{"$error":"#DIV/0!"},{"$error":"#DIV/0!"},{"$f":"IF(A124=\"m\",VLOOKUP(K124,Berechnung_Male!$A$1:$D$42,W124,TRUE),VLOOKUP(Eingabeblatt!K124,Berechnung_Female!$A$1:$D$42,W124,TRUE))","v":{"$error":"#DIV/0!"}},{"$error":"#DIV/0!"},{"$error":"#DIV/0!"},{"$nulls":3},{"$error":"#DIV/0!"}]
[{"$nulls":8},{"v":0,"d":"0.0"},{"v":0,"d":"0.00"},{"$error":"#DIV/0!"},{"$error":"#DIV/0!"},{"$error":"#DIV/0!"},{"$error":"#DIV/0!"},{"$error":"#DIV/0!"},{"$error":"#DIV/0!"},{"$f":"IF(A125=\"m\",VLOOKUP(K125,Berechnung_Male!$A$1:$D$42,W125,TRUE),VLOOKUP(Eingabeblatt!K125,Berechnung_Female!$A$1:$D$42,W125,TRUE))","v":{"$error":"#DIV/0!"}},{"$error":"#DIV/0!"},{"$error":"#DIV/0!"},{"$nulls":3},{"$error":"#DIV/0!"}]
[{"$nulls":8},{"v":0,"d":"0.0"},{"v":0,"d":"0.00"},{"$error":"#DIV/0!"},{"$error":"#DIV/0!"},{"$error":"#DIV/0!"},{"$error":"#DIV/0!"},{"$error":"#DIV/0!"},{"$error":"#DIV/0!"},{"$f":"IF(A126=\"m\",VLOOKUP(K126,Berechnung_Male!$A$1:$D$42,W126,TRUE),VLOOKUP(Eingabeblatt!K126,Berechnung_Female!$A$1:$D$42,W126,TRUE))","v":{"$error":"#DIV/0!"}},{"$error":"#DIV/0!"},{"$error":"#DIV/0!"},{"$nulls":3},{"$error":"#DIV/0!"}]
[{"$nulls":8},{"v":0,"d":"0.0"},{"v":0,"d":"0.00"},{"$error":"#DIV/0!"},{"$error":"#DIV/0!"},{"$error":"#DIV/0!"},{"$error":"#DIV/0!"},{"$error":"#DIV/0!"},{"$error":"#DIV/0!"},{"$f":"IF(A127=\"m\",VLOOKUP(K127,Berechnung_Male!$A$1:$D$42,W127,TRUE),VLOOKUP(Eingabeblatt!K127,Berechnung_Female!$A$1:$D$42,W127,TRUE))","v":{"$error":"#DIV/0!"}},{"$error":"#DIV/0!"},{"$error":"#DIV/0!"},{"$nulls":3},{"$error":"#DIV/0!"}]
[{"$nulls":8},{"v":0,"d":"0.0"},{"v":0,"d":"0.00"},{"$error":"#DIV/0!"},{"$error":"#DIV/0!"},{"$error":"#DIV/0!"},{"$error":"#DIV/0!"},{"$error":"#DIV/0!"},{"$error":"#DIV/0!"},{"$f":"IF(A128=\"m\",VLOOKUP(K128,Berechnung_Male!$A$1:$D$42,W128,TRUE),VLOOKUP(Eingabeblatt!K128,Berechnung_Female!$A$1:$D$42,W128,TRUE))","v":{"$error":"#DIV/0!"}},{"$error":"#DIV/0!"},{"$error":"#DIV/0!"},{"$nulls":3},{"$error":"#DIV/0!"}]
[{"$nulls":8},{"v":0,"d":"0.0"},{"v":0,"d":"0.00"},{"$error":"#DIV/0!"},{"$error":"#DIV/0!"},{"$error":"#DIV/0!"},{"$error":"#DIV/0!"},{"$error":"#DIV/0!"},{"$error":"#DIV/0!"},{"$f":"IF(A129=\"m\",VLOOKUP(K129,Berechnung_Male!$A$1:$D$42,W129,TRUE),VLOOKUP(Eingabeblatt!K129,Berechnung_Female!$A$1:$D$42,W129,TRUE))","v":{"$error":"#DIV/0!"}},{"$error":"#DIV/0!"},{"$error":"#DIV/0!"},{"$nulls":3},{"$error":"#DIV/0!"}]
[{"$nulls":8},{"v":0,"d":"0.0"},{"v":0,"d":"0.00"},{"$error":"#DIV/0!"},{"$error":"#DIV/0!"},{"$error":"#DIV/0!"},{"$error":"#DIV/0!"},{"$error":"#DIV/0!"},{"$error":"#DIV/0!"},{"$f":"IF(A130=\"m\",VLOOKUP(K130,Berechnung_Male!$A$1:$D$42,W130,TRUE),VLOOKUP(Eingabeblatt!K130,Berechnung_Female!$A$1:$D$42,W130,TRUE))","v":{"$error":"#DIV/0!"}},{"$error":"#DIV/0!"},{"$error":"#DIV/0!"},{"$nulls":3},{"$error":"#DIV/0!"}]
[{"$nulls":8},{"v":0,"d":"0.0"},{"v":0,"d":"0.00"},{"$error":"#DIV/0!"},{"$error":"#DIV/0!"},{"$error":"#DIV/0!"},{"$error":"#DIV/0!"},{"$error":"#DIV/0!"},{"$error":"#DIV/0!"},{"$f":"IF(A131=\"m\",VLOOKUP(K131,Berechnung_Male!$A$1:$D$42,W131,TRUE),VLOOKUP(Eingabeblatt!K131,Berechnung_Female!$A$1:$D$42,W131,TRUE))","v":{"$error":"#DIV/0!"}},{"$error":"#DIV/0!"},{"$error":"#DIV/0!"},{"$nulls":3},{"$error":"#DIV/0!"}]
[{"$nulls":8},{"v":0,"d":"0.0"},{"v":0,"d":"0.00"},{"$error":"#DIV/0!"},{"$error":"#DIV/0!"},{"$error":"#DIV/0!"},{"$error":"#DIV/0!"},{"$error":"#DIV/0!"},{"$error":"#DIV/0!"},{"$f":"IF(A132=\"m\",VLOOKUP(K132,Berechnung_Male!$A$1:$D$42,W132,TRUE),VLOOKUP(Eingabeblatt!K132,Berechnung_Female!$A$1:$D$42,W132,TRUE))","v":{"$error":"#DIV/0!"}},{"$error":"#DIV/0!"},{"$error":"#DIV/0!"},{"$nulls":3},{"$error":"#DIV/0!"}]
[{"$nulls":8},{"v":0,"d":"0.0"},{"v":0,"d":"0.00"},{"$error":"#DIV/0!"},{"$error":"#DIV/0!"},{"$error":"#DIV/0!"},{"$error":"#DIV/0!"},{"$error":"#DIV/0!"},{"$error":"#DIV/0!"},{"$f":"IF(A133=\"m\",VLOOKUP(K133,Berechnung_Male!$A$1:$D$42,W133,TRUE),VLOOKUP(Eingabeblatt!K133,Berechnung_Female!$A$1:$D$42,W133,TRUE))","v":{"$error":"#DIV/0!"}},{"$error":"#DIV/0!"},{"$error":"#DIV/0!"},{"$nulls":3},{"$error":"#DIV/0!"}]
[{"$nulls":8},{"$f":"G134-H134","v":{"v":0,"d":"0.0"}},{"$f":"(B134-E134)/365.25","v":{"v":0,"d":"0.00"}},{"$f":"IF(A134=\"m\",(-9.236+(0.0002708*I134*H134)+(-0.001663*J134*I134)+(0.007216*J134*H134)+(0.02292*F134/G134*100)),(-9.376+(0.0001882*I134*H134)+(0.0022*J134*I134)+(0.005841*J134*H134)-(0.002658*J134*F134)+(0.07693*(F134/G134)*100)))","v":{"$error":"#DIV/0!"}},{"$f":"J134-K134","v":{"$error":"#DIV/0!"}},{"$f":"IF(A134=\"m\",(IF(L134<12.8,1,IF(L134>14.8,3,2))),(IF(L134<11,1,IF(L134>13,3,2))))","v":{"$error":"#DIV/0!"}},{"$f":"IF(M134=1,\"Früh / précoce\",IF(M134=2,\"Durchschnittlich / Normal\",\"Spät / Tardif\"))","v":{"$error":"#DIV/0!"}},{"$f":"IF(A134=\"m\",(IF(L134<12.8,1,IF(L134<13.3,2,IF(L134>14.8,5,IF(L134>14.3,4,3))))),(IF(L134<11,1,IF(L134<11.5,2,IF(L134>13,5,IF(L134>12.5,4,3))))))","v":{"$error":"#DIV/0!"}},{"$f":"IF(O134=1,\"Früh / précoce\",IF(O134=2,\"Möglicherweise Früh / éventuellement précoce\", IF(O134=3,\"Durchschnittlich / Normal\",IF(O134=4,\"Möglicherweise spät / éventuellement tardif\",\"Spät / Tardif\"))))","v":{"$error":"#DIV/0!"}},{"$f":"IF(A134=\"m\",VLOOKUP(K134,Berechnung_Male!$A$1:$D$42,W134,TRUE),VLOOKUP(Eingabeblatt!K134,Berechnung_Female!$A$1:$D$42,W134,TRUE))","v":{"$error":"#DIV/0!"}},{"$f":"G134+Q134","v":{"$error":"#DIV/0!"}},{"$f":"G134/R134","v":{"$error":"#DIV/0!"}},{"$nulls":3},{"$f":"IF(A134=\"m\",IF(L134<12.8,2,IF(L134<14.8,3,4)),IF(L134<11,2,IF(L134<13,3,4)))","v":{"$error":"#DIV/0!"}}]
[{"$nulls":8},{"v":0,"d":"0.0"},{"v":0,"d":"0.00"},{"$error":"#DIV/0!"},{"$error":"#DIV/0!"},{"$error":"#DIV/0!"},{"$error":"#DIV/0!"},{"$error":"#DIV/0!"},{"$error":"#DIV/0!"},{"$f":"IF(A135=\"m\",VLOOKUP(K135,Berechnung_Male!$A$1:$D$42,W135,TRUE),VLOOKUP(Eingabeblatt!K135,Berechnung_Female!$A$1:$D$42,W135,TRUE))","v":{"$error":"#DIV/0!"}},{"$error":"#DIV/0!"},{"$error":"#DIV/0!"},{"$nulls":3},{"$error":"#DIV/0!"}]
[{"$nulls":8},{"v":0,"d":"0.0"},{"v":0,"d":"0.00"},{"$error":"#DIV/0!"},{"$error":"#DIV/0!"},{"$error":"#DIV/0!"},{"$error":"#DIV/0!"},{"$error":"#DIV/0!"},{"$error":"#DIV/0!"},{"$f":"IF(A136=\"m\",VLOOKUP(K136,Berechnung_Male!$A$1:$D$42,W136,TRUE),VLOOKUP(Eingabeblatt!K136,Berechnung_Female!$A$1:$D$42,W136,TRUE))","v":{"$error":"#DIV/0!"}},{"$error":"#DIV/0!"},{"$error":"#DIV/0!"},{"$nulls":3},{"$error":"#DIV/0!"}]
[{"$nulls":8},{"v":0,"d":"0.0"},{"v":0,"d":"0.00"},{"$error":"#DIV/0!"},{"$error":"#DIV/0!"},{"$error":"#DIV/0!"},{"$error":"#DIV/0!"},{"$error":"#DIV/0!"},{"$error":"#DIV/0!"},{"$f":"IF(A137=\"m\",VLOOKUP(K137,Berechnung_Male!$A$1:$D$42,W137,TRUE),VLOOKUP(Eingabeblatt!K137,Berechnung_Female!$A$1:$D$42,W137,TRUE))","v":{"$error":"#DIV/0!"}},{"$error":"#DIV/0!"},{"$error":"#DIV/0!"},{"$nulls":3},{"$error":"#DIV/0!"}]
[{"$nulls":8},{"v":0,"d":"0.0"},{"v":0,"d":"0.00"},{"$error":"#DIV/0!"},{"$error":"#DIV/0!"},{"$error":"#DIV/0!"},{"$error":"#DIV/0!"},{"$error":"#DIV/0!"},{"$error":"#DIV/0!"},{"$f":"IF(A138=\"m\",VLOOKUP(K138,Berechnung_Male!$A$1:$D$42,W138,TRUE),VLOOKUP(Eingabeblatt!K138,Berechnung_Female!$A$1:$D$42,W138,TRUE))","v":{"$error":"#DIV/0!"}},{"$error":"#DIV/0!"},{"$error":"#DIV/0!"},{"$nulls":3},{"$error":"#DIV/0!"}]
[{"$nulls":8},{"v":0,"d":"0.0"},{"v":0,"d":"0.00"},{"$error":"#DIV/0!"},{"$error":"#DIV/0!"},{"$error":"#DIV/0!"},{"$error":"#DIV/0!"},{"$error":"#DIV/0!"},{"$error":"#DIV/0!"},{"$f":"IF(A139=\"m\",VLOOKUP(K139,Berechnung_Male!$A$1:$D$42,W139,TRUE),VLOOKUP(Eingabeblatt!K139,Berechnung_Female!$A$1:$D$42,W139,TRUE))","v":{"$error":"#DIV/0!"}},{"$error":"#DIV/0!"},{"$error":"#DIV/0!"},{"$nulls":3},{"$error":"#DIV/0!"}]
[{"$nulls":8},{"v":0,"d":"0.0"},{"v":0,"d":"0.00"},{"$error":"#DIV/0!"},{"$error":"#DIV/0!"},{"$error":"#DIV/0!"},{"$error":"#DIV/0!"},{"$error":"#DIV/0!"},{"$error":"#DIV/0!"},{"$f":"IF(A140=\"m\",VLOOKUP(K140,Berechnung_Male!$A$1:$D$42,W140,TRUE),VLOOKUP(Eingabeblatt!K140,Berechnung_Female!$A$1:$D$42,W140,TRUE))","v":{"$error":"#DIV/0!"}},{"$error":"#DIV/0!"},{"$error":"#DIV/0!"},{"$nulls":3},{"$error":"#DIV/0!"}]
[{"$nulls":8},{"v":0,"d":"0.0"},{"v":0,"d":"0.00"},{"$error":"#DIV/0!"},{"$error":"#DIV/0!"},{"$error":"#DIV/0!"},{"$error":"#DIV/0!"},{"$error":"#DIV/0!"},{"$error":"#DIV/0!"},{"$f":"IF(A141=\"m\",VLOOKUP(K141,Berechnung_Male!$A$1:$D$42,W141,TRUE),VLOOKUP(Eingabeblatt!K141,Berechnung_Female!$A$1:$D$42,W141,TRUE))","v":{"$error":"#DIV/0!"}},{"$error":"#DIV/0!"},{"$error":"#DIV/0!"},{"$nulls":3},{"$error":"#DIV/0!"}]
[{"$nulls":8},{"v":0,"d":"0.0"},{"v":0,"d":"0.00"},{"$error":"#DIV/0!"},{"$error":"#DIV/0!"},{"$error":"#DIV/0!"},{"$error":"#DIV/0!"},{"$error":"#DIV/0!"},{"$error":"#DIV/0!"},{"$f":"IF(A142=\"m\",VLOOKUP(K142,Berechnung_Male!$A$1:$D$42,W142,TRUE),VLOOKUP(Eingabeblatt!K142,Berechnung_Female!$A$1:$D$42,W142,TRUE))","v":{"$error":"#DIV/0!"}},{"$error":"#DIV/0!"},{"$error":"#DIV/0!"},{"$nulls":3},{"$error":"#DIV/0!"}]
[{"$nulls":8},{"v":0,"d":"0.0"},{"v":0,"d":"0.00"},{"$error":"#DIV/0!"},{"$error":"#DIV/0!"},{"$error":"#DIV/0!"},{"$error":"#DIV/0!"},{"$error":"#DIV/0!"},{"$error":"#DIV/0!"},{"$f":"IF(A143=\"m\",VLOOKUP(K143,Berechnung_Male!$A$1:$D$42,W143,TRUE),VLOOKUP(Eingabeblatt!K143,Berechnung_Female!$A$1:$D$42,W143,TRUE))","v":{"$error":"#DIV/0!"}},{"$error":"#DIV/0!"},{"$error":"#DIV/0!"},{"$nulls":3},{"$error":"#DIV/0!"}]
[{"$nulls":8},{"v":0,"d":"0.0"},{"v":0,"d":"0.00"},{"$error":"#DIV/0!"},{"$error":"#DIV/0!"},{"$error":"#DIV/0!"},{"$error":"#DIV/0!"},{"$error":"#DIV/0!"},{"$error":"#DIV/0!"},{"$f":"IF(A144=\"m\",VLOOKUP(K144,Berechnung_Male!$A$1:$D$42,W144,TRUE),VLOOKUP(Eingabeblatt!K144,Berechnung_Female!$A$1:$D$42,W144,TRUE))","v":{"$error":"#DIV/0!"}},{"$error":"#DIV/0!"},{"$error":"#DIV/0!"},{"$nulls":3},{"$error":"#DIV/0!"}]
[{"$nulls":8},{"v":0,"d":"0.0"},{"v":0,"d":"0.00"},{"$error":"#DIV/0!"},{"$error":"#DIV/0!"},{"$error":"#DIV/0!"},{"$error":"#DIV/0!"},{"$error":"#DIV/0!"},{"$error":"#DIV/0!"},{"$f":"IF(A145=\"m\",VLOOKUP(K145,Berechnung_Male!$A$1:$D$42,W145,TRUE),VLOOKUP(Eingabeblatt!K145,Berechnung_Female!$A$1:$D$42,W145,TRUE))","v":{"$error":"#DIV/0!"}},{"$error":"#DIV/0!"},{"$error":"#DIV/0!"},{"$nulls":3},{"$error":"#DIV/0!"}]
[{"$nulls":8},{"v":0,"d":"0.0"},{"v":0,"d":"0.00"},{"$error":"#DIV/0!"},{"$error":"#DIV/0!"},{"$error":"#DIV/0!"},{"$error":"#DIV/0!"},{"$error":"#DIV/0!"},{"$error":"#DIV/0!"},{"$f":"IF(A146=\"m\",VLOOKUP(K146,Berechnung_Male!$A$1:$D$42,W146,TRUE),VLOOKUP(Eingabeblatt!K146,Berechnung_Female!$A$1:$D$42,W146,TRUE))","v":{"$error":"#DIV/0!"}},{"$error":"#DIV/0!"},{"$error":"#DIV/0!"},{"$nulls":3},{"$error":"#DIV/0!"}]
[{"$nulls":8},{"v":0,"d":"0.0"},{"v":0,"d":"0.00"},{"$error":"#DIV/0!"},{"$error":"#DIV/0!"},{"$error":"#DIV/0!"},{"$error":"#DIV/0!"},{"$error":"#DIV/0!"},{"$error":"#DIV/0!"},{"$f":"IF(A147=\"m\",VLOOKUP(K147,Berechnung_Male!$A$1:$D$42,W147,TRUE),VLOOKUP(Eingabeblatt!K147,Berechnung_Female!$A$1:$D$42,W147,TRUE))","v":{"$error":"#DIV/0!"}},{"$error":"#DIV/0!"},{"$error":"#DIV/0!"},{"$nulls":3},{"$error":"#DIV/0!"}]
[{"$nulls":8},{"v":0,"d":"0.0"},{"v":0,"d":"0.00"},{"$error":"#DIV/0!"},{"$error":"#DIV/0!"},{"$error":"#DIV/0!"},{"$error":"#DIV/0!"},{"$error":"#DIV/0!"},{"$error":"#DIV/0!"},{"$f":"IF(A148=\"m\",VLOOKUP(K148,Berechnung_Male!$A$1:$D$42,W148,TRUE),VLOOKUP(Eingabeblatt!K148,Berechnung_Female!$A$1:$D$42,W148,TRUE))","v":{"$error":"#DIV/0!"}},{"$error":"#DIV/0!"},{"$error":"#DIV/0!"},{"$nulls":3},{"$error":"#DIV/0!"}]
[{"$nulls":8},{"v":0,"d":"0.0"},{"v":0,"d":"0.00"},{"$error":"#DIV/0!"},{"$error":"#DIV/0!"},{"$error":"#DIV/0!"},{"$error":"#DIV/0!"},{"$error":"#DIV/0!"},{"$error":"#DIV/0!"},{"$f":"IF(A149=\"m\",VLOOKUP(K149,Berechnung_Male!$A$1:$D$42,W149,TRUE),VLOOKUP(Eingabeblatt!K149,Berechnung_Female!$A$1:$D$42,W149,TRUE))","v":{"$error":"#DIV/0!"}},{"$error":"#DIV/0!"},{"$error":"#DIV/0!"},{"$nulls":3},{"$error":"#DIV/0!"}]
[{"$nulls":8},{"v":0,"d":"0.0"},{"v":0,"d":"0.00"},{"$error":"#DIV/0!"},{"$error":"#DIV/0!"},{"$error":"#DIV/0!"},{"$error":"#DIV/0!"},{"$error":"#DIV/0!"},{"$error":"#DIV/0!"},{"$f":"IF(A150=\"m\",VLOOKUP(K150,Berechnung_Male!$A$1:$D$42,W150,TRUE),VLOOKUP(Eingabeblatt!K150,Berechnung_Female!$A$1:$D$42,W150,TRUE))","v":{"$error":"#DIV/0!"}},{"$error":"#DIV/0!"},{"$error":"#DIV/0!"},{"$nulls":3},{"$error":"#DIV/0!"}]
[{"$nulls":8},{"v":0,"d":"0.0"},{"v":0,"d":"0.00"},{"$error":"#DIV/0!"},{"$error":"#DIV/0!"},{"$error":"#DIV/0!"},{"$error":"#DIV/0!"},{"$error":"#DIV/0!"},{"$error":"#DIV/0!"},{"$f":"IF(A151=\"m\",VLOOKUP(K151,Berechnung_Male!$A$1:$D$42,W151,TRUE),VLOOKUP(Eingabeblatt!K151,Berechnung_Female!$A$1:$D$42,W151,TRUE))","v":{"$error":"#DIV/0!"}},{"$error":"#DIV/0!"},{"$error":"#DIV/0!"},{"$nulls":3},{"$error":"#DIV/0!"}]
[{"$nulls":8},{"v":0,"d":"0.0"},{"v":0,"d":"0.00"},{"$error":"#DIV/0!"},{"$error":"#DIV/0!"},{"$error":"#DIV/0!"},{"$error":"#DIV/0!"},{"$error":"#DIV/0!"},{"$error":"#DIV/0!"},{"$f":"IF(A152=\"m\",VLOOKUP(K152,Berechnung_Male!$A$1:$D$42,W152,TRUE),VLOOKUP(Eingabeblatt!K152,Berechnung_Female!$A$1:$D$42,W152,TRUE))","v":{"$error":"#DIV/0!"}},{"$error":"#DIV/0!"},{"$error":"#DIV/0!"},{"$nulls":3},{"$error":"#DIV/0!"}]
[{"$nulls":8},{"v":0,"d":"0.0"},{"v":0,"d":"0.00"},{"$error":"#DIV/0!"},{"$error":"#DIV/0!"},{"$error":"#DIV/0!"},{"$error":"#DIV/0!"},{"$error":"#DIV/0!"},{"$error":"#DIV/0!"},{"$f":"IF(A153=\"m\",VLOOKUP(K153,Berechnung_Male!$A$1:$D$42,W153,TRUE),VLOOKUP(Eingabeblatt!K153,Berechnung_Female!$A$1:$D$42,W153,TRUE))","v":{"$error":"#DIV/0!"}},{"$error":"#DIV/0!"},{"$error":"#DIV/0!"},{"$nulls":3},{"$error":"#DIV/0!"}]
[{"$nulls":8},{"v":0,"d":"0.0"},{"v":0,"d":"0.00"},{"$error":"#DIV/0!"},{"$error":"#DIV/0!"},{"$error":"#DIV/0!"},{"$error":"#DIV/0!"},{"$error":"#DIV/0!"},{"$error":"#DIV/0!"},{"$f":"IF(A154=\"m\",VLOOKUP(K154,Berechnung_Male!$A$1:$D$42,W154,TRUE),VLOOKUP(Eingabeblatt!K154,Berechnung_Female!$A$1:$D$42,W154,TRUE))","v":{"$error":"#DIV/0!"}},{"$error":"#DIV/0!"},{"$error":"#DIV/0!"},{"$nulls":3},{"$error":"#DIV/0!"}]
[{"$nulls":8},{"v":0,"d":"0.0"},{"v":0,"d":"0.00"},{"$error":"#DIV/0!"},{"$error":"#DIV/0!"},{"$error":"#DIV/0!"},{"$error":"#DIV/0!"},{"$error":"#DIV/0!"},{"$error":"#DIV/0!"},{"$f":"IF(A155=\"m\",VLOOKUP(K155,Berechnung_Male!$A$1:$D$42,W155,TRUE),VLOOKUP(Eingabeblatt!K155,Berechnung_Female!$A$1:$D$42,W155,TRUE))","v":{"$error":"#DIV/0!"}},{"$error":"#DIV/0!"},{"$error":"#DIV/0!"},{"$nulls":3},{"$error":"#DIV/0!"}]
[{"$nulls":8},{"v":0,"d":"0.0"},{"v":0,"d":"0.00"},{"$error":"#DIV/0!"},{"$error":"#DIV/0!"},{"$error":"#DIV/0!"},{"$error":"#DIV/0!"},{"$error":"#DIV/0!"},{"$error":"#DIV/0!"},{"$f":"IF(A156=\"m\",VLOOKUP(K156,Berechnung_Male!$A$1:$D$42,W156,TRUE),VLOOKUP(Eingabeblatt!K156,Berechnung_Female!$A$1:$D$42,W156,TRUE))","v":{"$error":"#DIV/0!"}},{"$error":"#DIV/0!"},{"$error":"#DIV/0!"},{"$nulls":3},{"$error":"#DIV/0!"}]
[{"$nulls":8},{"v":0,"d":"0.0"},{"v":0,"d":"0.00"},{"$error":"#DIV/0!"},{"$error":"#DIV/0!"},{"$error":"#DIV/0!"},{"$error":"#DIV/0!"},{"$error":"#DIV/0!"},{"$error":"#DIV/0!"},{"$f":"IF(A157=\"m\",VLOOKUP(K157,Berechnung_Male!$A$1:$D$42,W157,TRUE),VLOOKUP(Eingabeblatt!K157,Berechnung_Female!$A$1:$D$42,W157,TRUE))","v":{"$error":"#DIV/0!"}},{"$error":"#DIV/0!"},{"$error":"#DIV/0!"},{"$nulls":3},{"$error":"#DIV/0!"}]
[{"$nulls":8},{"v":0,"d":"0.0"},{"v":0,"d":"0.00"},{"$error":"#DIV/0!"},{"$error":"#DIV/0!"},{"$error":"#DIV/0!"},{"$error":"#DIV/0!"},{"$error":"#DIV/0!"},{"$error":"#DIV/0!"},{"$f":"IF(A158=\"m\",VLOOKUP(K158,Berechnung_Male!$A$1:$D$42,W158,TRUE),VLOOKUP(Eingabeblatt!K158,Berechnung_Female!$A$1:$D$42,W158,TRUE))","v":{"$error":"#DIV/0!"}},{"$error":"#DIV/0!"},{"$error":"#DIV/0!"},{"$nulls":3},{"$error":"#DIV/0!"}]
[{"$nulls":8},{"v":0,"d":"0.0"},{"v":0,"d":"0.00"},{"$error":"#DIV/0!"},{"$error":"#DIV/0!"},{"$error":"#DIV/0!"},{"$error":"#DIV/0!"},{"$error":"#DIV/0!"},{"$error":"#DIV/0!"},{"$f":"IF(A159=\"m\",VLOOKUP(K159,Berechnung_Male!$A$1:$D$42,W159,TRUE),VLOOKUP(Eingabeblatt!K159,Berechnung_Female!$A$1:$D$42,W159,TRUE))","v":{"$error":"#DIV/0!"}},{"$error":"#DIV/0!"},{"$error":"#DIV/0!"},{"$nulls":3},{"$error":"#DIV/0!"}]
[{"$nulls":8},{"v":0,"d":"0.0"},{"v":0,"d":"0.00"},{"$error":"#DIV/0!"},{"$error":"#DIV/0!"},{"$error":"#DIV/0!"},{"$error":"#DIV/0!"},{"$error":"#DIV/0!"},{"$error":"#DIV/0!"},{"$f":"IF(A160=\"m\",VLOOKUP(K160,Berechnung_Male!$A$1:$D$42,W160,TRUE),VLOOKUP(Eingabeblatt!K160,Berechnung_Female!$A$1:$D$42,W160,TRUE))","v":{"$error":"#DIV/0!"}},{"$error":"#DIV/0!"},{"$error":"#DIV/0!"},{"$nulls":3},{"$error":"#DIV/0!"}]
[{"$nulls":8},{"v":0,"d":"0.0"},{"v":0,"d":"0.00"},{"$error":"#DIV/0!"},{"$error":"#DIV/0!"},{"$error":"#DIV/0!"},{"$error":"#DIV/0!"},{"$error":"#DIV/0!"},{"$error":"#DIV/0!"},{"$f":"IF(A161=\"m\",VLOOKUP(K161,Berechnung_Male!$A$1:$D$42,W161,TRUE),VLOOKUP(Eingabeblatt!K161,Berechnung_Female!$A$1:$D$42,W161,TRUE))","v":{"$error":"#DIV/0!"}},{"$error":"#DIV/0!"},{"$error":"#DIV/0!"},{"$nulls":3},{"$error":"#DIV/0!"}]
[{"$nulls":8},{"v":0,"d":"0.0"},{"v":0,"d":"0.00"},{"$error":"#DIV/0!"},{"$error":"#DIV/0!"},{"$error":"#DIV/0!"},{"$error":"#DIV/0!"},{"$error":"#DIV/0!"},{"$error":"#DIV/0!"},{"$f":"IF(A162=\"m\",VLOOKUP(K162,Berechnung_Male!$A$1:$D$42,W162,TRUE),VLOOKUP(Eingabeblatt!K162,Berechnung_Female!$A$1:$D$42,W162,TRUE))","v":{"$error":"#DIV/0!"}},{"$error":"#DIV/0!"},{"$error":"#DIV/0!"},{"$nulls":3},{"$error":"#DIV/0!"}]
[{"$nulls":8},{"v":0,"d":"0.0"},{"v":0,"d":"0.00"},{"$error":"#DIV/0!"},{"$error":"#DIV/0!"},{"$error":"#DIV/0!"},{"$error":"#DIV/0!"},{"$error":"#DIV/0!"},{"$error":"#DIV/0!"},{"$f":"IF(A163=\"m\",VLOOKUP(K163,Berechnung_Male!$A$1:$D$42,W163,TRUE),VLOOKUP(Eingabeblatt!K163,Berechnung_Female!$A$1:$D$42,W163,TRUE))","v":{"$error":"#DIV/0!"}},{"$error":"#DIV/0!"},{"$error":"#DIV/0!"},{"$nulls":3},{"$error":"#DIV/0!"}]
[{"$nulls":8},{"v":0,"d":"0.0"},{"v":0,"d":"0.00"},{"$error":"#DIV/0!"},{"$error":"#DIV/0!"},{"$error":"#DIV/0!"},{"$error":"#DIV/0!"},{"$error":"#DIV/0!"},{"$error":"#DIV/0!"},{"$f":"IF(A164=\"m\",VLOOKUP(K164,Berechnung_Male!$A$1:$D$42,W164,TRUE),VLOOKUP(Eingabeblatt!K164,Berechnung_Female!$A$1:$D$42,W164,TRUE))","v":{"$error":"#DIV/0!"}},{"$error":"#DIV/0!"},{"$error":"#DIV/0!"},{"$nulls":3},{"$error":"#DIV/0!"}]
[{"$nulls":8},{"v":0,"d":"0.0"},{"v":0,"d":"0.00"},{"$error":"#DIV/0!"},{"$error":"#DIV/0!"},{"$error":"#DIV/0!"},{"$error":"#DIV/0!"},{"$error":"#DIV/0!"},{"$error":"#DIV/0!"},{"$f":"IF(A165=\"m\",VLOOKUP(K165,Berechnung_Male!$A$1:$D$42,W165,TRUE),VLOOKUP(Eingabeblatt!K165,Berechnung_Female!$A$1:$D$42,W165,TRUE))","v":{"$error":"#DIV/0!"}},{"$error":"#DIV/0!"},{"$error":"#DIV/0!"},{"$nulls":3},{"$error":"#DIV/0!"}]
[{"$nulls":8},{"v":0,"d":"0.0"},{"v":0,"d":"0.00"},{"$error":"#DIV/0!"},{"$error":"#DIV/0!"},{"$error":"#DIV/0!"},{"$error":"#DIV/0!"},{"$error":"#DIV/0!"},{"$error":"#DIV/0!"},{"$f":"IF(A166=\"m\",VLOOKUP(K166,Berechnung_Male!$A$1:$D$42,W166,TRUE),VLOOKUP(Eingabeblatt!K166,Berechnung_Female!$A$1:$D$42,W166,TRUE))","v":{"$error":"#DIV/0!"}},{"$error":"#DIV/0!"},{"$error":"#DIV/0!"},{"$nulls":3},{"$error":"#DIV/0!"}]
[{"$nulls":8},{"v":0,"d":"0.0"},{"v":0,"d":"0.00"},{"$error":"#DIV/0!"},{"$error":"#DIV/0!"},{"$error":"#DIV/0!"},{"$error":"#DIV/0!"},{"$error":"#DIV/0!"},{"$error":"#DIV/0!"},{"$f":"IF(A167=\"m\",VLOOKUP(K167,Berechnung_Male!$A$1:$D$42,W167,TRUE),VLOOKUP(Eingabeblatt!K167,Berechnung_Female!$A$1:$D$42,W167,TRUE))","v":{"$error":"#DIV/0!"}},{"$error":"#DIV/0!"},{"$error":"#DIV/0!"},{"$nulls":3},{"$error":"#DIV/0!"}]
[{"$nulls":8},{"v":0,"d":"0.0"},{"v":0,"d":"0.00"},{"$error":"#DIV/0!"},{"$error":"#DIV/0!"},{"$error":"#DIV/0!"},{"$error":"#DIV/0!"},{"$error":"#DIV/0!"},{"$error":"#DIV/0!"},{"$f":"IF(A168=\"m\",VLOOKUP(K168,Berechnung_Male!$A$1:$D$42,W168,TRUE),VLOOKUP(Eingabeblatt!K168,Berechnung_Female!$A$1:$D$42,W168,TRUE))","v":{"$error":"#DIV/0!"}},{"$error":"#DIV/0!"},{"$error":"#DIV/0!"},{"$nulls":3},{"$error":"#DIV/0!"}]
[{"$nulls":8},{"v":0,"d":"0.0"},{"v":0,"d":"0.00"},{"$error":"#DIV/0!"},{"$error":"#DIV/0!"},{"$error":"#DIV/0!"},{"$error":"#DIV/0!"},{"$error":"#DIV/0!"},{"$error":"#DIV/0!"},{"$f":"IF(A169=\"m\",VLOOKUP(K169,Berechnung_Male!$A$1:$D$42,W169,TRUE),VLOOKUP(Eingabeblatt!K169,Berechnung_Female!$A$1:$D$42,W169,TRUE))","v":{"$error":"#DIV/0!"}},{"$error":"#DIV/0!"},{"$error":"#DIV/0!"},{"$nulls":3},{"$error":"#DIV/0!"}]
[{"$nulls":8},{"v":0,"d":"0.0"},{"v":0,"d":"0.00"},{"$error":"#DIV/0!"},{"$error":"#DIV/0!"},{"$error":"#DIV/0!"},{"$error":"#DIV/0!"},{"$error":"#DIV/0!"},{"$error":"#DIV/0!"},{"$f":"IF(A170=\"m\",VLOOKUP(K170,Berechnung_Male!$A$1:$D$42,W170,TRUE),VLOOKUP(Eingabeblatt!K170,Berechnung_Female!$A$1:$D$42,W170,TRUE))","v":{"$error":"#DIV/0!"}},{"$error":"#DIV/0!"},{"$error":"#DIV/0!"},{"$nulls":3},{"$error":"#DIV/0!"}]
[{"$nulls":8},{"v":0,"d":"0.0"},{"v":0,"d":"0.00"},{"$error":"#DIV/0!"},{"$error":"#DIV/0!"},{"$error":"#DIV/0!"},{"$error":"#DIV/0!"},{"$error":"#DIV/0!"},{"$error":"#DIV/0!"},{"$f":"IF(A171=\"m\",VLOOKUP(K171,Berechnung_Male!$A$1:$D$42,W171,TRUE),VLOOKUP(Eingabeblatt!K171,Berechnung_Female!$A$1:$D$42,W171,TRUE))","v":{"$error":"#DIV/0!"}},{"$error":"#DIV/0!"},{"$error":"#DIV/0!"},{"$nulls":3},{"$error":"#DIV/0!"}]
[{"$nulls":8},{"v":0,"d":"0.0"},{"v":0,"d":"0.00"},{"$error":"#DIV/0!"},{"$error":"#DIV/0!"},{"$error":"#DIV/0!"},{"$error":"#DIV/0!"},{"$error":"#DIV/0!"},{"$error":"#DIV/0!"},{"$f":"IF(A172=\"m\",VLOOKUP(K172,Berechnung_Male!$A$1:$D$42,W172,TRUE),VLOOKUP(Eingabeblatt!K172,Berechnung_Female!$A$1:$D$42,W172,TRUE))","v":{"$error":"#DIV/0!"}},{"$error":"#DIV/0!"},{"$error":"#DIV/0!"},{"$nulls":3},{"$error":"#DIV/0!"}]
[{"$nulls":8},{"v":0,"d":"0.0"},{"v":0,"d":"0.00"},{"$error":"#DIV/0!"},{"$error":"#DIV/0!"},{"$error":"#DIV/0!"},{"$error":"#DIV/0!"},{"$error":"#DIV/0!"},{"$error":"#DIV/0!"},{"$f":"IF(A173=\"m\",VLOOKUP(K173,Berechnung_Male!$A$1:$D$42,W173,TRUE),VLOOKUP(Eingabeblatt!K173,Berechnung_Female!$A$1:$D$42,W173,TRUE))","v":{"$error":"#DIV/0!"}},{"$error":"#DIV/0!"},{"$error":"#DIV/0!"},{"$nulls":3},{"$error":"#DIV/0!"}]
[{"$nulls":8},{"v":0,"d":"0.0"},{"v":0,"d":"0.00"},{"$error":"#DIV/0!"},{"$error":"#DIV/0!"},{"$error":"#DIV/0!"},{"$error":"#DIV/0!"},{"$error":"#DIV/0!"},{"$error":"#DIV/0!"},{"$f":"IF(A174=\"m\",VLOOKUP(K174,Berechnung_Male!$A$1:$D$42,W174,TRUE),VLOOKUP(Eingabeblatt!K174,Berechnung_Female!$A$1:$D$42,W174,TRUE))","v":{"$error":"#DIV/0!"}},{"$error":"#DIV/0!"},{"$error":"#DIV/0!"},{"$nulls":3},{"$error":"#DIV/0!"}]
[{"$nulls":8},{"v":0,"d":"0.0"},{"v":0,"d":"0.00"},{"$error":"#DIV/0!"},{"$error":"#DIV/0!"},{"$error":"#DIV/0!"},{"$error":"#DIV/0!"},{"$error":"#DIV/0!"},{"$error":"#DIV/0!"},{"$f":"IF(A175=\"m\",VLOOKUP(K175,Berechnung_Male!$A$1:$D$42,W175,TRUE),VLOOKUP(Eingabeblatt!K175,Berechnung_Female!$A$1:$D$42,W175,TRUE))","v":{"$error":"#DIV/0!"}},{"$error":"#DIV/0!"},{"$error":"#DIV/0!"},{"$nulls":3},{"$error":"#DIV/0!"}]
[{"$nulls":8},{"v":0,"d":"0.0"},{"v":0,"d":"0.00"},{"$error":"#DIV/0!"},{"$error":"#DIV/0!"},{"$error":"#DIV/0!"},{"$error":"#DIV/0!"},{"$error":"#DIV/0!"},{"$error":"#DIV/0!"},{"$f":"IF(A176=\"m\",VLOOKUP(K176,Berechnung_Male!$A$1:$D$42,W176,TRUE),VLOOKUP(Eingabeblatt!K176,Berechnung_Female!$A$1:$D$42,W176,TRUE))","v":{"$error":"#DIV/0!"}},{"$error":"#DIV/0!"},{"$error":"#DIV/0!"},{"$nulls":3},{"$error":"#DIV/0!"}]
[{"$nulls":8},{"v":0,"d":"0.0"},{"v":0,"d":"0.00"},{"$error":"#DIV/0!"},{"$error":"#DIV/0!"},{"$error":"#DIV/0!"},{"$error":"#DIV/0!"},{"$error":"#DIV/0!"},{"$error":"#DIV/0!"},{"$f":"IF(A177=\"m\",VLOOKUP(K177,Berechnung_Male!$A$1:$D$42,W177,TRUE),VLOOKUP(Eingabeblatt!K177,Berechnung_Female!$A$1:$D$42,W177,TRUE))","v":{"$error":"#DIV/0!"}},{"$error":"#DIV/0!"},{"$error":"#DIV/0!"},{"$nulls":3},{"$error":"#DIV/0!"}]
[{"$nulls":8},{"v":0,"d":"0.0"},{"v":0,"d":"0.00"},{"$error":"#DIV/0!"},{"$error":"#DIV/0!"},{"$error":"#DIV/0!"},{"$error":"#DIV/0!"},{"$error":"#DIV/0!"},{"$error":"#DIV/0!"},{"$f":"IF(A178=\"m\",VLOOKUP(K178,Berechnung_Male!$A$1:$D$42,W178,TRUE),VLOOKUP(Eingabeblatt!K178,Berechnung_Female!$A$1:$D$42,W178,TRUE))","v":{"$error":"#DIV/0!"}},{"$error":"#DIV/0!"},{"$error":"#DIV/0!"},{"$nulls":3},{"$error":"#DIV/0!"}]
[{"$nulls":8},{"v":0,"d":"0.0"},{"v":0,"d":"0.00"},{"$error":"#DIV/0!"},{"$error":"#DIV/0!"},{"$error":"#DIV/0!"},{"$error":"#DIV/0!"},{"$error":"#DIV/0!"},{"$error":"#DIV/0!"},{"$f":"IF(A179=\"m\",VLOOKUP(K179,Berechnung_Male!$A$1:$D$42,W179,TRUE),VLOOKUP(Eingabeblatt!K179,Berechnung_Female!$A$1:$D$42,W179,TRUE))","v":{"$error":"#DIV/0!"}},{"$error":"#DIV/0!"},{"$error":"#DIV/0!"},{"$nulls":3},{"$error":"#DIV/0!"}]
[{"$nulls":8},{"v":0,"d":"0.0"},{"v":0,"d":"0.00"},{"$error":"#DIV/0!"},{"$error":"#DIV/0!"},{"$error":"#DIV/0!"},{"$error":"#DIV/0!"},{"$error":"#DIV/0!"},{"$error":"#DIV/0!"},{"$f":"IF(A180=\"m\",VLOOKUP(K180,Berechnung_Male!$A$1:$D$42,W180,TRUE),VLOOKUP(Eingabeblatt!K180,Berechnung_Female!$A$1:$D$42,W180,TRUE))","v":{"$error":"#DIV/0!"}},{"$error":"#DIV/0!"},{"$error":"#DIV/0!"},{"$nulls":3},{"$error":"#DIV/0!"}]
[{"$nulls":8},{"v":0,"d":"0.0"},{"v":0,"d":"0.00"},{"$error":"#DIV/0!"},{"$error":"#DIV/0!"},{"$error":"#DIV/0!"},{"$error":"#DIV/0!"},{"$error":"#DIV/0!"},{"$error":"#DIV/0!"},{"$f":"IF(A181=\"m\",VLOOKUP(K181,Berechnung_Male!$A$1:$D$42,W181,TRUE),VLOOKUP(Eingabeblatt!K181,Berechnung_Female!$A$1:$D$42,W181,TRUE))","v":{"$error":"#DIV/0!"}},{"$error":"#DIV/0!"},{"$error":"#DIV/0!"},{"$nulls":3},{"$error":"#DIV/0!"}]
[{"$nulls":8},{"v":0,"d":"0.0"},{"v":0,"d":"0.00"},{"$error":"#DIV/0!"},{"$error":"#DIV/0!"},{"$error":"#DIV/0!"},{"$error":"#DIV/0!"},{"$error":"#DIV/0!"},{"$error":"#DIV/0!"},{"$f":"IF(A182=\"m\",VLOOKUP(K182,Berechnung_Male!$A$1:$D$42,W182,TRUE),VLOOKUP(Eingabeblatt!K182,Berechnung_Female!$A$1:$D$42,W182,TRUE))","v":{"$error":"#DIV/0!"}},{"$error":"#DIV/0!"},{"$error":"#DIV/0!"},{"$nulls":3},{"$error":"#DIV/0!"}]
[{"$nulls":8},{"v":0,"d":"0.0"},{"v":0,"d":"0.00"},{"$error":"#DIV/0!"},{"$error":"#DIV/0!"},{"$error":"#DIV/0!"},{"$error":"#DIV/0!"},{"$error":"#DIV/0!"},{"$error":"#DIV/0!"},{"$f":"IF(A183=\"m\",VLOOKUP(K183,Berechnung_Male!$A$1:$D$42,W183,TRUE),VLOOKUP(Eingabeblatt!K183,Berechnung_Female!$A$1:$D$42,W183,TRUE))","v":{"$error":"#DIV/0!"}},{"$error":"#DIV/0!"},{"$error":"#DIV/0!"},{"$nulls":3},{"$error":"#DIV/0!"}]
[{"$nulls":8},{"v":0,"d":"0.0"},{"v":0,"d":"0.00"},{"$error":"#DIV/0!"},{"$error":"#DIV/0!"},{"$error":"#DIV/0!"},{"$error":"#DIV/0!"},{"$error":"#DIV/0!"},{"$error":"#DIV/0!"},{"$f":"IF(A184=\"m\",VLOOKUP(K184,Berechnung_Male!$A$1:$D$42,W184,TRUE),VLOOKUP(Eingabeblatt!K184,Berechnung_Female!$A$1:$D$42,W184,TRUE))","v":{"$error":"#DIV/0!"}},{"$error":"#DIV/0!"},{"$error":"#DIV/0!"},{"$nulls":3},{"$error":"#DIV/0!"}]
[{"$nulls":8},{"v":0,"d":"0.0"},{"v":0,"d":"0.00"},{"$error":"#DIV/0!"},{"$error":"#DIV/0!"},{"$error":"#DIV/0!"},{"$error":"#DIV/0!"},{"$error":"#DIV/0!"},{"$error":"#DIV/0!"},{"$f":"IF(A185=\"m\",VLOOKUP(K185,Berechnung_Male!$A$1:$D$42,W185,TRUE),VLOOKUP(Eingabeblatt!K185,Berechnung_Female!$A$1:$D$42,W185,TRUE))","v":{"$error":"#DIV/0!"}},{"$error":"#DIV/0!"},{"$error":"#DIV/0!"},{"$nulls":3},{"$error":"#DIV/0!"}]
[{"$nulls":8},{"v":0,"d":"0.0"},{"v":0,"d":"0.00"},{"$error":"#DIV/0!"},{"$error":"#DIV/0!"},{"$error":"#DIV/0!"},{"$error":"#DIV/0!"},{"$error":"#DIV/0!"},{"$error":"#DIV/0!"},{"$f":"IF(A186=\"m\",VLOOKUP(K186,Berechnung_Male!$A$1:$D$42,W186,TRUE),VLOOKUP(Eingabeblatt!K186,Berechnung_Female!$A$1:$D$42,W186,TRUE))","v":{"$error":"#DIV/0!"}},{"$error":"#DIV/0!"},{"$error":"#DIV/0!"},{"$nulls":3},{"$error":"#DIV/0!"}]
[{"$nulls":8},{"v":0,"d":"0.0"},{"v":0,"d":"0.00"},{"$error":"#DIV/0!"},{"$error":"#DIV/0!"},{"$error":"#DIV/0!"},{"$error":"#DIV/0!"},{"$error":"#DIV/0!"},{"$error":"#DIV/0!"},{"$f":"IF(A187=\"m\",VLOOKUP(K187,Berechnung_Male!$A$1:$D$42,W187,TRUE),VLOOKUP(Eingabeblatt!K187,Berechnung_Female!$A$1:$D$42,W187,TRUE))","v":{"$error":"#DIV/0!"}},{"$error":"#DIV/0!"},{"$error":"#DIV/0!"},{"$nulls":3},{"$error":"#DIV/0!"}]
[{"$nulls":8},{"v":0,"d":"0.0"},{"v":0,"d":"0.00"},{"$error":"#DIV/0!"},{"$error":"#DIV/0!"},{"$error":"#DIV/0!"},{"$error":"#DIV/0!"},{"$error":"#DIV/0!"},{"$error":"#DIV/0!"},{"$f":"IF(A188=\"m\",VLOOKUP(K188,Berechnung_Male!$A$1:$D$42,W188,TRUE),VLOOKUP(Eingabeblatt!K188,Berechnung_Female!$A$1:$D$42,W188,TRUE))","v":{"$error":"#DIV/0!"}},{"$error":"#DIV/0!"},{"$error":"#DIV/0!"},{"$nulls":3},{"$error":"#DIV/0!"}]
[{"$nulls":8},{"v":0,"d":"0.0"},{"v":0,"d":"0.00"},{"$error":"#DIV/0!"},{"$error":"#DIV/0!"},{"$error":"#DIV/0!"},{"$error":"#DIV/0!"},{"$error":"#DIV/0!"},{"$error":"#DIV/0!"},{"$f":"IF(A189=\"m\",VLOOKUP(K189,Berechnung_Male!$A$1:$D$42,W189,TRUE),VLOOKUP(Eingabeblatt!K189,Berechnung_Female!$A$1:$D$42,W189,TRUE))","v":{"$error":"#DIV/0!"}},{"$error":"#DIV/0!"},{"$error":"#DIV/0!"},{"$nulls":3},{"$error":"#DIV/0!"}]
[{"$nulls":8},{"v":0,"d":"0.0"},{"v":0,"d":"0.00"},{"$error":"#DIV/0!"},{"$error":"#DIV/0!"},{"$error":"#DIV/0!"},{"$error":"#DIV/0!"},{"$error":"#DIV/0!"},{"$error":"#DIV/0!"},{"$f":"IF(A190=\"m\",VLOOKUP(K190,Berechnung_Male!$A$1:$D$42,W190,TRUE),VLOOKUP(Eingabeblatt!K190,Berechnung_Female!$A$1:$D$42,W190,TRUE))","v":{"$error":"#DIV/0!"}},{"$error":"#DIV/0!"},{"$error":"#DIV/0!"},{"$nulls":3},{"$error":"#DIV/0!"}]
[{"$nulls":8},{"v":0,"d":"0.0"},{"v":0,"d":"0.00"},{"$error":"#DIV/0!"},{"$error":"#DIV/0!"},{"$error":"#DIV/0!"},{"$error":"#DIV/0!"},{"$error":"#DIV/0!"},{"$error":"#DIV/0!"},{"$f":"IF(A191=\"m\",VLOOKUP(K191,Berechnung_Male!$A$1:$D$42,W191,TRUE),VLOOKUP(Eingabeblatt!K191,Berechnung_Female!$A$1:$D$42,W191,TRUE))","v":{"$error":"#DIV/0!"}},{"$error":"#DIV/0!"},{"$error":"#DIV/0!"},{"$nulls":3},{"$error":"#DIV/0!"}]
[{"$nulls":8},{"v":0,"d":"0.0"},{"v":0,"d":"0.00"},{"$error":"#DIV/0!"},{"$error":"#DIV/0!"},{"$error":"#DIV/0!"},{"$error":"#DIV/0!"},{"$error":"#DIV/0!"},{"$error":"#DIV/0!"},{"$f":"IF(A192=\"m\",VLOOKUP(K192,Berechnung_Male!$A$1:$D$42,W192,TRUE),VLOOKUP(Eingabeblatt!K192,Berechnung_Female!$A$1:$D$42,W192,TRUE))","v":{"$error":"#DIV/0!"}},{"$error":"#DIV/0!"},{"$error":"#DIV/0!"},{"$nulls":3},{"$error":"#DIV/0!"}]
[{"$nulls":8},{"v":0,"d":"0.0"},{"v":0,"d":"0.00"},{"$error":"#DIV/0!"},{"$error":"#DIV/0!"},{"$error":"#DIV/0!"},{"$error":"#DIV/0!"},{"$error":"#DIV/0!"},{"$error":"#DIV/0!"},{"$f":"IF(A193=\"m\",VLOOKUP(K193,Berechnung_Male!$A$1:$D$42,W193,TRUE),VLOOKUP(Eingabeblatt!K193,Berechnung_Female!$A$1:$D$42,W193,TRUE))","v":{"$error":"#DIV/0!"}},{"$error":"#DIV/0!"},{"$error":"#DIV/0!"},{"$nulls":3},{"$error":"#DIV/0!"}]
[{"$nulls":8},{"v":0,"d":"0.0"},{"v":0,"d":"0.00"},{"$error":"#DIV/0!"},{"$error":"#DIV/0!"},{"$error":"#DIV/0!"},{"$error":"#DIV/0!"},{"$error":"#DIV/0!"},{"$error":"#DIV/0!"},{"$f":"IF(A194=\"m\",VLOOKUP(K194,Berechnung_Male!$A$1:$D$42,W194,TRUE),VLOOKUP(Eingabeblatt!K194,Berechnung_Female!$A$1:$D$42,W194,TRUE))","v":{"$error":"#DIV/0!"}},{"$error":"#DIV/0!"},{"$error":"#DIV/0!"},{"$nulls":3},{"$error":"#DIV/0!"}]
[{"$nulls":8},{"v":0,"d":"0.0"},{"v":0,"d":"0.00"},{"$error":"#DIV/0!"},{"$error":"#DIV/0!"},{"$error":"#DIV/0!"},{"$error":"#DIV/0!"},{"$error":"#DIV/0!"},{"$error":"#DIV/0!"},{"$f":"IF(A195=\"m\",VLOOKUP(K195,Berechnung_Male!$A$1:$D$42,W195,TRUE),VLOOKUP(Eingabeblatt!K195,Berechnung_Female!$A$1:$D$42,W195,TRUE))","v":{"$error":"#DIV/0!"}},{"$error":"#DIV/0!"},{"$error":"#DIV/0!"},{"$nulls":3},{"$error":"#DIV/0!"}]
[{"$nulls":8},{"v":0,"d":"0.0"},{"v":0,"d":"0.00"},{"$error":"#DIV/0!"},{"$error":"#DIV/0!"},{"$error":"#DIV/0!"},{"$error":"#DIV/0!"},{"$error":"#DIV/0!"},{"$error":"#DIV/0!"},{"$f":"IF(A196=\"m\",VLOOKUP(K196,Berechnung_Male!$A$1:$D$42,W196,TRUE),VLOOKUP(Eingabeblatt!K196,Berechnung_Female!$A$1:$D$42,W196,TRUE))","v":{"$error":"#DIV/0!"}},{"$error":"#DIV/0!"},{"$error":"#DIV/0!"},{"$nulls":3},{"$error":"#DIV/0!"}]
[{"$nulls":8},{"v":0,"d":"0.0"},{"v":0,"d":"0.00"},{"$error":"#DIV/0!"},{"$error":"#DIV/0!"},{"$error":"#DIV/0!"},{"$error":"#DIV/0!"},{"$error":"#DIV/0!"},{"$error":"#DIV/0!"},{"$f":"IF(A197=\"m\",VLOOKUP(K197,Berechnung_Male!$A$1:$D$42,W197,TRUE),VLOOKUP(Eingabeblatt!K197,Berechnung_Female!$A$1:$D$42,W197,TRUE))","v":{"$error":"#DIV/0!"}},{"$error":"#DIV/0!"},{"$error":"#DIV/0!"},{"$nulls":3},{"$error":"#DIV/0!"}]
[{"$nulls":8},{"$f":"G198-H198","v":{"v":0,"d":"0.0"}},{"$f":"(B198-E198)/365.25","v":{"v":0,"d":"0.00"}},{"$f":"IF(A198=\"m\",(-9.236+(0.0002708*I198*H198)+(-0.001663*J198*I198)+(0.007216*J198*H198)+(0.02292*F198/G198*100)),(-9.376+(0.0001882*I198*H198)+(0.0022*J198*I198)+(0.005841*J198*H198)-(0.002658*J198*F198)+(0.07693*(F198/G198)*100)))","v":{"$error":"#DIV/0!"}},{"$f":"J198-K198","v":{"$error":"#DIV/0!"}},{"$f":"IF(A198=\"m\",(IF(L198<12.8,1,IF(L198>14.8,3,2))),(IF(L198<11,1,IF(L198>13,3,2))))","v":{"$error":"#DIV/0!"}},{"$f":"IF(M198=1,\"Früh / précoce\",IF(M198=2,\"Durchschnittlich / Normal\",\"Spät / Tardif\"))","v":{"$error":"#DIV/0!"}},{"$f":"IF(A198=\"m\",(IF(L198<12.8,1,IF(L198<13.3,2,IF(L198>14.8,5,IF(L198>14.3,4,3))))),(IF(L198<11,1,IF(L198<11.5,2,IF(L198>13,5,IF(L198>12.5,4,3))))))","v":{"$error":"#DIV/0!"}},{"$f":"IF(O198=1,\"Früh / précoce\",IF(O198=2,\"Möglicherweise Früh / éventuellement précoce\", IF(O198=3,\"Durchschnittlich / Normal\",IF(O198=4,\"Möglicherweise spät / éventuellement tardif\",\"Spät / Tardif\"))))","v":{"$error":"#DIV/0!"}},{"$f":"IF(A198=\"m\",VLOOKUP(K198,Berechnung_Male!$A$1:$D$42,W198,TRUE),VLOOKUP(Eingabeblatt!K198,Berechnung_Female!$A$1:$D$42,W198,TRUE))","v":{"$error":"#DIV/0!"}},{"$f":"G198+Q198","v":{"$error":"#DIV/0!"}},{"$f":"G198/R198","v":{"$error":"#DIV/0!"}},{"$nulls":3},{"$f":"IF(A198=\"m\",IF(L198<12.8,2,IF(L198<14.8,3,4)),IF(L198<11,2,IF(L198<13,3,4)))","v":{"$error":"#DIV/0!"}}]
[{"$nulls":8},{"v":0,"d":"0.0"},{"v":0,"d":"0.00"},{"$error":"#DIV/0!"},{"$error":"#DIV/0!"},{"$error":"#DIV/0!"},{"$error":"#DIV/0!"},{"$error":"#DIV/0!"},{"$error":"#DIV/0!"},{"$f":"IF(A199=\"m\",VLOOKUP(K199,Berechnung_Male!$A$1:$D$42,W199,TRUE),VLOOKUP(Eingabeblatt!K199,Berechnung_Female!$A$1:$D$42,W199,TRUE))","v":{"$error":"#DIV/0!"}},{"$error":"#DIV/0!"},{"$error":"#DIV/0!"},{"$nulls":3},{"$error":"#DIV/0!"}]
[{"$nulls":8},{"v":0,"d":"0.0"},{"v":0,"d":"0.00"},{"$error":"#DIV/0!"},{"$error":"#DIV/0!"},{"$error":"#DIV/0!"},{"$error":"#DIV/0!"},{"$error":"#DIV/0!"},{"$error":"#DIV/0!"},{"$f":"IF(A200=\"m\",VLOOKUP(K200,Berechnung_Male!$A$1:$D$42,W200,TRUE),VLOOKUP(Eingabeblatt!K200,Berechnung_Female!$A$1:$D$42,W200,TRUE))","v":{"$error":"#DIV/0!"}},{"$error":"#DIV/0!"},{"$error":"#DIV/0!"},{"$nulls":3},{"$error":"#DIV/0!"}]
[{"$nulls":8},{"v":0,"d":"0.0"},{"v":0,"d":"0.00"},{"$error":"#DIV/0!"},{"$error":"#DIV/0!"},{"$error":"#DIV/0!"},{"$error":"#DIV/0!"},{"$error":"#DIV/0!"},{"$error":"#DIV/0!"},{"$f":"IF(A201=\"m\",VLOOKUP(K201,Berechnung_Male!$A$1:$D$42,W201,TRUE),VLOOKUP(Eingabeblatt!K201,Berechnung_Female!$A$1:$D$42,W201,TRUE))","v":{"$error":"#DIV/0!"}},{"$error":"#DIV/0!"},{"$error":"#DIV/0!"},{"$nulls":3},{"$error":"#DIV/0!"}]
[{"$nulls":8},{"v":0,"d":"0.0"},{"v":0,"d":"0.00"},{"$error":"#DIV/0!"},{"$error":"#DIV/0!"},{"$error":"#DIV/0!"},{"$error":"#DIV/0!"},{"$error":"#DIV/0!"},{"$error":"#DIV/0!"},{"$f":"IF(A202=\"m\",VLOOKUP(K202,Berechnung_Male!$A$1:$D$42,W202,TRUE),VLOOKUP(Eingabeblatt!K202,Berechnung_Female!$A$1:$D$42,W202,TRUE))","v":{"$error":"#DIV/0!"}},{"$error":"#DIV/0!"},{"$error":"#DIV/0!"},{"$nulls":3},{"$error":"#DIV/0!"}]
[{"$nulls":8},{"v":0,"d":"0.0"},{"v":0,"d":"0.00"},{"$error":"#DIV/0!"},{"$error":"#DIV/0!"},{"$error":"#DIV/0!"},{"$error":"#DIV/0!"},{"$error":"#DIV/0!"},{"$error":"#DIV/0!"},{"$f":"IF(A203=\"m\",VLOOKUP(K203,Berechnung_Male!$A$1:$D$42,W203,TRUE),VLOOKUP(Eingabeblatt!K203,Berechnung_Female!$A$1:$D$42,W203,TRUE))","v":{"$error":"#DIV/0!"}},{"$error":"#DIV/0!"},{"$error":"#DIV/0!"},{"$nulls":3},{"$error":"#DIV/0!"}]
[{"$nulls":8},{"v":0,"d":"0.0"},{"v":0,"d":"0.00"},{"$error":"#DIV/0!"},{"$error":"#DIV/0!"},{"$error":"#DIV/0!"},{"$error":"#DIV/0!"},{"$error":"#DIV/0!"},{"$error":"#DIV/0!"},{"$f":"IF(A204=\"m\",VLOOKUP(K204,Berechnung_Male!$A$1:$D$42,W204,TRUE),VLOOKUP(Eingabeblatt!K204,Berechnung_Female!$A$1:$D$42,W204,TRUE))","v":{"$error":"#DIV/0!"}},{"$error":"#DIV/0!"},{"$error":"#DIV/0!"},{"$nulls":3},{"$error":"#DIV/0!"}]
[{"$nulls":8},{"v":0,"d":"0.0"},{"v":0,"d":"0.00"},{"$error":"#DIV/0!"},{"$error":"#DIV/0!"},{"$error":"#DIV/0!"},{"$error":"#DIV/0!"},{"$error":"#DIV/0!"},{"$error":"#DIV/0!"},{"$f":"IF(A205=\"m\",VLOOKUP(K205,Berechnung_Male!$A$1:$D$42,W205,TRUE),VLOOKUP(Eingabeblatt!K205,Berechnung_Female!$A$1:$D$42,W205,TRUE))","v":{"$error":"#DIV/0!"}},{"$error":"#DIV/0!"},{"$error":"#DIV/0!"},{"$nulls":3},{"$error":"#DIV/0!"}]
[{"$nulls":8},{"v":0,"d":"0.0"},{"v":0,"d":"0.00"},{"$error":"#DIV/0!"},{"$error":"#DIV/0!"},{"$error":"#DIV/0!"},{"$error":"#DIV/0!"},{"$error":"#DIV/0!"},{"$error":"#DIV/0!"},{"$f":"IF(A206=\"m\",VLOOKUP(K206,Berechnung_Male!$A$1:$D$42,W206,TRUE),VLOOKUP(Eingabeblatt!K206,Berechnung_Female!$A$1:$D$42,W206,TRUE))","v":{"$error":"#DIV/0!"}},{"$error":"#DIV/0!"},{"$error":"#DIV/0!"},{"$nulls":3},{"$error":"#DIV/0!"}]
[{"$nulls":8},{"v":0,"d":"0.0"},{"v":0,"d":"0.00"},{"$error":"#DIV/0!"},{"$error":"#DIV/0!"},{"$error":"#DIV/0!"},{"$error":"#DIV/0!"},{"$error":"#DIV/0!"},{"$error":"#DIV/0!"},{"$f":"IF(A207=\"m\",VLOOKUP(K207,Berechnung_Male!$A$1:$D$42,W207,TRUE),VLOOKUP(Eingabeblatt!K207,Berechnung_Female!$A$1:$D$42,W207,TRUE))","v":{"$error":"#DIV/0!"}},{"$error":"#DIV/0!"},{"$error":"#DIV/0!"},{"$nulls":3},{"$error":"#DIV/0!"}]
[{"$nulls":8},{"v":0,"d":"0.0"},{"v":0,"d":"0.00"},{"$error":"#DIV/0!"},{"$error":"#DIV/0!"},{"$error":"#DIV/0!"},{"$error":"#DIV/0!"},{"$error":"#DIV/0!"},{"$error":"#DIV/0!"},{"$f":"IF(A208=\"m\",VLOOKUP(K208,Berechnung_Male!$A$1:$D$42,W208,TRUE),VLOOKUP(Eingabeblatt!K208,Berechnung_Female!$A$1:$D$42,W208,TRUE))","v":{"$error":"#DIV/0!"}},{"$error":"#DIV/0!"},{"$error":"#DIV/0!"},{"$nulls":3},{"$error":"#DIV/0!"}]
[{"$nulls":8},{"v":0,"d":"0.0"},{"v":0,"d":"0.00"},{"$error":"#DIV/0!"},{"$error":"#DIV/0!"},{"$error":"#DIV/0!"},{"$error":"#DIV/0!"},{"$error":"#DIV/0!"},{"$error":"#DIV/0!"},{"$f":"IF(A209=\"m\",VLOOKUP(K209,Berechnung_Male!$A$1:$D$42,W209,TRUE),VLOOKUP(Eingabeblatt!K209,Berechnung_Female!$A$1:$D$42,W209,TRUE))","v":{"$error":"#DIV/0!"}},{"$error":"#DIV/0!"},{"$error":"#DIV/0!"},{"$nulls":3},{"$error":"#DIV/0!"}]
[{"$nulls":8},{"v":0,"d":"0.0"},{"v":0,"d":"0.00"},{"$error":"#DIV/0!"},{"$error":"#DIV/0!"},{"$error":"#DIV/0!"},{"$error":"#DIV/0!"},{"$error":"#DIV/0!"},{"$error":"#DIV/0!"},{"$f":"IF(A210=\"m\",VLOOKUP(K210,Berechnung_Male!$A$1:$D$42,W210,TRUE),VLOOKUP(Eingabeblatt!K210,Berechnung_Female!$A$1:$D$42,W210,TRUE))","v":{"$error":"#DIV/0!"}},{"$error":"#DIV/0!"},{"$error":"#DIV/0!"},{"$nulls":3},{"$error":"#DIV/0!"}]
[{"$nulls":8},{"v":0,"d":"0.0"},{"v":0,"d":"0.00"},{"$error":"#DIV/0!"},{"$error":"#DIV/0!"},{"$error":"#DIV/0!"},{"$error":"#DIV/0!"},{"$error":"#DIV/0!"},{"$error":"#DIV/0!"},{"$f":"IF(A211=\"m\",VLOOKUP(K211,Berechnung_Male!$A$1:$D$42,W211,TRUE),VLOOKUP(Eingabeblatt!K211,Berechnung_Female!$A$1:$D$42,W211,TRUE))","v":{"$error":"#DIV/0!"}},{"$error":"#DIV/0!"},{"$error":"#DIV/0!"},{"$nulls":3},{"$error":"#DIV/0!"}]
[{"$nulls":8},{"v":0,"d":"0.0"},{"v":0,"d":"0.00"},{"$error":"#DIV/0!"},{"$error":"#DIV/0!"},{"$error":"#DIV/0!"},{"$error":"#DIV/0!"},{"$error":"#DIV/0!"},{"$error":"#DIV/0!"},{"$f":"IF(A212=\"m\",VLOOKUP(K212,Berechnung_Male!$A$1:$D$42,W212,TRUE),VLOOKUP(Eingabeblatt!K212,Berechnung_Female!$A$1:$D$42,W212,TRUE))","v":{"$error":"#DIV/0!"}},{"$error":"#DIV/0!"},{"$error":"#DIV/0!"},{"$nulls":3},{"$error":"#DIV/0!"}]
[{"$nulls":8},{"v":0,"d":"0.0"},{"v":0,"d":"0.00"},{"$error":"#DIV/0!"},{"$error":"#DIV/0!"},{"$error":"#DIV/0!"},{"$error":"#DIV/0!"},{"$error":"#DIV/0!"},{"$error":"#DIV/0!"},{"$f":"IF(A213=\"m\",VLOOKUP(K213,Berechnung_Male!$A$1:$D$42,W213,TRUE),VLOOKUP(Eingabeblatt!K213,Berechnung_Female!$A$1:$D$42,W213,TRUE))","v":{"$error":"#DIV/0!"}},{"$error":"#DIV/0!"},{"$error":"#DIV/0!"},{"$nulls":3},{"$error":"#DIV/0!"}]
[{"$nulls":8},{"v":0,"d":"0.0"},{"v":0,"d":"0.00"},{"$error":"#DIV/0!"},{"$error":"#DIV/0!"},{"$error":"#DIV/0!"},{"$error":"#DIV/0!"},{"$error":"#DIV/0!"},{"$error":"#DIV/0!"},{"$f":"IF(A214=\"m\",VLOOKUP(K214,Berechnung_Male!$A$1:$D$42,W214,TRUE),VLOOKUP(Eingabeblatt!K214,Berechnung_Female!$A$1:$D$42,W214,TRUE))","v":{"$error":"#DIV/0!"}},{"$error":"#DIV/0!"},{"$error":"#DIV/0!"},{"$nulls":3},{"$error":"#DIV/0!"}]
[{"$nulls":8},{"v":0,"d":"0.0"},{"v":0,"d":"0.00"},{"$error":"#DIV/0!"},{"$error":"#DIV/0!"},{"$error":"#DIV/0!"},{"$error":"#DIV/0!"},{"$error":"#DIV/0!"},{"$error":"#DIV/0!"},{"$f":"IF(A215=\"m\",VLOOKUP(K215,Berechnung_Male!$A$1:$D$42,W215,TRUE),VLOOKUP(Eingabeblatt!K215,Berechnung_Female!$A$1:$D$42,W215,TRUE))","v":{"$error":"#DIV/0!"}},{"$error":"#DIV/0!"},{"$error":"#DIV/0!"},{"$nulls":3},{"$error":"#DIV/0!"}]
[{"$nulls":8},{"v":0,"d":"0.0"},{"v":0,"d":"0.00"},{"$error":"#DIV/0!"},{"$error":"#DIV/0!"},{"$error":"#DIV/0!"},{"$error":"#DIV/0!"},{"$error":"#DIV/0!"},{"$error":"#DIV/0!"},{"$f":"IF(A216=\"m\",VLOOKUP(K216,Berechnung_Male!$A$1:$D$42,W216,TRUE),VLOOKUP(Eingabeblatt!K216,Berechnung_Female!$A$1:$D$42,W216,TRUE))","v":{"$error":"#DIV/0!"}},{"$error":"#DIV/0!"},{"$error":"#DIV/0!"},{"$nulls":3},{"$error":"#DIV/0!"}]
[{"$nulls":8},{"v":0,"d":"0.0"},{"v":0,"d":"0.00"},{"$error":"#DIV/0!"},{"$error":"#DIV/0!"},{"$error":"#DIV/0!"},{"$error":"#DIV/0!"},{"$error":"#DIV/0!"},{"$error":"#DIV/0!"},{"$f":"IF(A217=\"m\",VLOOKUP(K217,Berechnung_Male!$A$1:$D$42,W217,TRUE),VLOOKUP(Eingabeblatt!K217,Berechnung_Female!$A$1:$D$42,W217,TRUE))","v":{"$error":"#DIV/0!"}},{"$error":"#DIV/0!"},{"$error":"#DIV/0!"},{"$nulls":3},{"$error":"#DIV/0!"}]
[{"$nulls":8},{"v":0,"d":"0.0"},{"v":0,"d":"0.00"},{"$error":"#DIV/0!"},{"$error":"#DIV/0!"},{"$error":"#DIV/0!"},{"$error":"#DIV/0!"},{"$error":"#DIV/0!"},{"$error":"#DIV/0!"},{"$f":"IF(A218=\"m\",VLOOKUP(K218,Berechnung_Male!$A$1:$D$42,W218,TRUE),VLOOKUP(Eingabeblatt!K218,Berechnung_Female!$A$1:$D$42,W218,TRUE))","v":{"$error":"#DIV/0!"}},{"$error":"#DIV/0!"},{"$error":"#DIV/0!"},{"$nulls":3},{"$error":"#DIV/0!"}]
[{"$nulls":8},{"v":0,"d":"0.0"},{"v":0,"d":"0.00"},{"$error":"#DIV/0!"},{"$error":"#DIV/0!"},{"$error":"#DIV/0!"},{"$error":"#DIV/0!"},{"$error":"#DIV/0!"},{"$error":"#DIV/0!"},{"$f":"IF(A219=\"m\",VLOOKUP(K219,Berechnung_Male!$A$1:$D$42,W219,TRUE),VLOOKUP(Eingabeblatt!K219,Berechnung_Female!$A$1:$D$42,W219,TRUE))","v":{"$error":"#DIV/0!"}},{"$error":"#DIV/0!"},{"$error":"#DIV/0!"},{"$nulls":3},{"$error":"#DIV/0!"}]
[{"$nulls":8},{"v":0,"d":"0.0"},{"v":0,"d":"0.00"},{"$error":"#DIV/0!"},{"$error":"#DIV/0!"},{"$error":"#DIV/0!"},{"$error":"#DIV/0!"},{"$error":"#DIV/0!"},{"$error":"#DIV/0!"},{"$f":"IF(A220=\"m\",VLOOKUP(K220,Berechnung_Male!$A$1:$D$42,W220,TRUE),VLOOKUP(Eingabeblatt!K220,Berechnung_Female!$A$1:$D$42,W220,TRUE))","v":{"$error":"#DIV/0!"}},{"$error":"#DIV/0!"},{"$error":"#DIV/0!"},{"$nulls":3},{"$error":"#DIV/0!"}]
[{"$nulls":8},{"v":0,"d":"0.0"},{"v":0,"d":"0.00"},{"$error":"#DIV/0!"},{"$error":"#DIV/0!"},{"$error":"#DIV/0!"},{"$error":"#DIV/0!"},{"$error":"#DIV/0!"},{"$error":"#DIV/0!"},{"$f":"IF(A221=\"m\",VLOOKUP(K221,Berechnung_Male!$A$1:$D$42,W221,TRUE),VLOOKUP(Eingabeblatt!K221,Berechnung_Female!$A$1:$D$42,W221,TRUE))","v":{"$error":"#DIV/0!"}},{"$error":"#DIV/0!"},{"$error":"#DIV/0!"},{"$nulls":3},{"$error":"#DIV/0!"}]
[{"$nulls":8},{"v":0,"d":"0.0"},{"v":0,"d":"0.00"},{"$error":"#DIV/0!"},{"$error":"#DIV/0!"},{"$error":"#DIV/0!"},{"$error":"#DIV/0!"},{"$error":"#DIV/0!"},{"$error":"#DIV/0!"},{"$f":"IF(A222=\"m\",VLOOKUP(K222,Berechnung_Male!$A$1:$D$42,W222,TRUE),VLOOKUP(Eingabeblatt!K222,Berechnung_Female!$A$1:$D$42,W222,TRUE))","v":{"$error":"#DIV/0!"}},{"$error":"#DIV/0!"},{"$error":"#DIV/0!"},{"$nulls":3},{"$error":"#DIV/0!"}]
[{"$nulls":8},{"v":0,"d":"0.0"},{"v":0,"d":"0.00"},{"$error":"#DIV/0!"},{"$error":"#DIV/0!"},{"$error":"#DIV/0!"},{"$error":"#DIV/0!"},{"$error":"#DIV/0!"},{"$error":"#DIV/0!"},{"$f":"IF(A223=\"m\",VLOOKUP(K223,Berechnung_Male!$A$1:$D$42,W223,TRUE),VLOOKUP(Eingabeblatt!K223,Berechnung_Female!$A$1:$D$42,W223,TRUE))","v":{"$error":"#DIV/0!"}},{"$error":"#DIV/0!"},{"$error":"#DIV/0!"},{"$nulls":3},{"$error":"#DIV/0!"}]
[{"$nulls":8},{"v":0,"d":"0.0"},{"v":0,"d":"0.00"},{"$error":"#DIV/0!"},{"$error":"#DIV/0!"},{"$error":"#DIV/0!"},{"$error":"#DIV/0!"},{"$error":"#DIV/0!"},{"$error":"#DIV/0!"},{"$f":"IF(A224=\"m\",VLOOKUP(K224,Berechnung_Male!$A$1:$D$42,W224,TRUE),VLOOKUP(Eingabeblatt!K224,Berechnung_Female!$A$1:$D$42,W224,TRUE))","v":{"$error":"#DIV/0!"}},{"$error":"#DIV/0!"},{"$error":"#DIV/0!"},{"$nulls":3},{"$error":"#DIV/0!"}]
[{"$nulls":8},{"v":0,"d":"0.0"},{"v":0,"d":"0.00"},{"$error":"#DIV/0!"},{"$error":"#DIV/0!"},{"$error":"#DIV/0!"},{"$error":"#DIV/0!"},{"$error":"#DIV/0!"},{"$error":"#DIV/0!"},{"$f":"IF(A225=\"m\",VLOOKUP(K225,Berechnung_Male!$A$1:$D$42,W225,TRUE),VLOOKUP(Eingabeblatt!K225,Berechnung_Female!$A$1:$D$42,W225,TRUE))","v":{"$error":"#DIV/0!"}},{"$error":"#DIV/0!"},{"$error":"#DIV/0!"},{"$nulls":3},{"$error":"#DIV/0!"}]
[{"$nulls":8},{"v":0,"d":"0.0"},{"v":0,"d":"0.00"},{"$error":"#DIV/0!"},{"$error":"#DIV/0!"},{"$error":"#DIV/0!"},{"$error":"#DIV/0!"},{"$error":"#DIV/0!"},{"$error":"#DIV/0!"},{"$f":"IF(A226=\"m\",VLOOKUP(K226,Berechnung_Male!$A$1:$D$42,W226,TRUE),VLOOKUP(Eingabeblatt!K226,Berechnung_Female!$A$1:$D$42,W226,TRUE))","v":{"$error":"#DIV/0!"}},{"$error":"#DIV/0!"},{"$error":"#DIV/0!"},{"$nulls":3},{"$error":"#DIV/0!"}]
[{"$nulls":8},{"v":0,"d":"0.0"},{"v":0,"d":"0.00"},{"$error":"#DIV/0!"},{"$error":"#DIV/0!"},{"$error":"#DIV/0!"},{"$error":"#DIV/0!"},{"$error":"#DIV/0!"},{"$error":"#DIV/0!"},{"$f":"IF(A227=\"m\",VLOOKUP(K227,Berechnung_Male!$A$1:$D$42,W227,TRUE),VLOOKUP(Eingabeblatt!K227,Berechnung_Female!$A$1:$D$42,W227,TRUE))","v":{"$error":"#DIV/0!"}},{"$error":"#DIV/0!"},{"$error":"#DIV/0!"},{"$nulls":3},{"$error":"#DIV/0!"}]
[{"$nulls":8},{"v":0,"d":"0.0"},{"v":0,"d":"0.00"},{"$error":"#DIV/0!"},{"$error":"#DIV/0!"},{"$error":"#DIV/0!"},{"$error":"#DIV/0!"},{"$error":"#DIV/0!"},{"$error":"#DIV/0!"},{"$f":"IF(A228=\"m\",VLOOKUP(K228,Berechnung_Male!$A$1:$D$42,W228,TRUE),VLOOKUP(Eingabeblatt!K228,Berechnung_Female!$A$1:$D$42,W228,TRUE))","v":{"$error":"#DIV/0!"}},{"$error":"#DIV/0!"},{"$error":"#DIV/0!"},{"$nulls":3},{"$error":"#DIV/0!"}]
[{"$nulls":8},{"v":0,"d":"0.0"},{"v":0,"d":"0.00"},{"$error":"#DIV/0!"},{"$error":"#DIV/0!"},{"$error":"#DIV/0!"},{"$error":"#DIV/0!"},{"$error":"#DIV/0!"},{"$error":"#DIV/0!"},{"$f":"IF(A229=\"m\",VLOOKUP(K229,Berechnung_Male!$A$1:$D$42,W229,TRUE),VLOOKUP(Eingabeblatt!K229,Berechnung_Female!$A$1:$D$42,W229,TRUE))","v":{"$error":"#DIV/0!"}},{"$error":"#DIV/0!"},{"$error":"#DIV/0!"},{"$nulls":3},{"$error":"#DIV/0!"}]
[{"$nulls":8},{"v":0,"d":"0.0"},{"v":0,"d":"0.00"},{"$error":"#DIV/0!"},{"$error":"#DIV/0!"},{"$error":"#DIV/0!"},{"$error":"#DIV/0!"},{"$error":"#DIV/0!"},{"$error":"#DIV/0!"},{"$f":"IF(A230=\"m\",VLOOKUP(K230,Berechnung_Male!$A$1:$D$42,W230,TRUE),VLOOKUP(Eingabeblatt!K230,Berechnung_Female!$A$1:$D$42,W230,TRUE))","v":{"$error":"#DIV/0!"}},{"$error":"#DIV/0!"},{"$error":"#DIV/0!"},{"$nulls":3},{"$error":"#DIV/0!"}]
[{"$nulls":8},{"v":0,"d":"0.0"},{"v":0,"d":"0.00"},{"$error":"#DIV/0!"},{"$error":"#DIV/0!"},{"$error":"#DIV/0!"},{"$error":"#DIV/0!"},{"$error":"#DIV/0!"},{"$error":"#DIV/0!"},{"$f":"IF(A231=\"m\",VLOOKUP(K231,Berechnung_Male!$A$1:$D$42,W231,TRUE),VLOOKUP(Eingabeblatt!K231,Berechnung_Female!$A$1:$D$42,W231,TRUE))","v":{"$error":"#DIV/0!"}},{"$error":"#DIV/0!"},{"$error":"#DIV/0!"},{"$nulls":3},{"$error":"#DIV/0!"}]
[{"$nulls":8},{"v":0,"d":"0.0"},{"v":0,"d":"0.00"},{"$error":"#DIV/0!"},{"$error":"#DIV/0!"},{"$error":"#DIV/0!"},{"$error":"#DIV/0!"},{"$error":"#DIV/0!"},{"$error":"#DIV/0!"},{"$f":"IF(A232=\"m\",VLOOKUP(K232,Berechnung_Male!$A$1:$D$42,W232,TRUE),VLOOKUP(Eingabeblatt!K232,Berechnung_Female!$A$1:$D$42,W232,TRUE))","v":{"$error":"#DIV/0!"}},{"$error":"#DIV/0!"},{"$error":"#DIV/0!"},{"$nulls":3},{"$error":"#DIV/0!"}]
[{"$nulls":8},{"v":0,"d":"0.0"},{"v":0,"d":"0.00"},{"$error":"#DIV/0!"},{"$error":"#DIV/0!"},{"$error":"#DIV/0!"},{"$error":"#DIV/0!"},{"$error":"#DIV/0!"},{"$error":"#DIV/0!"},{"$f":"IF(A233=\"m\",VLOOKUP(K233,Berechnung_Male!$A$1:$D$42,W233,TRUE),VLOOKUP(Eingabeblatt!K233,Berechnung_Female!$A$1:$D$42,W233,TRUE))","v":{"$error":"#DIV/0!"}},{"$error":"#DIV/0!"},{"$error":"#DIV/0!"},{"$nulls":3},{"$error":"#DIV/0!"}]
[{"$nulls":8},{"v":0,"d":"0.0"},{"v":0,"d":"0.00"},{"$error":"#DIV/0!"},{"$error":"#DIV/0!"},{"$error":"#DIV/0!"},{"$error":"#DIV/0!"},{"$error":"#DIV/0!"},{"$error":"#DIV/0!"},{"$f":"IF(A234=\"m\",VLOOKUP(K234,Berechnung_Male!$A$1:$D$42,W234,TRUE),VLOOKUP(Eingabeblatt!K234,Berechnung_Female!$A$1:$D$42,W234,TRUE))","v":{"$error":"#DIV/0!"}},{"$error":"#DIV/0!"},{"$error":"#DIV/0!"},{"$nulls":3},{"$error":"#DIV/0!"}]
[{"$nulls":8},{"v":0,"d":"0.0"},{"v":0,"d":"0.00"},{"$error":"#DIV/0!"},{"$error":"#DIV/0!"},{"$error":"#DIV/0!"},{"$error":"#DIV/0!"},{"$error":"#DIV/0!"},{"$error":"#DIV/0!"},{"$f":"IF(A235=\"m\",VLOOKUP(K235,Berechnung_Male!$A$1:$D$42,W235,TRUE),VLOOKUP(Eingabeblatt!K235,Berechnung_Female!$A$1:$D$42,W235,TRUE))","v":{"$error":"#DIV/0!"}},{"$error":"#DIV/0!"},{"$error":"#DIV/0!"},{"$nulls":3},{"$error":"#DIV/0!"}]
[{"$nulls":8},{"v":0,"d":"0.0"},{"v":0,"d":"0.00"},{"$error":"#DIV/0!"},{"$error":"#DIV/0!"},{"$error":"#DIV/0!"},{"$error":"#DIV/0!"},{"$error":"#DIV/0!"},{"$error":"#DIV/0!"},{"$f":"IF(A236=\"m\",VLOOKUP(K236,Berechnung_Male!$A$1:$D$42,W236,TRUE),VLOOKUP(Eingabeblatt!K236,Berechnung_Female!$A$1:$D$42,W236,TRUE))","v":{"$error":"#DIV/0!"}},{"$error":"#DIV/0!"},{"$error":"#DIV/0!"},{"$nulls":3},{"$error":"#DIV/0!"}]
[{"$nulls":8},{"v":0,"d":"0.0"},{"v":0,"d":"0.00"},{"$error":"#DIV/0!"},{"$error":"#DIV/0!"},{"$error":"#DIV/0!"},{"$error":"#DIV/0!"},{"$error":"#DIV/0!"},{"$error":"#DIV/0!"},{"$f":"IF(A237=\"m\",VLOOKUP(K237,Berechnung_Male!$A$1:$D$42,W237,TRUE),VLOOKUP(Eingabeblatt!K237,Berechnung_Female!$A$1:$D$42,W237,TRUE))","v":{"$error":"#DIV/0!"}},{"$error":"#DIV/0!"},{"$error":"#DIV/0!"},{"$nulls":3},{"$error":"#DIV/0!"}]
[{"$nulls":8},{"v":0,"d":"0.0"},{"v":0,"d":"0.00"},{"$error":"#DIV/0!"},{"$error":"#DIV/0!"},{"$error":"#DIV/0!"},{"$error":"#DIV/0!"},{"$error":"#DIV/0!"},{"$error":"#DIV/0!"},{"$f":"IF(A238=\"m\",VLOOKUP(K238,Berechnung_Male!$A$1:$D$42,W238,TRUE),VLOOKUP(Eingabeblatt!K238,Berechnung_Female!$A$1:$D$42,W238,TRUE))","v":{"$error":"#DIV/0!"}},{"$error":"#DIV/0!"},{"$error":"#DIV/0!"},{"$nulls":3},{"$error":"#DIV/0!"}]
[{"$nulls":8},{"v":0,"d":"0.0"},{"v":0,"d":"0.00"},{"$error":"#DIV/0!"},{"$error":"#DIV/0!"},{"$error":"#DIV/0!"},{"$error":"#DIV/0!"},{"$error":"#DIV/0!"},{"$error":"#DIV/0!"},{"$f":"IF(A239=\"m\",VLOOKUP(K239,Berechnung_Male!$A$1:$D$42,W239,TRUE),VLOOKUP(Eingabeblatt!K239,Berechnung_Female!$A$1:$D$42,W239,TRUE))","v":{"$error":"#DIV/0!"}},{"$error":"#DIV/0!"},{"$error":"#DIV/0!"},{"$nulls":3},{"$error":"#DIV/0!"}]
[{"$nulls":8},{"v":0,"d":"0.0"},{"v":0,"d":"0.00"},{"$error":"#DIV/0!"},{"$error":"#DIV/0!"},{"$error":"#DIV/0!"},{"$error":"#DIV/0!"},{"$error":"#DIV/0!"},{"$error":"#DIV/0!"},{"$f":"IF(A240=\"m\",VLOOKUP(K240,Berechnung_Male!$A$1:$D$42,W240,TRUE),VLOOKUP(Eingabeblatt!K240,Berechnung_Female!$A$1:$D$42,W240,TRUE))","v":{"$error":"#DIV/0!"}},{"$error":"#DIV/0!"},{"$error":"#DIV/0!"},{"$nulls":3},{"$error":"#DIV/0!"}]
[{"$nulls":8},{"v":0,"d":"0.0"},{"v":0,"d":"0.00"},{"$error":"#DIV/0!"},{"$error":"#DIV/0!"},{"$error":"#DIV/0!"},{"$error":"#DIV/0!"},{"$error":"#DIV/0!"},{"$error":"#DIV/0!"},{"$f":"IF(A241=\"m\",VLOOKUP(K241,Berechnung_Male!$A$1:$D$42,W241,TRUE),VLOOKUP(Eingabeblatt!K241,Berechnung_Female!$A$1:$D$42,W241,TRUE))","v":{"$error":"#DIV/0!"}},{"$error":"#DIV/0!"},{"$error":"#DIV/0!"},{"$nulls":3},{"$error":"#DIV/0!"}]
[{"$nulls":8},{"v":0,"d":"0.0"},{"v":0,"d":"0.00"},{"$error":"#DIV/0!"},{"$error":"#DIV/0!"},{"$error":"#DIV/0!"},{"$error":"#DIV/0!"},{"$error":"#DIV/0!"},{"$error":"#DIV/0!"},{"$f":"IF(A242=\"m\",VLOOKUP(K242,Berechnung_Male!$A$1:$D$42,W242,TRUE),VLOOKUP(Eingabeblatt!K242,Berechnung_Female!$A$1:$D$42,W242,TRUE))","v":{"$error":"#DIV/0!"}},{"$error":"#DIV/0!"},{"$error":"#DIV/0!"},{"$nulls":3},{"$error":"#DIV/0!"}]
[{"$nulls":8},{"v":0,"d":"0.0"},{"v":0,"d":"0.00"},{"$error":"#DIV/0!"},{"$error":"#DIV/0!"},{"$error":"#DIV/0!"},{"$error":"#DIV/0!"},{"$error":"#DIV/0!"},{"$error":"#DIV/0!"},{"$f":"IF(A243=\"m\",VLOOKUP(K243,Berechnung_Male!$A$1:$D$42,W243,TRUE),VLOOKUP(Eingabeblatt!K243,Berechnung_Female!$A$1:$D$42,W243,TRUE))","v":{"$error":"#DIV/0!"}},{"$error":"#DIV/0!"},{"$error":"#DIV/0!"},{"$nulls":3},{"$error":"#DIV/0!"}]
[{"$nulls":8},{"v":0,"d":"0.0"},{"v":0,"d":"0.00"},{"$error":"#DIV/0!"},{"$error":"#DIV/0!"},{"$error":"#DIV/0!"},{"$error":"#DIV/0!"},{"$error":"#DIV/0!"},{"$error":"#DIV/0!"},{"$f":"IF(A244=\"m\",VLOOKUP(K244,Berechnung_Male!$A$1:$D$42,W244,TRUE),VLOOKUP(Eingabeblatt!K244,Berechnung_Female!$A$1:$D$42,W244,TRUE))","v":{"$error":"#DIV/0!"}},{"$error":"#DIV/0!"},{"$error":"#DIV/0!"},{"$nulls":3},{"$error":"#DIV/0!"}]
[{"$nulls":8},{"v":0,"d":"0.0"},{"v":0,"d":"0.00"},{"$error":"#DIV/0!"},{"$error":"#DIV/0!"},{"$error":"#DIV/0!"},{"$error":"#DIV/0!"},{"$error":"#DIV/0!"},{"$error":"#DIV/0!"},{"$f":"IF(A245=\"m\",VLOOKUP(K245,Berechnung_Male!$A$1:$D$42,W245,TRUE),VLOOKUP(Eingabeblatt!K245,Berechnung_Female!$A$1:$D$42,W245,TRUE))","v":{"$error":"#DIV/0!"}},{"$error":"#DIV/0!"},{"$error":"#DIV/0!"},{"$nulls":3},{"$error":"#DIV/0!"}]
[{"$nulls":8},{"v":0,"d":"0.0"},{"v":0,"d":"0.00"},{"$error":"#DIV/0!"},{"$error":"#DIV/0!"},{"$error":"#DIV/0!"},{"$error":"#DIV/0!"},{"$error":"#DIV/0!"},{"$error":"#DIV/0!"},{"$f":"IF(A246=\"m\",VLOOKUP(K246,Berechnung_Male!$A$1:$D$42,W246,TRUE),VLOOKUP(Eingabeblatt!K246,Berechnung_Female!$A$1:$D$42,W246,TRUE))","v":{"$error":"#DIV/0!"}},{"$error":"#DIV/0!"},{"$error":"#DIV/0!"},{"$nulls":3},{"$error":"#DIV/0!"}]
[{"$nulls":8},{"v":0,"d":"0.0"},{"v":0,"d":"0.00"},{"$error":"#DIV/0!"},{"$error":"#DIV/0!"},{"$error":"#DIV/0!"},{"$error":"#DIV/0!"},{"$error":"#DIV/0!"},{"$error":"#DIV/0!"},{"$f":"IF(A247=\"m\",VLOOKUP(K247,Berechnung_Male!$A$1:$D$42,W247,TRUE),VLOOKUP(Eingabeblatt!K247,Berechnung_Female!$A$1:$D$42,W247,TRUE))","v":{"$error":"#DIV/0!"}},{"$error":"#DIV/0!"},{"$error":"#DIV/0!"},{"$nulls":3},{"$error":"#DIV/0!"}]
[{"$nulls":8},{"v":0,"d":"0.0"},{"v":0,"d":"0.00"},{"$error":"#DIV/0!"},{"$error":"#DIV/0!"},{"$error":"#DIV/0!"},{"$error":"#DIV/0!"},{"$error":"#DIV/0!"},{"$error":"#DIV/0!"},{"$f":"IF(A248=\"m\",VLOOKUP(K248,Berechnung_Male!$A$1:$D$42,W248,TRUE),VLOOKUP(Eingabeblatt!K248,Berechnung_Female!$A$1:$D$42,W248,TRUE))","v":{"$error":"#DIV/0!"}},{"$error":"#DIV/0!"},{"$error":"#DIV/0!"},{"$nulls":3},{"$error":"#DIV/0!"}]
[{"$nulls":8},{"v":0,"d":"0.0"},{"v":0,"d":"0.00"},{"$error":"#DIV/0!"},{"$error":"#DIV/0!"},{"$error":"#DIV/0!"},{"$error":"#DIV/0!"},{"$error":"#DIV/0!"},{"$error":"#DIV/0!"},{"$f":"IF(A249=\"m\",VLOOKUP(K249,Berechnung_Male!$A$1:$D$42,W249,TRUE),VLOOKUP(Eingabeblatt!K249,Berechnung_Female!$A$1:$D$42,W249,TRUE))","v":{"$error":"#DIV/0!"}},{"$error":"#DIV/0!"},{"$error":"#DIV/0!"},{"$nulls":3},{"$error":"#DIV/0!"}]
[{"$nulls":8},{"v":0,"d":"0.0"},{"v":0,"d":"0.00"},{"$error":"#DIV/0!"},{"$error":"#DIV/0!"},{"$error":"#DIV/0!"},{"$error":"#DIV/0!"},{"$error":"#DIV/0!"},{"$error":"#DIV/0!"},{"$f":"IF(A250=\"m\",VLOOKUP(K250,Berechnung_Male!$A$1:$D$42,W250,TRUE),VLOOKUP(Eingabeblatt!K250,Berechnung_Female!$A$1:$D$42,W250,TRUE))","v":{"$error":"#DIV/0!"}},{"$error":"#DIV/0!"},{"$error":"#DIV/0!"},{"$nulls":3},{"$error":"#DIV/0!"}]
[{"$nulls":8},{"v":0,"d":"0.0"},{"v":0,"d":"0.00"},{"$error":"#DIV/0!"},{"$error":"#DIV/0!"},{"$error":"#DIV/0!"},{"$error":"#DIV/0!"},{"$error":"#DIV/0!"},{"$error":"#DIV/0!"},{"$f":"IF(A251=\"m\",VLOOKUP(K251,Berechnung_Male!$A$1:$D$42,W251,TRUE),VLOOKUP(Eingabeblatt!K251,Berechnung_Female!$A$1:$D$42,W251,TRUE))","v":{"$error":"#DIV/0!"}},{"$error":"#DIV/0!"},{"$error":"#DIV/0!"},{"$nulls":3},{"$error":"#DIV/0!"}]
[{"$nulls":8},{"v":0,"d":"0.0"},{"v":0,"d":"0.00"},{"$error":"#DIV/0!"},{"$error":"#DIV/0!"},{"$error":"#DIV/0!"},{"$error":"#DIV/0!"},{"$error":"#DIV/0!"},{"$error":"#DIV/0!"},{"$f":"IF(A252=\"m\",VLOOKUP(K252,Berechnung_Male!$A$1:$D$42,W252,TRUE),VLOOKUP(Eingabeblatt!K252,Berechnung_Female!$A$1:$D$42,W252,TRUE))","v":{"$error":"#DIV/0!"}},{"$error":"#DIV/0!"},{"$error":"#DIV/0!"},{"$nulls":3},{"$error":"#DIV/0!"}]
[{"$nulls":8},{"v":0,"d":"0.0"},{"v":0,"d":"0.00"},{"$error":"#DIV/0!"},{"$error":"#DIV/0!"},{"$error":"#DIV/0!"},{"$error":"#DIV/0!"},{"$error":"#DIV/0!"},{"$error":"#DIV/0!"},{"$f":"IF(A253=\"m\",VLOOKUP(K253,Berechnung_Male!$A$1:$D$42,W253,TRUE),VLOOKUP(Eingabeblatt!K253,Berechnung_Female!$A$1:$D$42,W253,TRUE))","v":{"$error":"#DIV/0!"}},{"$error":"#DIV/0!"},{"$error":"#DIV/0!"},{"$nulls":3},{"$error":"#DIV/0!"}]
[{"$nulls":8},{"v":0,"d":"0.0"},{"v":0,"d":"0.00"},{"$error":"#DIV/0!"},{"$error":"#DIV/0!"},{"$error":"#DIV/0!"},{"$error":"#DIV/0!"},{"$error":"#DIV/0!"},{"$error":"#DIV/0!"},{"$f":"IF(A254=\"m\",VLOOKUP(K254,Berechnung_Male!$A$1:$D$42,W254,TRUE),VLOOKUP(Eingabeblatt!K254,Berechnung_Female!$A$1:$D$42,W254,TRUE))","v":{"$error":"#DIV/0!"}},{"$error":"#DIV/0!"},{"$error":"#DIV/0!"},{"$nulls":3},{"$error":"#DIV/0!"}]
[{"$nulls":8},{"v":0,"d":"0.0"},{"v":0,"d":"0.00"},{"$error":"#DIV/0!"},{"$error":"#DIV/0!"},{"$error":"#DIV/0!"},{"$error":"#DIV/0!"},{"$error":"#DIV/0!"},{"$error":"#DIV/0!"},{"$f":"IF(A255=\"m\",VLOOKUP(K255,Berechnung_Male!$A$1:$D$42,W255,TRUE),VLOOKUP(Eingabeblatt!K255,Berechnung_Female!$A$1:$D$42,W255,TRUE))","v":{"$error":"#DIV/0!"}},{"$error":"#DIV/0!"},{"$error":"#DIV/0!"},{"$nulls":3},{"$error":"#DIV/0!"}]
[{"$nulls":8},{"v":0,"d":"0.0"},{"v":0,"d":"0.00"},{"$error":"#DIV/0!"},{"$error":"#DIV/0!"},{"$error":"#DIV/0!"},{"$error":"#DIV/0!"},{"$error":"#DIV/0!"},{"$error":"#DIV/0!"},{"$f":"IF(A256=\"m\",VLOOKUP(K256,Berechnung_Male!$A$1:$D$42,W256,TRUE),VLOOKUP(Eingabeblatt!K256,Berechnung_Female!$A$1:$D$42,W256,TRUE))","v":{"$error":"#DIV/0!"}},{"$error":"#DIV/0!"},{"$error":"#DIV/0!"},{"$nulls":3},{"$error":"#DIV/0!"}]
[{"$nulls":8},{"v":0,"d":"0.0"},{"v":0,"d":"0.00"},{"$error":"#DIV/0!"},{"$error":"#DIV/0!"},{"$error":"#DIV/0!"},{"$error":"#DIV/0!"},{"$error":"#DIV/0!"},{"$error":"#DIV/0!"},{"$f":"IF(A257=\"m\",VLOOKUP(K257,Berechnung_Male!$A$1:$D$42,W257,TRUE),VLOOKUP(Eingabeblatt!K257,Berechnung_Female!$A$1:$D$42,W257,TRUE))","v":{"$error":"#DIV/0!"}},{"$error":"#DIV/0!"},{"$error":"#DIV/0!"},{"$nulls":3},{"$error":"#DIV/0!"}]
[{"$nulls":8},{"v":0,"d":"0.0"},{"v":0,"d":"0.00"},{"$error":"#DIV/0!"},{"$error":"#DIV/0!"},{"$error":"#DIV/0!"},{"$error":"#DIV/0!"},{"$error":"#DIV/0!"},{"$error":"#DIV/0!"},{"$f":"IF(A258=\"m\",VLOOKUP(K258,Berechnung_Male!$A$1:$D$42,W258,TRUE),VLOOKUP(Eingabeblatt!K258,Berechnung_Female!$A$1:$D$42,W258,TRUE))","v":{"$error":"#DIV/0!"}},{"$error":"#DIV/0!"},{"$error":"#DIV/0!"},{"$nulls":3},{"$error":"#DIV/0!"}]
[{"$nulls":8},{"v":0,"d":"0.0"},{"v":0,"d":"0.00"},{"$error":"#DIV/0!"},{"$error":"#DIV/0!"},{"$error":"#DIV/0!"},{"$error":"#DIV/0!"},{"$error":"#DIV/0!"},{"$error":"#DIV/0!"},{"$f":"IF(A259=\"m\",VLOOKUP(K259,Berechnung_Male!$A$1:$D$42,W259,TRUE),VLOOKUP(Eingabeblatt!K259,Berechnung_Female!$A$1:$D$42,W259,TRUE))","v":{"$error":"#DIV/0!"}},{"$error":"#DIV/0!"},{"$error":"#DIV/0!"},{"$nulls":3},{"$error":"#DIV/0!"}]
[{"$nulls":8},{"v":0,"d":"0.0"},{"v":0,"d":"0.00"},{"$error":"#DIV/0!"},{"$error":"#DIV/0!"},{"$error":"#DIV/0!"},{"$error":"#DIV/0!"},{"$error":"#DIV/0!"},{"$error":"#DIV/0!"},{"$f":"IF(A260=\"m\",VLOOKUP(K260,Berechnung_Male!$A$1:$D$42,W260,TRUE),VLOOKUP(Eingabeblatt!K260,Berechnung_Female!$A$1:$D$42,W260,TRUE))","v":{"$error":"#DIV/0!"}},{"$error":"#DIV/0!"},{"$error":"#DIV/0!"},{"$nulls":3},{"$error":"#DIV/0!"}]
[{"$nulls":8},{"v":0,"d":"0.0"},{"v":0,"d":"0.00"},{"$error":"#DIV/0!"},{"$error":"#DIV/0!"},{"$error":"#DIV/0!"},{"$error":"#DIV/0!"},{"$error":"#DIV/0!"},{"$error":"#DIV/0!"},{"$f":"IF(A261=\"m\",VLOOKUP(K261,Berechnung_Male!$A$1:$D$42,W261,TRUE),VLOOKUP(Eingabeblatt!K261,Berechnung_Female!$A$1:$D$42,W261,TRUE))","v":{"$error":"#DIV/0!"}},{"$error":"#DIV/0!"},{"$error":"#DIV/0!"},{"$nulls":3},{"$error":"#DIV/0!"}]
[{"$nulls":8},{"$f":"G262-H262","v":{"v":0,"d":"0.0"}},{"$f":"(B262-E262)/365.25","v":{"v":0,"d":"0.00"}},{"$f":"IF(A262=\"m\",(-9.236+(0.0002708*I262*H262)+(-0.001663*J262*I262)+(0.007216*J262*H262)+(0.02292*F262/G262*100)),(-9.376+(0.0001882*I262*H262)+(0.0022*J262*I262)+(0.005841*J262*H262)-(0.002658*J262*F262)+(0.07693*(F262/G262)*100)))","v":{"$error":"#DIV/0!"}},{"$f":"J262-K262","v":{"$error":"#DIV/0!"}},{"$f":"IF(A262=\"m\",(IF(L262<12.8,1,IF(L262>14.8,3,2))),(IF(L262<11,1,IF(L262>13,3,2))))","v":{"$error":"#DIV/0!"}},{"$f":"IF(M262=1,\"Früh / précoce\",IF(M262=2,\"Durchschnittlich / Normal\",\"Spät / Tardif\"))","v":{"$error":"#DIV/0!"}},{"$f":"IF(A262=\"m\",(IF(L262<12.8,1,IF(L262<13.3,2,IF(L262>14.8,5,IF(L262>14.3,4,3))))),(IF(L262<11,1,IF(L262<11.5,2,IF(L262>13,5,IF(L262>12.5,4,3))))))","v":{"$error":"#DIV/0!"}},{"$f":"IF(O262=1,\"Früh / précoce\",IF(O262=2,\"Möglicherweise Früh / éventuellement précoce\", IF(O262=3,\"Durchschnittlich / Normal\",IF(O262=4,\"Möglicherweise spät / éventuellement tardif\",\"Spät / Tardif\"))))","v":{"$error":"#DIV/0!"}},{"$f":"IF(A262=\"m\",VLOOKUP(K262,Berechnung_Male!$A$1:$D$42,W262,TRUE),VLOOKUP(Eingabeblatt!K262,Berechnung_Female!$A$1:$D$42,W262,TRUE))","v":{"$error":"#DIV/0!"}},{"$f":"G262+Q262","v":{"$error":"#DIV/0!"}},{"$f":"G262/R262","v":{"$error":"#DIV/0!"}},{"$nulls":3},{"$f":"IF(A262=\"m\",IF(L262<12.8,2,IF(L262<14.8,3,4)),IF(L262<11,2,IF(L262<13,3,4)))","v":{"$error":"#DIV/0!"}}]
[{"$nulls":8},{"v":0,"d":"0.0"},{"v":0,"d":"0.00"},{"$error":"#DIV/0!"},{"$error":"#DIV/0!"},{"$error":"#DIV/0!"},{"$error":"#DIV/0!"},{"$error":"#DIV/0!"},{"$error":"#DIV/0!"},{"$f":"IF(A263=\"m\",VLOOKUP(K263,Berechnung_Male!$A$1:$D$42,W263,TRUE),VLOOKUP(Eingabeblatt!K263,Berechnung_Female!$A$1:$D$42,W263,TRUE))","v":{"$error":"#DIV/0!"}},{"$error":"#DIV/0!"},{"$error":"#DIV/0!"},{"$nulls":3},{"$error":"#DIV/0!"}]
[{"$nulls":8},{"v":0,"d":"0.0"},{"v":0,"d":"0.00"},{"$error":"#DIV/0!"},{"$error":"#DIV/0!"},{"$error":"#DIV/0!"},{"$error":"#DIV/0!"},{"$error":"#DIV/0!"},{"$error":"#DIV/0!"},{"$f":"IF(A264=\"m\",VLOOKUP(K264,Berechnung_Male!$A$1:$D$42,W264,TRUE),VLOOKUP(Eingabeblatt!K264,Berechnung_Female!$A$1:$D$42,W264,TRUE))","v":{"$error":"#DIV/0!"}},{"$error":"#DIV/0!"},{"$error":"#DIV/0!"},{"$nulls":3},{"$error":"#DIV/0!"}]
[{"$nulls":8},{"v":0,"d":"0.0"},{"v":0,"d":"0.00"},{"$error":"#DIV/0!"},{"$error":"#DIV/0!"},{"$error":"#DIV/0!"},{"$error":"#DIV/0!"},{"$error":"#DIV/0!"},{"$error":"#DIV/0!"},{"$f":"IF(A265=\"m\",VLOOKUP(K265,Berechnung_Male!$A$1:$D$42,W265,TRUE),VLOOKUP(Eingabeblatt!K265,Berechnung_Female!$A$1:$D$42,W265,TRUE))","v":{"$error":"#DIV/0!"}},{"$error":"#DIV/0!"},{"$error":"#DIV/0!"},{"$nulls":3},{"$error":"#DIV/0!"}]
[{"$nulls":8},{"v":0,"d":"0.0"},{"v":0,"d":"0.00"},{"$error":"#DIV/0!"},{"$error":"#DIV/0!"},{"$error":"#DIV/0!"},{"$error":"#DIV/0!"},{"$error":"#DIV/0!"},{"$error":"#DIV/0!"},{"$f":"IF(A266=\"m\",VLOOKUP(K266,Berechnung_Male!$A$1:$D$42,W266,TRUE),VLOOKUP(Eingabeblatt!K266,Berechnung_Female!$A$1:$D$42,W266,TRUE))","v":{"$error":"#DIV/0!"}},{"$error":"#DIV/0!"},{"$error":"#DIV/0!"},{"$nulls":3},{"$error":"#DIV/0!"}]
[{"$nulls":8},{"v":0,"d":"0.0"},{"v":0,"d":"0.00"},{"$error":"#DIV/0!"},{"$error":"#DIV/0!"},{"$error":"#DIV/0!"},{"$error":"#DIV/0!"},{"$error":"#DIV/0!"},{"$error":"#DIV/0!"},{"$f":"IF(A267=\"m\",VLOOKUP(K267,Berechnung_Male!$A$1:$D$42,W267,TRUE),VLOOKUP(Eingabeblatt!K267,Berechnung_Female!$A$1:$D$42,W267,TRUE))","v":{"$error":"#DIV/0!"}},{"$error":"#DIV/0!"},{"$error":"#DIV/0!"},{"$nulls":3},{"$error":"#DIV/0!"}]
[{"$nulls":8},{"v":0,"d":"0.0"},{"v":0,"d":"0.00"},{"$error":"#DIV/0!"},{"$error":"#DIV/0!"},{"$error":"#DIV/0!"},{"$error":"#DIV/0!"},{"$error":"#DIV/0!"},{"$error":"#DIV/0!"},{"$f":"IF(A268=\"m\",VLOOKUP(K268,Berechnung_Male!$A$1:$D$42,W268,TRUE),VLOOKUP(Eingabeblatt!K268,Berechnung_Female!$A$1:$D$42,W268,TRUE))","v":{"$error":"#DIV/0!"}},{"$error":"#DIV/0!"},{"$error":"#DIV/0!"},{"$nulls":3},{"$error":"#DIV/0!"}]
[{"$nulls":8},{"v":0,"d":"0.0"},{"v":0,"d":"0.00"},{"$error":"#DIV/0!"},{"$error":"#DIV/0!"},{"$error":"#DIV/0!"},{"$error":"#DIV/0!"},{"$error":"#DIV/0!"},{"$error":"#DIV/0!"},{"$f":"IF(A269=\"m\",VLOOKUP(K269,Berechnung_Male!$A$1:$D$42,W269,TRUE),VLOOKUP(Eingabeblatt!K269,Berechnung_Female!$A$1:$D$42,W269,TRUE))","v":{"$error":"#DIV/0!"}},{"$error":"#DIV/0!"},{"$error":"#DIV/0!"},{"$nulls":3},{"$error":"#DIV/0!"}]
[{"$nulls":8},{"v":0,"d":"0.0"},{"v":0,"d":"0.00"},{"$error":"#DIV/0!"},{"$error":"#DIV/0!"},{"$error":"#DIV/0!"},{"$error":"#DIV/0!"},{"$error":"#DIV/0!"},{"$error":"#DIV/0!"},{"$f":"IF(A270=\"m\",VLOOKUP(K270,Berechnung_Male!$A$1:$D$42,W270,TRUE),VLOOKUP(Eingabeblatt!K270,Berechnung_Female!$A$1:$D$42,W270,TRUE))","v":{"$error":"#DIV/0!"}},{"$error":"#DIV/0!"},{"$error":"#DIV/0!"},{"$nulls":3},{"$error":"#DIV/0!"}]
[{"$nulls":8},{"v":0,"d":"0.0"},{"v":0,"d":"0.00"},{"$error":"#DIV/0!"},{"$error":"#DIV/0!"},{"$error":"#DIV/0!"},{"$error":"#DIV/0!"},{"$error":"#DIV/0!"},{"$error":"#DIV/0!"},{"$f":"IF(A271=\"m\",VLOOKUP(K271,Berechnung_Male!$A$1:$D$42,W271,TRUE),VLOOKUP(Eingabeblatt!K271,Berechnung_Female!$A$1:$D$42,W271,TRUE))","v":{"$error":"#DIV/0!"}},{"$error":"#DIV/0!"},{"$error":"#DIV/0!"},{"$nulls":3},{"$error":"#DIV/0!"}]
[{"$nulls":8},{"v":0,"d":"0.0"},{"v":0,"d":"0.00"},{"$error":"#DIV/0!"},{"$error":"#DIV/0!"},{"$error":"#DIV/0!"},{"$error":"#DIV/0!"},{"$error":"#DIV/0!"},{"$error":"#DIV/0!"},{"$f":"IF(A272=\"m\",VLOOKUP(K272,Berechnung_Male!$A$1:$D$42,W272,TRUE),VLOOKUP(Eingabeblatt!K272,Berechnung_Female!$A$1:$D$42,W272,TRUE))","v":{"$error":"#DIV/0!"}},{"$error":"#DIV/0!"},{"$error":"#DIV/0!"},{"$nulls":3},{"$error":"#DIV/0!"}]
[{"$nulls":8},{"v":0,"d":"0.0"},{"v":0,"d":"0.00"},{"$error":"#DIV/0!"},{"$error":"#DIV/0!"},{"$error":"#DIV/0!"},{"$error":"#DIV/0!"},{"$error":"#DIV/0!"},{"$error":"#DIV/0!"},{"$f":"IF(A273=\"m\",VLOOKUP(K273,Berechnung_Male!$A$1:$D$42,W273,TRUE),VLOOKUP(Eingabeblatt!K273,Berechnung_Female!$A$1:$D$42,W273,TRUE))","v":{"$error":"#DIV/0!"}},{"$error":"#DIV/0!"},{"$error":"#DIV/0!"},{"$nulls":3},{"$error":"#DIV/0!"}]
[{"$nulls":8},{"v":0,"d":"0.0"},{"v":0,"d":"0.00"},{"$error":"#DIV/0!"},{"$error":"#DIV/0!"},{"$error":"#DIV/0!"},{"$error":"#DIV/0!"},{"$error":"#DIV/0!"},{"$error":"#DIV/0!"},{"$f":"IF(A274=\"m\",VLOOKUP(K274,Berechnung_Male!$A$1:$D$42,W274,TRUE),VLOOKUP(Eingabeblatt!K274,Berechnung_Female!$A$1:$D$42,W274,TRUE))","v":{"$error":"#DIV/0!"}},{"$error":"#DIV/0!"},{"$error":"#DIV/0!"},{"$nulls":3},{"$error":"#DIV/0!"}]
[{"$nulls":8},{"v":0,"d":"0.0"},{"v":0,"d":"0.00"},{"$error":"#DIV/0!"},{"$error":"#DIV/0!"},{"$error":"#DIV/0!"},{"$error":"#DIV/0!"},{"$error":"#DIV/0!"},{"$error":"#DIV/0!"},{"$f":"IF(A275=\"m\",VLOOKUP(K275,Berechnung_Male!$A$1:$D$42,W275,TRUE),VLOOKUP(Eingabeblatt!K275,Berechnung_Female!$A$1:$D$42,W275,TRUE))","v":{"$error":"#DIV/0!"}},{"$error":"#DIV/0!"},{"$error":"#DIV/0!"},{"$nulls":3},{"$error":"#DIV/0!"}]
[{"$nulls":8},{"v":0,"d":"0.0"},{"v":0,"d":"0.00"},{"$error":"#DIV/0!"},{"$error":"#DIV/0!"},{"$error":"#DIV/0!"},{"$error":"#DIV/0!"},{"$error":"#DIV/0!"},{"$error":"#DIV/0!"},{"$f":"IF(A276=\"m\",VLOOKUP(K276,Berechnung_Male!$A$1:$D$42,W276,TRUE),VLOOKUP(Eingabeblatt!K276,Berechnung_Female!$A$1:$D$42,W276,TRUE))","v":{"$error":"#DIV/0!"}},{"$error":"#DIV/0!"},{"$error":"#DIV/0!"},{"$nulls":3},{"$error":"#DIV/0!"}]
[{"$nulls":8},{"v":0,"d":"0.0"},{"v":0,"d":"0.00"},{"$error":"#DIV/0!"},{"$error":"#DIV/0!"},{"$error":"#DIV/0!"},{"$error":"#DIV/0!"},{"$error":"#DIV/0!"},{"$error":"#DIV/0!"},{"$f":"IF(A277=\"m\",VLOOKUP(K277,Berechnung_Male!$A$1:$D$42,W277,TRUE),VLOOKUP(Eingabeblatt!K277,Berechnung_Female!$A$1:$D$42,W277,TRUE))","v":{"$error":"#DIV/0!"}},{"$error":"#DIV/0!"},{"$error":"#DIV/0!"},{"$nulls":3},{"$error":"#DIV/0!"}]
[{"$nulls":8},{"v":0,"d":"0.0"},{"v":0,"d":"0.00"},{"$error":"#DIV/0!"},{"$error":"#DIV/0!"},{"$error":"#DIV/0!"},{"$error":"#DIV/0!"},{"$error":"#DIV/0!"},{"$error":"#DIV/0!"},{"$f":"IF(A278=\"m\",VLOOKUP(K278,Berechnung_Male!$A$1:$D$42,W278,TRUE),VLOOKUP(Eingabeblatt!K278,Berechnung_Female!$A$1:$D$42,W278,TRUE))","v":{"$error":"#DIV/0!"}},{"$error":"#DIV/0!"},{"$error":"#DIV/0!"},{"$nulls":3},{"$error":"#DIV/0!"}]
[{"$nulls":8},{"v":0,"d":"0.0"},{"v":0,"d":"0.00"},{"$error":"#DIV/0!"},{"$error":"#DIV/0!"},{"$error":"#DIV/0!"},{"$error":"#DIV/0!"},{"$error":"#DIV/0!"},{"$error":"#DIV/0!"},{"$f":"IF(A279=\"m\",VLOOKUP(K279,Berechnung_Male!$A$1:$D$42,W279,TRUE),VLOOKUP(Eingabeblatt!K279,Berechnung_Female!$A$1:$D$42,W279,TRUE))","v":{"$error":"#DIV/0!"}},{"$error":"#DIV/0!"},{"$error":"#DIV/0!"},{"$nulls":3},{"$error":"#DIV/0!"}]
[{"$nulls":8},{"v":0,"d":"0.0"},{"v":0,"d":"0.00"},{"$error":"#DIV/0!"},{"$error":"#DIV/0!"},{"$error":"#DIV/0!"},{"$error":"#DIV/0!"},{"$error":"#DIV/0!"},{"$error":"#DIV/0!"},{"$f":"IF(A280=\"m\",VLOOKUP(K280,Berechnung_Male!$A$1:$D$42,W280,TRUE),VLOOKUP(Eingabeblatt!K280,Berechnung_Female!$A$1:$D$42,W280,TRUE))","v":{"$error":"#DIV/0!"}},{"$error":"#DIV/0!"},{"$error":"#DIV/0!"},{"$nulls":3},{"$error":"#DIV/0!"}]
[{"$nulls":8},{"v":0,"d":"0.0"},{"v":0,"d":"0.00"},{"$error":"#DIV/0!"},{"$error":"#DIV/0!"},{"$error":"#DIV/0!"},{"$error":"#DIV/0!"},{"$error":"#DIV/0!"},{"$error":"#DIV/0!"},{"$f":"IF(A281=\"m\",VLOOKUP(K281,Berechnung_Male!$A$1:$D$42,W281,TRUE),VLOOKUP(Eingabeblatt!K281,Berechnung_Female!$A$1:$D$42,W281,TRUE))","v":{"$error":"#DIV/0!"}},{"$error":"#DIV/0!"},{"$error":"#DIV/0!"},{"$nulls":3},{"$error":"#DIV/0!"}]
[{"$nulls":8},{"v":0,"d":"0.0"},{"v":0,"d":"0.00"},{"$error":"#DIV/0!"},{"$error":"#DIV/0!"},{"$error":"#DIV/0!"},{"$error":"#DIV/0!"},{"$error":"#DIV/0!"},{"$error":"#DIV/0!"},{"$f":"IF(A282=\"m\",VLOOKUP(K282,Berechnung_Male!$A$1:$D$42,W282,TRUE),VLOOKUP(Eingabeblatt!K282,Berechnung_Female!$A$1:$D$42,W282,TRUE))","v":{"$error":"#DIV/0!"}},{"$error":"#DIV/0!"},{"$error":"#DIV/0!"},{"$nulls":3},{"$error":"#DIV/0!"}]
[{"$nulls":8},{"v":0,"d":"0.0"},{"v":0,"d":"0.00"},{"$error":"#DIV/0!"},{"$error":"#DIV/0!"},{"$error":"#DIV/0!"},{"$error":"#DIV/0!"},{"$error":"#DIV/0!"},{"$error":"#DIV/0!"},{"$f":"IF(A283=\"m\",VLOOKUP(K283,Berechnung_Male!$A$1:$D$42,W283,TRUE),VLOOKUP(Eingabeblatt!K283,Berechnung_Female!$A$1:$D$42,W283,TRUE))","v":{"$error":"#DIV/0!"}},{"$error":"#DIV/0!"},{"$error":"#DIV/0!"},{"$nulls":3},{"$error":"#DIV/0!"}]
[{"$nulls":8},{"v":0,"d":"0.0"},{"v":0,"d":"0.00"},{"$error":"#DIV/0!"},{"$error":"#DIV/0!"},{"$error":"#DIV/0!"},{"$error":"#DIV/0!"},{"$error":"#DIV/0!"},{"$error":"#DIV/0!"},{"$f":"IF(A284=\"m\",VLOOKUP(K284,Berechnung_Male!$A$1:$D$42,W284,TRUE),VLOOKUP(Eingabeblatt!K284,Berechnung_Female!$A$1:$D$42,W284,TRUE))","v":{"$error":"#DIV/0!"}},{"$error":"#DIV/0!"},{"$error":"#DIV/0!"},{"$nulls":3},{"$error":"#DIV/0!"}]
[{"$nulls":8},{"v":0,"d":"0.0"},{"v":0,"d":"0.00"},{"$error":"#DIV/0!"},{"$error":"#DIV/0!"},{"$error":"#DIV/0!"},{"$error":"#DIV/0!"},{"$error":"#DIV/0!"},{"$error":"#DIV/0!"},{"$f":"IF(A285=\"m\",VLOOKUP(K285,Berechnung_Male!$A$1:$D$42,W285,TRUE),VLOOKUP(Eingabeblatt!K285,Berechnung_Female!$A$1:$D$42,W285,TRUE))","v":{"$error":"#DIV/0!"}},{"$error":"#DIV/0!"},{"$error":"#DIV/0!"},{"$nulls":3},{"$error":"#DIV/0!"}]
[{"$nulls":8},{"v":0,"d":"0.0"},{"v":0,"d":"0.00"},{"$error":"#DIV/0!"},{"$error":"#DIV/0!"},{"$error":"#DIV/0!"},{"$error":"#DIV/0!"},{"$error":"#DIV/0!"},{"$error":"#DIV/0!"},{"$f":"IF(A286=\"m\",VLOOKUP(K286,Berechnung_Male!$A$1:$D$42,W286,TRUE),VLOOKUP(Eingabeblatt!K286,Berechnung_Female!$A$1:$D$42,W286,TRUE))","v":{"$error":"#DIV/0!"}},{"$error":"#DIV/0!"},{"$error":"#DIV/0!"},{"$nulls":3},{"$error":"#DIV/0!"}]
[{"$nulls":8},{"v":0,"d":"0.0"},{"v":0,"d":"0.00"},{"$error":"#DIV/0!"},{"$error":"#DIV/0!"},{"$error":"#DIV/0!"},{"$error":"#DIV/0!"},{"$error":"#DIV/0!"},{"$error":"#DIV/0!"},{"$f":"IF(A287=\"m\",VLOOKUP(K287,Berechnung_Male!$A$1:$D$42,W287,TRUE),VLOOKUP(Eingabeblatt!K287,Berechnung_Female!$A$1:$D$42,W287,TRUE))","v":{"$error":"#DIV/0!"}},{"$error":"#DIV/0!"},{"$error":"#DIV/0!"},{"$nulls":3},{"$error":"#DIV/0!"}]
[{"$nulls":8},{"v":0,"d":"0.0"},{"v":0,"d":"0.00"},{"$error":"#DIV/0!"},{"$error":"#DIV/0!"},{"$error":"#DIV/0!"},{"$error":"#DIV/0!"},{"$error":"#DIV/0!"},{"$error":"#DIV/0!"},{"$f":"IF(A288=\"m\",VLOOKUP(K288,Berechnung_Male!$A$1:$D$42,W288,TRUE),VLOOKUP(Eingabeblatt!K288,Berechnung_Female!$A$1:$D$42,W288,TRUE))","v":{"$error":"#DIV/0!"}},{"$error":"#DIV/0!"},{"$error":"#DIV/0!"},{"$nulls":3},{"$error":"#DIV/0!"}]
[{"$nulls":8},{"v":0,"d":"0.0"},{"v":0,"d":"0.00"},{"$error":"#DIV/0!"},{"$error":"#DIV/0!"},{"$error":"#DIV/0!"},{"$error":"#DIV/0!"},{"$error":"#DIV/0!"},{"$error":"#DIV/0!"},{"$f":"IF(A289=\"m\",VLOOKUP(K289,Berechnung_Male!$A$1:$D$42,W289,TRUE),VLOOKUP(Eingabeblatt!K289,Berechnung_Female!$A$1:$D$42,W289,TRUE))","v":{"$error":"#DIV/0!"}},{"$error":"#DIV/0!"},{"$error":"#DIV/0!"},{"$nulls":3},{"$error":"#DIV/0!"}]
[{"$nulls":8},{"v":0,"d":"0.0"},{"v":0,"d":"0.00"},{"$error":"#DIV/0!"},{"$error":"#DIV/0!"},{"$error":"#DIV/0!"},{"$error":"#DIV/0!"},{"$error":"#DIV/0!"},{"$error":"#DIV/0!"},{"$f":"IF(A290=\"m\",VLOOKUP(K290,Berechnung_Male!$A$1:$D$42,W290,TRUE),VLOOKUP(Eingabeblatt!K290,Berechnung_Female!$A$1:$D$42,W290,TRUE))","v":{"$error":"#DIV/0!"}},{"$error":"#DIV/0!"},{"$error":"#DIV/0!"},{"$nulls":3},{"$error":"#DIV/0!"}]
[{"$nulls":8},{"v":0,"d":"0.0"},{"v":0,"d":"0.00"},{"$error":"#DIV/0!"},{"$error":"#DIV/0!"},{"$error":"#DIV/0!"},{"$error":"#DIV/0!"},{"$error":"#DIV/0!"},{"$error":"#DIV/0!"},{"$f":"IF(A291=\"m\",VLOOKUP(K291,Berechnung_Male!$A$1:$D$42,W291,TRUE),VLOOKUP(Eingabeblatt!K291,Berechnung_Female!$A$1:$D$42,W291,TRUE))","v":{"$error":"#DIV/0!"}},{"$error":"#DIV/0!"},{"$error":"#DIV/0!"},{"$nulls":3},{"$error":"#DIV/0!"}]
[{"$nulls":8},{"v":0,"d":"0.0"},{"v":0,"d":"0.00"},{"$error":"#DIV/0!"},{"$error":"#DIV/0!"},{"$error":"#DIV/0!"},{"$error":"#DIV/0!"},{"$error":"#DIV/0!"},{"$error":"#DIV/0!"},{"$f":"IF(A292=\"m\",VLOOKUP(K292,Berechnung_Male!$A$1:$D$42,W292,TRUE),VLOOKUP(Eingabeblatt!K292,Berechnung_Female!$A$1:$D$42,W292,TRUE))","v":{"$error":"#DIV/0!"}},{"$error":"#DIV/0!"},{"$error":"#DIV/0!"},{"$nulls":3},{"$error":"#DIV/0!"}]
[{"$nulls":8},{"v":0,"d":"0.0"},{"v":0,"d":"0.00"},{"$error":"#DIV/0!"},{"$error":"#DIV/0!"},{"$error":"#DIV/0!"},{"$error":"#DIV/0!"},{"$error":"#DIV/0!"},{"$error":"#DIV/0!"},{"$f":"IF(A293=\"m\",VLOOKUP(K293,Berechnung_Male!$A$1:$D$42,W293,TRUE),VLOOKUP(Eingabeblatt!K293,Berechnung_Female!$A$1:$D$42,W293,TRUE))","v":{"$error":"#DIV/0!"}},{"$error":"#DIV/0!"},{"$error":"#DIV/0!"},{"$nulls":3},{"$error":"#DIV/0!"}]
[{"$nulls":8},{"v":0,"d":"0.0"},{"v":0,"d":"0.00"},{"$error":"#DIV/0!"},{"$error":"#DIV/0!"},{"$error":"#DIV/0!"},{"$error":"#DIV/0!"},{"$error":"#DIV/0!"},{"$error":"#DIV/0!"},{"$f":"IF(A294=\"m\",VLOOKUP(K294,Berechnung_Male!$A$1:$D$42,W294,TRUE),VLOOKUP(Eingabeblatt!K294,Berechnung_Female!$A$1:$D$42,W294,TRUE))","v":{"$error":"#DIV/0!"}},{"$error":"#DIV/0!"},{"$error":"#DIV/0!"},{"$nulls":3},{"$error":"#DIV/0!"}]
[{"$nulls":8},{"v":0,"d":"0.0"},{"v":0,"d":"0.00"},{"$error":"#DIV/0!"},{"$error":"#DIV/0!"},{"$error":"#DIV/0!"},{"$error":"#DIV/0!"},{"$error":"#DIV/0!"},{"$error":"#DIV/0!"},{"$f":"IF(A295=\"m\",VLOOKUP(K295,Berechnung_Male!$A$1:$D$42,W295,TRUE),VLOOKUP(Eingabeblatt!K295,Berechnung_Female!$A$1:$D$42,W295,TRUE))","v":{"$error":"#DIV/0!"}},{"$error":"#DIV/0!"},{"$error":"#DIV/0!"},{"$nulls":3},{"$error":"#DIV/0!"}]
[{"$nulls":8},{"v":0,"d":"0.0"},{"v":0,"d":"0.00"},{"$error":"#DIV/0!"},{"$error":"#DIV/0!"},{"$error":"#DIV/0!"},{"$error":"#DIV/0!"},{"$error":"#DIV/0!"},{"$error":"#DIV/0!"},{"$f":"IF(A296=\"m\",VLOOKUP(K296,Berechnung_Male!$A$1:$D$42,W296,TRUE),VLOOKUP(Eingabeblatt!K296,Berechnung_Female!$A$1:$D$42,W296,TRUE))","v":{"$error":"#DIV/0!"}},{"$error":"#DIV/0!"},{"$error":"#DIV/0!"},{"$nulls":3},{"$error":"#DIV/0!"}]
[{"$nulls":8},{"v":0,"d":"0.0"},{"v":0,"d":"0.00"},{"$error":"#DIV/0!"},{"$error":"#DIV/0!"},{"$error":"#DIV/0!"},{"$error":"#DIV/0!"},{"$error":"#DIV/0!"},{"$error":"#DIV/0!"},{"$f":"IF(A297=\"m\",VLOOKUP(K297,Berechnung_Male!$A$1:$D$42,W297,TRUE),VLOOKUP(Eingabeblatt!K297,Berechnung_Female!$A$1:$D$42,W297,TRUE))","v":{"$error":"#DIV/0!"}},{"$error":"#DIV/0!"},{"$error":"#DIV/0!"},{"$nulls":3},{"$error":"#DIV/0!"}]
[{"$nulls":8},{"v":0,"d":"0.0"},{"v":0,"d":"0.00"},{"$error":"#DIV/0!"},{"$error":"#DIV/0!"},{"$error":"#DIV/0!"},{"$error":"#DIV/0!"},{"$error":"#DIV/0!"},{"$error":"#DIV/0!"},{"$f":"IF(A298=\"m\",VLOOKUP(K298,Berechnung_Male!$A$1:$D$42,W298,TRUE),VLOOKUP(Eingabeblatt!K298,Berechnung_Female!$A$1:$D$42,W298,TRUE))","v":{"$error":"#DIV/0!"}},{"$error":"#DIV/0!"},{"$error":"#DIV/0!"},{"$nulls":3},{"$error":"#DIV/0!"}]
[{"$nulls":8},{"v":0,"d":"0.0"},{"v":0,"d":"0.00"},{"$error":"#DIV/0!"},{"$error":"#DIV/0!"},{"$error":"#DIV/0!"},{"$error":"#DIV/0!"},{"$error":"#DIV/0!"},{"$error":"#DIV/0!"},{"$f":"IF(A299=\"m\",VLOOKUP(K299,Berechnung_Male!$A$1:$D$42,W299,TRUE),VLOOKUP(Eingabeblatt!K299,Berechnung_Female!$A$1:$D$42,W299,TRUE))","v":{"$error":"#DIV/0!"}},{"$error":"#DIV/0!"},{"$error":"#DIV/0!"},{"$nulls":3},{"$error":"#DIV/0!"}]
[{"$nulls":8},{"v":0,"d":"0.0"},{"v":0,"d":"0.00"},{"$error":"#DIV/0!"},{"$error":"#DIV/0!"},{"$error":"#DIV/0!"},{"$error":"#DIV/0!"},{"$error":"#DIV/0!"},{"$error":"#DIV/0!"},{"$f":"IF(A300=\"m\",VLOOKUP(K300,Berechnung_Male!$A$1:$D$42,W300,TRUE),VLOOKUP(Eingabeblatt!K300,Berechnung_Female!$A$1:$D$42,W300,TRUE))","v":{"$error":"#DIV/0!"}},{"$error":"#DIV/0!"},{"$error":"#DIV/0!"},{"$nulls":3},{"$error":"#DIV/0!"}]
[{"$nulls":8},{"v":0,"d":"0.0"},{"v":0,"d":"0.00"},{"$error":"#DIV/0!"},{"$error":"#DIV/0!"},{"$error":"#DIV/0!"},{"$error":"#DIV/0!"},{"$error":"#DIV/0!"},{"$error":"#DIV/0!"},{"$f":"IF(A301=\"m\",VLOOKUP(K301,Berechnung_Male!$A$1:$D$42,W301,TRUE),VLOOKUP(Eingabeblatt!K301,Berechnung_Female!$A$1:$D$42,W301,TRUE))","v":{"$error":"#DIV/0!"}},{"$error":"#DIV/0!"},{"$error":"#DIV/0!"},{"$nulls":3},{"$error":"#DIV/0!"}]
[{"$nulls":8},{"v":0,"d":"0.0"},{"v":0,"d":"0.00"},{"$error":"#DIV/0!"},{"$error":"#DIV/0!"},{"$error":"#DIV/0!"},{"$error":"#DIV/0!"},{"$error":"#DIV/0!"},{"$error":"#DIV/0!"},{"$f":"IF(A302=\"m\",VLOOKUP(K302,Berechnung_Male!$A$1:$D$42,W302,TRUE),VLOOKUP(Eingabeblatt!K302,Berechnung_Female!$A$1:$D$42,W302,TRUE))","v":{"$error":"#DIV/0!"}},{"$error":"#DIV/0!"},{"$error":"#DIV/0!"},{"$nulls":3},{"$error":"#DIV/0!"}]
[{"$nulls":8},{"v":0,"d":"0.0"},{"v":0,"d":"0.00"},{"$error":"#DIV/0!"},{"$error":"#DIV/0!"},{"$error":"#DIV/0!"},{"$error":"#DIV/0!"},{"$error":"#DIV/0!"},{"$error":"#DIV/0!"},{"$f":"IF(A303=\"m\",VLOOKUP(K303,Berechnung_Male!$A$1:$D$42,W303,TRUE),VLOOKUP(Eingabeblatt!K303,Berechnung_Female!$A$1:$D$42,W303,TRUE))","v":{"$error":"#DIV/0!"}},{"$error":"#DIV/0!"},{"$error":"#DIV/0!"},{"$nulls":3},{"$error":"#DIV/0!"}]
[{"$nulls":8},{"v":0,"d":"0.0"},{"v":0,"d":"0.00"},{"$error":"#DIV/0!"},{"$error":"#DIV/0!"},{"$error":"#DIV/0!"},{"$error":"#DIV/0!"},{"$error":"#DIV/0!"},{"$error":"#DIV/0!"},{"$f":"IF(A304=\"m\",VLOOKUP(K304,Berechnung_Male!$A$1:$D$42,W304,TRUE),VLOOKUP(Eingabeblatt!K304,Berechnung_Female!$A$1:$D$42,W304,TRUE))","v":{"$error":"#DIV/0!"}},{"$error":"#DIV/0!"},{"$error":"#DIV/0!"},{"$nulls":3},{"$error":"#DIV/0!"}]
[{"$nulls":8},{"v":0,"d":"0.0"},{"v":0,"d":"0.00"},{"$error":"#DIV/0!"},{"$error":"#DIV/0!"},{"$error":"#DIV/0!"},{"$error":"#DIV/0!"},{"$error":"#DIV/0!"},{"$error":"#DIV/0!"},{"$f":"IF(A305=\"m\",VLOOKUP(K305,Berechnung_Male!$A$1:$D$42,W305,TRUE),VLOOKUP(Eingabeblatt!K305,Berechnung_Female!$A$1:$D$42,W305,TRUE))","v":{"$error":"#DIV/0!"}},{"$error":"#DIV/0!"},{"$error":"#DIV/0!"},{"$nulls":3},{"$error":"#DIV/0!"}]
[{"$nulls":8},{"v":0,"d":"0.0"},{"v":0,"d":"0.00"},{"$error":"#DIV/0!"},{"$error":"#DIV/0!"},{"$error":"#DIV/0!"},{"$error":"#DIV/0!"},{"$error":"#DIV/0!"},{"$error":"#DIV/0!"},{"$f":"IF(A306=\"m\",VLOOKUP(K306,Berechnung_Male!$A$1:$D$42,W306,TRUE),VLOOKUP(Eingabeblatt!K306,Berechnung_Female!$A$1:$D$42,W306,TRUE))","v":{"$error":"#DIV/0!"}},{"$error":"#DIV/0!"},{"$error":"#DIV/0!"},{"$nulls":3},{"$error":"#DIV/0!"}]
[{"$nulls":8},{"v":0,"d":"0.0"},{"v":0,"d":"0.00"},{"$error":"#DIV/0!"},{"$error":"#DIV/0!"},{"$error":"#DIV/0!"},{"$error":"#DIV/0!"},{"$error":"#DIV/0!"},{"$error":"#DIV/0!"},{"$f":"IF(A307=\"m\",VLOOKUP(K307,Berechnung_Male!$A$1:$D$42,W307,TRUE),VLOOKUP(Eingabeblatt!K307,Berechnung_Female!$A$1:$D$42,W307,TRUE))","v":{"$error":"#DIV/0!"}},{"$error":"#DIV/0!"},{"$error":"#DIV/0!"},{"$nulls":3},{"$error":"#DIV/0!"}]
[{"$nulls":8},{"v":0,"d":"0.0"},{"v":0,"d":"0.00"},{"$error":"#DIV/0!"},{"$error":"#DIV/0!"},{"$error":"#DIV/0!"},{"$error":"#DIV/0!"},{"$error":"#DIV/0!"},{"$error":"#DIV/0!"},{"$f":"IF(A308=\"m\",VLOOKUP(K308,Berechnung_Male!$A$1:$D$42,W308,TRUE),VLOOKUP(Eingabeblatt!K308,Berechnung_Female!$A$1:$D$42,W308,TRUE))","v":{"$error":"#DIV/0!"}},{"$error":"#DIV/0!"},{"$error":"#DIV/0!"},{"$nulls":3},{"$error":"#DIV/0!"}]
[{"$nulls":8},{"v":0,"d":"0.0"},{"v":0,"d":"0.00"},{"$error":"#DIV/0!"},{"$error":"#DIV/0!"},{"$error":"#DIV/0!"},{"$error":"#DIV/0!"},{"$error":"#DIV/0!"},{"$error":"#DIV/0!"},{"$f":"IF(A309=\"m\",VLOOKUP(K309,Berechnung_Male!$A$1:$D$42,W309,TRUE),VLOOKUP(Eingabeblatt!K309,Berechnung_Female!$A$1:$D$42,W309,TRUE))","v":{"$error":"#DIV/0!"}},{"$error":"#DIV/0!"},{"$error":"#DIV/0!"},{"$nulls":3},{"$error":"#DIV/0!"}]
[{"$nulls":8},{"v":0,"d":"0.0"},{"v":0,"d":"0.00"},{"$error":"#DIV/0!"},{"$error":"#DIV/0!"},{"$error":"#DIV/0!"},{"$error":"#DIV/0!"},{"$error":"#DIV/0!"},{"$error":"#DIV/0!"},{"$f":"IF(A310=\"m\",VLOOKUP(K310,Berechnung_Male!$A$1:$D$42,W310,TRUE),VLOOKUP(Eingabeblatt!K310,Berechnung_Female!$A$1:$D$42,W310,TRUE))","v":{"$error":"#DIV/0!"}},{"$error":"#DIV/0!"},{"$error":"#DIV/0!"},{"$nulls":3},{"$error":"#DIV/0!"}]
[{"$nulls":8},{"v":0,"d":"0.0"},{"v":0,"d":"0.00"},{"$error":"#DIV/0!"},{"$error":"#DIV/0!"},{"$error":"#DIV/0!"},{"$error":"#DIV/0!"},{"$error":"#DIV/0!"},{"$error":"#DIV/0!"},{"$f":"IF(A311=\"m\",VLOOKUP(K311,Berechnung_Male!$A$1:$D$42,W311,TRUE),VLOOKUP(Eingabeblatt!K311,Berechnung_Female!$A$1:$D$42,W311,TRUE))","v":{"$error":"#DIV/0!"}},{"$error":"#DIV/0!"},{"$error":"#DIV/0!"},{"$nulls":3},{"$error":"#DIV/0!"}]
[{"$nulls":8},{"v":0,"d":"0.0"},{"v":0,"d":"0.00"},{"$error":"#DIV/0!"},{"$error":"#DIV/0!"},{"$error":"#DIV/0!"},{"$error":"#DIV/0!"},{"$error":"#DIV/0!"},{"$error":"#DIV/0!"},{"$f":"IF(A312=\"m\",VLOOKUP(K312,Berechnung_Male!$A$1:$D$42,W312,TRUE),VLOOKUP(Eingabeblatt!K312,Berechnung_Female!$A$1:$D$42,W312,TRUE))","v":{"$error":"#DIV/0!"}},{"$error":"#DIV/0!"},{"$error":"#DIV/0!"},{"$nulls":3},{"$error":"#DIV/0!"}]
[{"$nulls":8},{"v":0,"d":"0.0"},{"v":0,"d":"0.00"},{"$error":"#DIV/0!"},{"$error":"#DIV/0!"},{"$error":"#DIV/0!"},{"$error":"#DIV/0!"},{"$error":"#DIV/0!"},{"$error":"#DIV/0!"},{"$f":"IF(A313=\"m\",VLOOKUP(K313,Berechnung_Male!$A$1:$D$42,W313,TRUE),VLOOKUP(Eingabeblatt!K313,Berechnung_Female!$A$1:$D$42,W313,TRUE))","v":{"$error":"#DIV/0!"}},{"$error":"#DIV/0!"},{"$error":"#DIV/0!"},{"$nulls":3},{"$error":"#DIV/0!"}]
[{"$nulls":8},{"v":0,"d":"0.0"},{"v":0,"d":"0.00"},{"$error":"#DIV/0!"},{"$error":"#DIV/0!"},{"$error":"#DIV/0!"},{"$error":"#DIV/0!"},{"$error":"#DIV/0!"},{"$error":"#DIV/0!"},{"$f":"IF(A314=\"m\",VLOOKUP(K314,Berechnung_Male!$A$1:$D$42,W314,TRUE),VLOOKUP(Eingabeblatt!K314,Berechnung_Female!$A$1:$D$42,W314,TRUE))","v":{"$error":"#DIV/0!"}},{"$error":"#DIV/0!"},{"$error":"#DIV/0!"},{"$nulls":3},{"$error":"#DIV/0!"}]
[{"$nulls":8},{"v":0,"d":"0.0"},{"v":0,"d":"0.00"},{"$error":"#DIV/0!"},{"$error":"#DIV/0!"},{"$error":"#DIV/0!"},{"$error":"#DIV/0!"},{"$error":"#DIV/0!"},{"$error":"#DIV/0!"},{"$f":"IF(A315=\"m\",VLOOKUP(K315,Berechnung_Male!$A$1:$D$42,W315,TRUE),VLOOKUP(Eingabeblatt!K315,Berechnung_Female!$A$1:$D$42,W315,TRUE))","v":{"$error":"#DIV/0!"}},{"$error":"#DIV/0!"},{"$error":"#DIV/0!"},{"$nulls":3},{"$error":"#DIV/0!"}]
[{"$nulls":8},{"v":0,"d":"0.0"},{"v":0,"d":"0.00"},{"$error":"#DIV/0!"},{"$error":"#DIV/0!"},{"$error":"#DIV/0!"},{"$error":"#DIV/0!"},{"$error":"#DIV/0!"},{"$error":"#DIV/0!"},{"$f":"IF(A316=\"m\",VLOOKUP(K316,Berechnung_Male!$A$1:$D$42,W316,TRUE),VLOOKUP(Eingabeblatt!K316,Berechnung_Female!$A$1:$D$42,W316,TRUE))","v":{"$error":"#DIV/0!"}},{"$error":"#DIV/0!"},{"$error":"#DIV/0!"},{"$nulls":3},{"$error":"#DIV/0!"}]
[{"$nulls":8},{"v":0,"d":"0.0"},{"v":0,"d":"0.00"},{"$error":"#DIV/0!"},{"$error":"#DIV/0!"},{"$error":"#DIV/0!"},{"$error":"#DIV/0!"},{"$error":"#DIV/0!"},{"$error":"#DIV/0!"},{"$f":"IF(A317=\"m\",VLOOKUP(K317,Berechnung_Male!$A$1:$D$42,W317,TRUE),VLOOKUP(Eingabeblatt!K317,Berechnung_Female!$A$1:$D$42,W317,TRUE))","v":{"$error":"#DIV/0!"}},{"$error":"#DIV/0!"},{"$error":"#DIV/0!"},{"$nulls":3},{"$error":"#DIV/0!"}]
[{"$nulls":8},{"v":0,"d":"0.0"},{"v":0,"d":"0.00"},{"$error":"#DIV/0!"},{"$error":"#DIV/0!"},{"$error":"#DIV/0!"},{"$error":"#DIV/0!"},{"$error":"#DIV/0!"},{"$error":"#DIV/0!"},{"$f":"IF(A318=\"m\",VLOOKUP(K318,Berechnung_Male!$A$1:$D$42,W318,TRUE),VLOOKUP(Eingabeblatt!K318,Berechnung_Female!$A$1:$D$42,W318,TRUE))","v":{"$error":"#DIV/0!"}},{"$error":"#DIV/0!"},{"$error":"#DIV/0!"},{"$nulls":3},{"$error":"#DIV/0!"}]
[{"$nulls":8},{"v":0,"d":"0.0"},{"v":0,"d":"0.00"},{"$error":"#DIV/0!"},{"$error":"#DIV/0!"},{"$error":"#DIV/0!"},{"$error":"#DIV/0!"},{"$error":"#DIV/0!"},{"$error":"#DIV/0!"},{"$f":"IF(A319=\"m\",VLOOKUP(K319,Berechnung_Male!$A$1:$D$42,W319,TRUE),VLOOKUP(Eingabeblatt!K319,Berechnung_Female!$A$1:$D$42,W319,TRUE))","v":{"$error":"#DIV/0!"}},{"$error":"#DIV/0!"},{"$error":"#DIV/0!"},{"$nulls":3},{"$error":"#DIV/0!"}]
[{"$nulls":8},{"v":0,"d":"0.0"},{"v":0,"d":"0.00"},{"$error":"#DIV/0!"},{"$error":"#DIV/0!"},{"$error":"#DIV/0!"},{"$error":"#DIV/0!"},{"$error":"#DIV/0!"},{"$error":"#DIV/0!"},{"$f":"IF(A320=\"m\",VLOOKUP(K320,Berechnung_Male!$A$1:$D$42,W320,TRUE),VLOOKUP(Eingabeblatt!K320,Berechnung_Female!$A$1:$D$42,W320,TRUE))","v":{"$error":"#DIV/0!"}},{"$error":"#DIV/0!"},{"$error":"#DIV/0!"},{"$nulls":3},{"$error":"#DIV/0!"}]
[{"$nulls":8},{"v":0,"d":"0.0"},{"v":0,"d":"0.00"},{"$error":"#DIV/0!"},{"$error":"#DIV/0!"},{"$error":"#DIV/0!"},{"$error":"#DIV/0!"},{"$error":"#DIV/0!"},{"$error":"#DIV/0!"},{"$f":"IF(A321=\"m\",VLOOKUP(K321,Berechnung_Male!$A$1:$D$42,W321,TRUE),VLOOKUP(Eingabeblatt!K321,Berechnung_Female!$A$1:$D$42,W321,TRUE))","v":{"$error":"#DIV/0!"}},{"$error":"#DIV/0!"},{"$error":"#DIV/0!"},{"$nulls":3},{"$error":"#DIV/0!"}]
[{"$nulls":8},{"v":0,"d":"0.0"},{"v":0,"d":"0.00"},{"$error":"#DIV/0!"},{"$error":"#DIV/0!"},{"$error":"#DIV/0!"},{"$error":"#DIV/0!"},{"$error":"#DIV/0!"},{"$error":"#DIV/0!"},{"$f":"IF(A322=\"m\",VLOOKUP(K322,Berechnung_Male!$A$1:$D$42,W322,TRUE),VLOOKUP(Eingabeblatt!K322,Berechnung_Female!$A$1:$D$42,W322,TRUE))","v":{"$error":"#DIV/0!"}},{"$error":"#DIV/0!"},{"$error":"#DIV/0!"},{"$nulls":3},{"$error":"#DIV/0!"}]
[{"$nulls":8},{"v":0,"d":"0.0"},{"v":0,"d":"0.00"},{"$error":"#DIV/0!"},{"$error":"#DIV/0!"},{"$error":"#DIV/0!"},{"$error":"#DIV/0!"},{"$error":"#DIV/0!"},{"$error":"#DIV/0!"},{"$f":"IF(A323=\"m\",VLOOKUP(K323,Berechnung_Male!$A$1:$D$42,W323,TRUE),VLOOKUP(Eingabeblatt!K323,Berechnung_Female!$A$1:$D$42,W323,TRUE))","v":{"$error":"#DIV/0!"}},{"$error":"#DIV/0!"},{"$error":"#DIV/0!"},{"$nulls":3},{"$error":"#DIV/0!"}]
[{"$nulls":8},{"v":0,"d":"0.0"},{"v":0,"d":"0.00"},{"$error":"#DIV/0!"},{"$error":"#DIV/0!"},{"$error":"#DIV/0!"},{"$error":"#DIV/0!"},{"$error":"#DIV/0!"},{"$error":"#DIV/0!"},{"$f":"IF(A324=\"m\",VLOOKUP(K324,Berechnung_Male!$A$1:$D$42,W324,TRUE),VLOOKUP(Eingabeblatt!K324,Berechnung_Female!$A$1:$D$42,W324,TRUE))","v":{"$error":"#DIV/0!"}},{"$error":"#DIV/0!"},{"$error":"#DIV/0!"},{"$nulls":3},{"$error":"#DIV/0!"}]
[{"$nulls":8},{"v":0,"d":"0.0"},{"v":0,"d":"0.00"},{"$error":"#DIV/0!"},{"$error":"#DIV/0!"},{"$error":"#DIV/0!"},{"$error":"#DIV/0!"},{"$error":"#DIV/0!"},{"$error":"#DIV/0!"},{"$f":"IF(A325=\"m\",VLOOKUP(K325,Berechnung_Male!$A$1:$D$42,W325,TRUE),VLOOKUP(Eingabeblatt!K325,Berechnung_Female!$A$1:$D$42,W325,TRUE))","v":{"$error":"#DIV/0!"}},{"$error":"#DIV/0!"},{"$error":"#DIV/0!"},{"$nulls":3},{"$error":"#DIV/0!"}]
[{"$nulls":8},{"$f":"G326-H326","v":{"v":0,"d":"0.0"}},{"$f":"(B326-E326)/365.25","v":{"v":0,"d":"0.00"}},{"$f":"IF(A326=\"m\",(-9.236+(0.0002708*I326*H326)+(-0.001663*J326*I326)+(0.007216*J326*H326)+(0.02292*F326/G326*100)),(-9.376+(0.0001882*I326*H326)+(0.0022*J326*I326)+(0.005841*J326*H326)-(0.002658*J326*F326)+(0.07693*(F326/G326)*100)))","v":{"$error":"#DIV/0!"}},{"$f":"J326-K326","v":{"$error":"#DIV/0!"}},{"$f":"IF(A326=\"m\",(IF(L326<12.8,1,IF(L326>14.8,3,2))),(IF(L326<11,1,IF(L326>13,3,2))))","v":{"$error":"#DIV/0!"}},{"$f":"IF(M326=1,\"Früh / précoce\",IF(M326=2,\"Durchschnittlich / Normal\",\"Spät / Tardif\"))","v":{"$error":"#DIV/0!"}},{"$f":"IF(A326=\"m\",(IF(L326<12.8,1,IF(L326<13.3,2,IF(L326>14.8,5,IF(L326>14.3,4,3))))),(IF(L326<11,1,IF(L326<11.5,2,IF(L326>13,5,IF(L326>12.5,4,3))))))","v":{"$error":"#DIV/0!"}},{"$f":"IF(O326=1,\"Früh / précoce\",IF(O326=2,\"Möglicherweise Früh / éventuellement précoce\", IF(O326=3,\"Durchschnittlich / Normal\",IF(O326=4,\"Möglicherweise spät / éventuellement tardif\",\"Spät / Tardif\"))))","v":{"$error":"#DIV/0!"}},{"$f":"IF(A326=\"m\",VLOOKUP(K326,Berechnung_Male!$A$1:$D$42,W326,TRUE),VLOOKUP(Eingabeblatt!K326,Berechnung_Female!$A$1:$D$42,W326,TRUE))","v":{"$error":"#DIV/0!"}},{"$f":"G326+Q326","v":{"$error":"#DIV/0!"}},{"$f":"G326/R326","v":{"$error":"#DIV/0!"}},{"$nulls":3},{"$f":"IF(A326=\"m\",IF(L326<12.8,2,IF(L326<14.8,3,4)),IF(L326<11,2,IF(L326<13,3,4)))","v":{"$error":"#DIV/0!"}}]
[{"$nulls":8},{"v":0,"d":"0.0"},{"v":0,"d":"0.00"},{"$error":"#DIV/0!"},{"$error":"#DIV/0!"},{"$error":"#DIV/0!"},{"$error":"#DIV/0!"},{"$error":"#DIV/0!"},{"$error":"#DIV/0!"},{"$f":"IF(A327=\"m\",VLOOKUP(K327,Berechnung_Male!$A$1:$D$42,W327,TRUE),VLOOKUP(Eingabeblatt!K327,Berechnung_Female!$A$1:$D$42,W327,TRUE))","v":{"$error":"#DIV/0!"}},{"$error":"#DIV/0!"},{"$error":"#DIV/0!"},{"$nulls":3},{"$error":"#DIV/0!"}]
[{"$nulls":8},{"v":0,"d":"0.0"},{"v":0,"d":"0.00"},{"$error":"#DIV/0!"},{"$error":"#DIV/0!"},{"$error":"#DIV/0!"},{"$error":"#DIV/0!"},{"$error":"#DIV/0!"},{"$error":"#DIV/0!"},{"$f":"IF(A328=\"m\",VLOOKUP(K328,Berechnung_Male!$A$1:$D$42,W328,TRUE),VLOOKUP(Eingabeblatt!K328,Berechnung_Female!$A$1:$D$42,W328,TRUE))","v":{"$error":"#DIV/0!"}},{"$error":"#DIV/0!"},{"$error":"#DIV/0!"},{"$nulls":3},{"$error":"#DIV/0!"}]
[{"$nulls":8},{"v":0,"d":"0.0"},{"v":0,"d":"0.00"},{"$error":"#DIV/0!"},{"$error":"#DIV/0!"},{"$error":"#DIV/0!"},{"$error":"#DIV/0!"},{"$error":"#DIV/0!"},{"$error":"#DIV/0!"},{"$f":"IF(A329=\"m\",VLOOKUP(K329,Berechnung_Male!$A$1:$D$42,W329,TRUE),VLOOKUP(Eingabeblatt!K329,Berechnung_Female!$A$1:$D$42,W329,TRUE))","v":{"$error":"#DIV/0!"}},{"$error":"#DIV/0!"},{"$error":"#DIV/0!"},{"$nulls":3},{"$error":"#DIV/0!"}]
[{"$nulls":8},{"v":0,"d":"0.0"},{"v":0,"d":"0.00"},{"$error":"#DIV/0!"},{"$error":"#DIV/0!"},{"$error":"#DIV/0!"},{"$error":"#DIV/0!"},{"$error":"#DIV/0!"},{"$error":"#DIV/0!"},{"$f":"IF(A330=\"m\",VLOOKUP(K330,Berechnung_Male!$A$1:$D$42,W330,TRUE),VLOOKUP(Eingabeblatt!K330,Berechnung_Female!$A$1:$D$42,W330,TRUE))","v":{"$error":"#DIV/0!"}},{"$error":"#DIV/0!"},{"$error":"#DIV/0!"},{"$nulls":3},{"$error":"#DIV/0!"}]
[{"$nulls":8},{"v":0,"d":"0.0"},{"v":0,"d":"0.00"},{"$error":"#DIV/0!"},{"$error":"#DIV/0!"},{"$error":"#DIV/0!"},{"$error":"#DIV/0!"},{"$error":"#DIV/0!"},{"$error":"#DIV/0!"},{"$f":"IF(A331=\"m\",VLOOKUP(K331,Berechnung_Male!$A$1:$D$42,W331,TRUE),VLOOKUP(Eingabeblatt!K331,Berechnung_Female!$A$1:$D$42,W331,TRUE))","v":{"$error":"#DIV/0!"}},{"$error":"#DIV/0!"},{"$error":"#DIV/0!"},{"$nulls":3},{"$error":"#DIV/0!"}]
[{"$nulls":8},{"v":0,"d":"0.0"},{"v":0,"d":"0.00"},{"$error":"#DIV/0!"},{"$error":"#DIV/0!"},{"$error":"#DIV/0!"},{"$error":"#DIV/0!"},{"$error":"#DIV/0!"},{"$error":"#DIV/0!"},{"$f":"IF(A332=\"m\",VLOOKUP(K332,Berechnung_Male!$A$1:$D$42,W332,TRUE),VLOOKUP(Eingabeblatt!K332,Berechnung_Female!$A$1:$D$42,W332,TRUE))","v":{"$error":"#DIV/0!"}},{"$error":"#DIV/0!"},{"$error":"#DIV/0!"},{"$nulls":3},{"$error":"#DIV/0!"}]
[{"$nulls":8},{"v":0,"d":"0.0"},{"v":0,"d":"0.00"},{"$error":"#DIV/0!"},{"$error":"#DIV/0!"},{"$error":"#DIV/0!"},{"$error":"#DIV/0!"},{"$error":"#DIV/0!"},{"$error":"#DIV/0!"},{"$f":"IF(A333=\"m\",VLOOKUP(K333,Berechnung_Male!$A$1:$D$42,W333,TRUE),VLOOKUP(Eingabeblatt!K333,Berechnung_Female!$A$1:$D$42,W333,TRUE))","v":{"$error":"#DIV/0!"}},{"$error":"#DIV/0!"},{"$error":"#DIV/0!"},{"$nulls":3},{"$error":"#DIV/0!"}]
[{"$nulls":8},{"v":0,"d":"0.0"},{"v":0,"d":"0.00"},{"$error":"#DIV/0!"},{"$error":"#DIV/0!"},{"$error":"#DIV/0!"},{"$error":"#DIV/0!"},{"$error":"#DIV/0!"},{"$error":"#DIV/0!"},{"$f":"IF(A334=\"m\",VLOOKUP(K334,Berechnung_Male!$A$1:$D$42,W334,TRUE),VLOOKUP(Eingabeblatt!K334,Berechnung_Female!$A$1:$D$42,W334,TRUE))","v":{"$error":"#DIV/0!"}},{"$error":"#DIV/0!"},{"$error":"#DIV/0!"},{"$nulls":3},{"$error":"#DIV/0!"}]
[{"$nulls":8},{"v":0,"d":"0.0"},{"v":0,"d":"0.00"},{"$error":"#DIV/0!"},{"$error":"#DIV/0!"},{"$error":"#DIV/0!"},{"$error":"#DIV/0!"},{"$error":"#DIV/0!"},{"$error":"#DIV/0!"},{"$f":"IF(A335=\"m\",VLOOKUP(K335,Berechnung_Male!$A$1:$D$42,W335,TRUE),VLOOKUP(Eingabeblatt!K335,Berechnung_Female!$A$1:$D$42,W335,TRUE))","v":{"$error":"#DIV/0!"}},{"$error":"#DIV/0!"},{"$error":"#DIV/0!"},{"$nulls":3},{"$error":"#DIV/0!"}]
[{"$nulls":8},{"v":0,"d":"0.0"},{"v":0,"d":"0.00"},{"$error":"#DIV/0!"},{"$error":"#DIV/0!"},{"$error":"#DIV/0!"},{"$error":"#DIV/0!"},{"$error":"#DIV/0!"},{"$error":"#DIV/0!"},{"$f":"IF(A336=\"m\",VLOOKUP(K336,Berechnung_Male!$A$1:$D$42,W336,TRUE),VLOOKUP(Eingabeblatt!K336,Berechnung_Female!$A$1:$D$42,W336,TRUE))","v":{"$error":"#DIV/0!"}},{"$error":"#DIV/0!"},{"$error":"#DIV/0!"},{"$nulls":3},{"$error":"#DIV/0!"}]
[{"$nulls":8},{"v":0,"d":"0.0"},{"v":0,"d":"0.00"},{"$error":"#DIV/0!"},{"$error":"#DIV/0!"},{"$error":"#DIV/0!"},{"$error":"#DIV/0!"},{"$error":"#DIV/0!"},{"$error":"#DIV/0!"},{"$f":"IF(A337=\"m\",VLOOKUP(K337,Berechnung_Male!$A$1:$D$42,W337,TRUE),VLOOKUP(Eingabeblatt!K337,Berechnung_Female!$A$1:$D$42,W337,TRUE))","v":{"$error":"#DIV/0!"}},{"$error":"#DIV/0!"},{"$error":"#DIV/0!"},{"$nulls":3},{"$error":"#DIV/0!"}]
[{"$nulls":8},{"v":0,"d":"0.0"},{"v":0,"d":"0.00"},{"$error":"#DIV/0!"},{"$error":"#DIV/0!"},{"$error":"#DIV/0!"},{"$error":"#DIV/0!"},{"$error":"#DIV/0!"},{"$error":"#DIV/0!"},{"$f":"IF(A338=\"m\",VLOOKUP(K338,Berechnung_Male!$A$1:$D$42,W338,TRUE),VLOOKUP(Eingabeblatt!K338,Berechnung_Female!$A$1:$D$42,W338,TRUE))","v":{"$error":"#DIV/0!"}},{"$error":"#DIV/0!"},{"$error":"#DIV/0!"},{"$nulls":3},{"$error":"#DIV/0!"}]
[{"$nulls":8},{"v":0,"d":"0.0"},{"v":0,"d":"0.00"},{"$error":"#DIV/0!"},{"$error":"#DIV/0!"},{"$error":"#DIV/0!"},{"$error":"#DIV/0!"},{"$error":"#DIV/0!"},{"$error":"#DIV/0!"},{"$f":"IF(A339=\"m\",VLOOKUP(K339,Berechnung_Male!$A$1:$D$42,W339,TRUE),VLOOKUP(Eingabeblatt!K339,Berechnung_Female!$A$1:$D$42,W339,TRUE))","v":{"$error":"#DIV/0!"}},{"$error":"#DIV/0!"},{"$error":"#DIV/0!"},{"$nulls":3},{"$error":"#DIV/0!"}]
[{"$nulls":8},{"v":0,"d":"0.0"},{"v":0,"d":"0.00"},{"$error":"#DIV/0!"},{"$error":"#DIV/0!"},{"$error":"#DIV/0!"},{"$error":"#DIV/0!"},{"$error":"#DIV/0!"},{"$error":"#DIV/0!"},{"$f":"IF(A340=\"m\",VLOOKUP(K340,Berechnung_Male!$A$1:$D$42,W340,TRUE),VLOOKUP(Eingabeblatt!K340,Berechnung_Female!$A$1:$D$42,W340,TRUE))","v":{"$error":"#DIV/0!"}},{"$error":"#DIV/0!"},{"$error":"#DIV/0!"},{"$nulls":3},{"$error":"#DIV/0!"}]
[{"$nulls":8},{"v":0,"d":"0.0"},{"v":0,"d":"0.00"},{"$error":"#DIV/0!"},{"$error":"#DIV/0!"},{"$error":"#DIV/0!"},{"$error":"#DIV/0!"},{"$error":"#DIV/0!"},{"$error":"#DIV/0!"},{"$f":"IF(A341=\"m\",VLOOKUP(K341,Berechnung_Male!$A$1:$D$42,W341,TRUE),VLOOKUP(Eingabeblatt!K341,Berechnung_Female!$A$1:$D$42,W341,TRUE))","v":{"$error":"#DIV/0!"}},{"$error":"#DIV/0!"},{"$error":"#DIV/0!"},{"$nulls":3},{"$error":"#DIV/0!"}]
[{"$nulls":8},{"v":0,"d":"0.0"},{"v":0,"d":"0.00"},{"$error":"#DIV/0!"},{"$error":"#DIV/0!"},{"$error":"#DIV/0!"},{"$error":"#DIV/0!"},{"$error":"#DIV/0!"},{"$error":"#DIV/0!"},{"$f":"IF(A342=\"m\",VLOOKUP(K342,Berechnung_Male!$A$1:$D$42,W342,TRUE),VLOOKUP(Eingabeblatt!K342,Berechnung_Female!$A$1:$D$42,W342,TRUE))","v":{"$error":"#DIV/0!"}},{"$error":"#DIV/0!"},{"$error":"#DIV/0!"},{"$nulls":3},{"$error":"#DIV/0!"}]
[{"$nulls":8},{"v":0,"d":"0.0"},{"v":0,"d":"0.00"},{"$error":"#DIV/0!"},{"$error":"#DIV/0!"},{"$error":"#DIV/0!"},{"$error":"#DIV/0!"},{"$error":"#DIV/0!"},{"$error":"#DIV/0!"},{"$f":"IF(A343=\"m\",VLOOKUP(K343,Berechnung_Male!$A$1:$D$42,W343,TRUE),VLOOKUP(Eingabeblatt!K343,Berechnung_Female!$A$1:$D$42,W343,TRUE))","v":{"$error":"#DIV/0!"}},{"$error":"#DIV/0!"},{"$error":"#DIV/0!"},{"$nulls":3},{"$error":"#DIV/0!"}]
[{"$nulls":8},{"v":0,"d":"0.0"},{"v":0,"d":"0.00"},{"$error":"#DIV/0!"},{"$error":"#DIV/0!"},{"$error":"#DIV/0!"},{"$error":"#DIV/0!"},{"$error":"#DIV/0!"},{"$error":"#DIV/0!"},{"$f":"IF(A344=\"m\",VLOOKUP(K344,Berechnung_Male!$A$1:$D$42,W344,TRUE),VLOOKUP(Eingabeblatt!K344,Berechnung_Female!$A$1:$D$42,W344,TRUE))","v":{"$error":"#DIV/0!"}},{"$error":"#DIV/0!"},{"$error":"#DIV/0!"},{"$nulls":3},{"$error":"#DIV/0!"}]
[{"$nulls":8},{"v":0,"d":"0.0"},{"v":0,"d":"0.00"},{"$error":"#DIV/0!"},{"$error":"#DIV/0!"},{"$error":"#DIV/0!"},{"$error":"#DIV/0!"},{"$error":"#DIV/0!"},{"$error":"#DIV/0!"},{"$f":"IF(A345=\"m\",VLOOKUP(K345,Berechnung_Male!$A$1:$D$42,W345,TRUE),VLOOKUP(Eingabeblatt!K345,Berechnung_Female!$A$1:$D$42,W345,TRUE))","v":{"$error":"#DIV/0!"}},{"$error":"#DIV/0!"},{"$error":"#DIV/0!"},{"$nulls":3},{"$error":"#DIV/0!"}]
[{"$nulls":8},{"v":0,"d":"0.0"},{"v":0,"d":"0.00"},{"$error":"#DIV/0!"},{"$error":"#DIV/0!"},{"$error":"#DIV/0!"},{"$error":"#DIV/0!"},{"$error":"#DIV/0!"},{"$error":"#DIV/0!"},{"$f":"IF(A346=\"m\",VLOOKUP(K346,Berechnung_Male!$A$1:$D$42,W346,TRUE),VLOOKUP(Eingabeblatt!K346,Berechnung_Female!$A$1:$D$42,W346,TRUE))","v":{"$error":"#DIV/0!"}},{"$error":"#DIV/0!"},{"$error":"#DIV/0!"},{"$nulls":3},{"$error":"#DIV/0!"}]
[{"$nulls":8},{"v":0,"d":"0.0"},{"v":0,"d":"0.00"},{"$error":"#DIV/0!"},{"$error":"#DIV/0!"},{"$error":"#DIV/0!"},{"$error":"#DIV/0!"},{"$error":"#DIV/0!"},{"$error":"#DIV/0!"},{"$f":"IF(A347=\"m\",VLOOKUP(K347,Berechnung_Male!$A$1:$D$42,W347,TRUE),VLOOKUP(Eingabeblatt!K347,Berechnung_Female!$A$1:$D$42,W347,TRUE))","v":{"$error":"#DIV/0!"}},{"$error":"#DIV/0!"},{"$error":"#DIV/0!"},{"$nulls":3},{"$error":"#DIV/0!"}]
[{"$nulls":8},{"v":0,"d":"0.0"},{"v":0,"d":"0.00"},{"$error":"#DIV/0!"},{"$error":"#DIV/0!"},{"$error":"#DIV/0!"},{"$error":"#DIV/0!"},{"$error":"#DIV/0!"},{"$error":"#DIV/0!"},{"$f":"IF(A348=\"m\",VLOOKUP(K348,Berechnung_Male!$A$1:$D$42,W348,TRUE),VLOOKUP(Eingabeblatt!K348,Berechnung_Female!$A$1:$D$42,W348,TRUE))","v":{"$error":"#DIV/0!"}},{"$error":"#DIV/0!"},{"$error":"#DIV/0!"},{"$nulls":3},{"$error":"#DIV/0!"}]
[{"$nulls":8},{"v":0,"d":"0.0"},{"v":0,"d":"0.00"},{"$error":"#DIV/0!"},{"$error":"#DIV/0!"},{"$error":"#DIV/0!"},{"$error":"#DIV/0!"},{"$error":"#DIV/0!"},{"$error":"#DIV/0!"},{"$f":"IF(A349=\"m\",VLOOKUP(K349,Berechnung_Male!$A$1:$D$42,W349,TRUE),VLOOKUP(Eingabeblatt!K349,Berechnung_Female!$A$1:$D$42,W349,TRUE))","v":{"$error":"#DIV/0!"}},{"$error":"#DIV/0!"},{"$error":"#DIV/0!"},{"$nulls":3},{"$error":"#DIV/0!"}]
[{"$nulls":8},{"v":0,"d":"0.0"},{"v":0,"d":"0.00"},{"$error":"#DIV/0!"},{"$error":"#DIV/0!"},{"$error":"#DIV/0!"},{"$error":"#DIV/0!"},{"$error":"#DIV/0!"},{"$error":"#DIV/0!"},{"$f":"IF(A350=\"m\",VLOOKUP(K350,Berechnung_Male!$A$1:$D$42,W350,TRUE),VLOOKUP(Eingabeblatt!K350,Berechnung_Female!$A$1:$D$42,W350,TRUE))","v":{"$error":"#DIV/0!"}},{"$error":"#DIV/0!"},{"$error":"#DIV/0!"},{"$nulls":3},{"$error":"#DIV/0!"}]
[{"$nulls":8},{"v":0,"d":"0.0"},{"v":0,"d":"0.00"},{"$error":"#DIV/0!"},{"$error":"#DIV/0!"},{"$error":"#DIV/0!"},{"$error":"#DIV/0!"},{"$error":"#DIV/0!"},{"$error":"#DIV/0!"},{"$f":"IF(A351=\"m\",VLOOKUP(K351,Berechnung_Male!$A$1:$D$42,W351,TRUE),VLOOKUP(Eingabeblatt!K351,Berechnung_Female!$A$1:$D$42,W351,TRUE))","v":{"$error":"#DIV/0!"}},{"$error":"#DIV/0!"},{"$error":"#DIV/0!"},{"$nulls":3},{"$error":"#DIV/0!"}]
[{"$nulls":8},{"v":0,"d":"0.0"},{"v":0,"d":"0.00"},{"$error":"#DIV/0!"},{"$error":"#DIV/0!"},{"$error":"#DIV/0!"},{"$error":"#DIV/0!"},{"$error":"#DIV/0!"},{"$error":"#DIV/0!"},{"$f":"IF(A352=\"m\",VLOOKUP(K352,Berechnung_Male!$A$1:$D$42,W352,TRUE),VLOOKUP(Eingabeblatt!K352,Berechnung_Female!$A$1:$D$42,W352,TRUE))","v":{"$error":"#DIV/0!"}},{"$error":"#DIV/0!"},{"$error":"#DIV/0!"},{"$nulls":3},{"$error":"#DIV/0!"}]
[{"$nulls":8},{"v":0,"d":"0.0"},{"v":0,"d":"0.00"},{"$error":"#DIV/0!"},{"$error":"#DIV/0!"},{"$error":"#DIV/0!"},{"$error":"#DIV/0!"},{"$error":"#DIV/0!"},{"$error":"#DIV/0!"},{"$f":"IF(A353=\"m\",VLOOKUP(K353,Berechnung_Male!$A$1:$D$42,W353,TRUE),VLOOKUP(Eingabeblatt!K353,Berechnung_Female!$A$1:$D$42,W353,TRUE))","v":{"$error":"#DIV/0!"}},{"$error":"#DIV/0!"},{"$error":"#DIV/0!"},{"$nulls":3},{"$error":"#DIV/0!"}]
[{"$nulls":8},{"v":0,"d":"0.0"},{"v":0,"d":"0.00"},{"$error":"#DIV/0!"},{"$error":"#DIV/0!"},{"$error":"#DIV/0!"},{"$error":"#DIV/0!"},{"$error":"#DIV/0!"},{"$error":"#DIV/0!"},{"$f":"IF(A354=\"m\",VLOOKUP(K354,Berechnung_Male!$A$1:$D$42,W354,TRUE),VLOOKUP(Eingabeblatt!K354,Berechnung_Female!$A$1:$D$42,W354,TRUE))","v":{"$error":"#DIV/0!"}},{"$error":"#DIV/0!"},{"$error":"#DIV/0!"},{"$nulls":3},{"$error":"#DIV/0!"}]
[{"$nulls":8},{"v":0,"d":"0.0"},{"v":0,"d":"0.00"},{"$error":"#DIV/0!"},{"$error":"#DIV/0!"},{"$error":"#DIV/0!"},{"$error":"#DIV/0!"},{"$error":"#DIV/0!"},{"$error":"#DIV/0!"},{"$f":"IF(A355=\"m\",VLOOKUP(K355,Berechnung_Male!$A$1:$D$42,W355,TRUE),VLOOKUP(Eingabeblatt!K355,Berechnung_Female!$A$1:$D$42,W355,TRUE))","v":{"$error":"#DIV/0!"}},{"$error":"#DIV/0!"},{"$error":"#DIV/0!"},{"$nulls":3},{"$error":"#DIV/0!"}]
[{"$nulls":8},{"v":0,"d":"0.0"},{"v":0,"d":"0.00"},{"$error":"#DIV/0!"},{"$error":"#DIV/0!"},{"$error":"#DIV/0!"},{"$error":"#DIV/0!"},{"$error":"#DIV/0!"},{"$error":"#DIV/0!"},{"$f":"IF(A356=\"m\",VLOOKUP(K356,Berechnung_Male!$A$1:$D$42,W356,TRUE),VLOOKUP(Eingabeblatt!K356,Berechnung_Female!$A$1:$D$42,W356,TRUE))","v":{"$error":"#DIV/0!"}},{"$error":"#DIV/0!"},{"$error":"#DIV/0!"},{"$nulls":3},{"$error":"#DIV/0!"}]
[{"$nulls":8},{"v":0,"d":"0.0"},{"v":0,"d":"0.00"},{"$error":"#DIV/0!"},{"$error":"#DIV/0!"},{"$error":"#DIV/0!"},{"$error":"#DIV/0!"},{"$error":"#DIV/0!"},{"$error":"#DIV/0!"},{"$f":"IF(A357=\"m\",VLOOKUP(K357,Berechnung_Male!$A$1:$D$42,W357,TRUE),VLOOKUP(Eingabeblatt!K357,Berechnung_Female!$A$1:$D$42,W357,TRUE))","v":{"$error":"#DIV/0!"}},{"$error":"#DIV/0!"},{"$error":"#DIV/0!"},{"$nulls":3},{"$error":"#DIV/0!"}]
[{"$nulls":8},{"v":0,"d":"0.0"},{"v":0,"d":"0.00"},{"$error":"#DIV/0!"},{"$error":"#DIV/0!"},{"$error":"#DIV/0!"},{"$error":"#DIV/0!"},{"$error":"#DIV/0!"},{"$error":"#DIV/0!"},{"$f":"IF(A358=\"m\",VLOOKUP(K358,Berechnung_Male!$A$1:$D$42,W358,TRUE),VLOOKUP(Eingabeblatt!K358,Berechnung_Female!$A$1:$D$42,W358,TRUE))","v":{"$error":"#DIV/0!"}},{"$error":"#DIV/0!"},{"$error":"#DIV/0!"},{"$nulls":3},{"$error":"#DIV/0!"}]
[{"$nulls":8},{"v":0,"d":"0.0"},{"v":0,"d":"0.00"},{"$error":"#DIV/0!"},{"$error":"#DIV/0!"},{"$error":"#DIV/0!"},{"$error":"#DIV/0!"},{"$error":"#DIV/0!"},{"$error":"#DIV/0!"},{"$f":"IF(A359=\"m\",VLOOKUP(K359,Berechnung_Male!$A$1:$D$42,W359,TRUE),VLOOKUP(Eingabeblatt!K359,Berechnung_Female!$A$1:$D$42,W359,TRUE))","v":{"$error":"#DIV/0!"}},{"$error":"#DIV/0!"},{"$error":"#DIV/0!"},{"$nulls":3},{"$error":"#DIV/0!"}]
[{"$nulls":8},{"v":0,"d":"0.0"},{"v":0,"d":"0.00"},{"$error":"#DIV/0!"},{"$error":"#DIV/0!"},{"$error":"#DIV/0!"},{"$error":"#DIV/0!"},{"$error":"#DIV/0!"},{"$error":"#DIV/0!"},{"$f":"IF(A360=\"m\",VLOOKUP(K360,Berechnung_Male!$A$1:$D$42,W360,TRUE),VLOOKUP(Eingabeblatt!K360,Berechnung_Female!$A$1:$D$42,W360,TRUE))","v":{"$error":"#DIV/0!"}},{"$error":"#DIV/0!"},{"$error":"#DIV/0!"},{"$nulls":3},{"$error":"#DIV/0!"}]
[{"$nulls":8},{"v":0,"d":"0.0"},{"v":0,"d":"0.00"},{"$error":"#DIV/0!"},{"$error":"#DIV/0!"},{"$error":"#DIV/0!"},{"$error":"#DIV/0!"},{"$error":"#DIV/0!"},{"$error":"#DIV/0!"},{"$f":"IF(A361=\"m\",VLOOKUP(K361,Berechnung_Male!$A$1:$D$42,W361,TRUE),VLOOKUP(Eingabeblatt!K361,Berechnung_Female!$A$1:$D$42,W361,TRUE))","v":{"$error":"#DIV/0!"}},{"$error":"#DIV/0!"},{"$error":"#DIV/0!"},{"$nulls":3},{"$error":"#DIV/0!"}]
[{"$nulls":8},{"v":0,"d":"0.0"},{"v":0,"d":"0.00"},{"$error":"#DIV/0!"},{"$error":"#DIV/0!"},{"$error":"#DIV/0!"},{"$error":"#DIV/0!"},{"$error":"#DIV/0!"},{"$error":"#DIV/0!"},{"$f":"IF(A362=\"m\",VLOOKUP(K362,Berechnung_Male!$A$1:$D$42,W362,TRUE),VLOOKUP(Eingabeblatt!K362,Berechnung_Female!$A$1:$D$42,W362,TRUE))","v":{"$error":"#DIV/0!"}},{"$error":"#DIV/0!"},{"$error":"#DIV/0!"},{"$nulls":3},{"$error":"#DIV/0!"}]
[{"$nulls":8},{"v":0,"d":"0.0"},{"v":0,"d":"0.00"},{"$error":"#DIV/0!"},{"$error":"#DIV/0!"},{"$error":"#DIV/0!"},{"$error":"#DIV/0!"},{"$error":"#DIV/0!"},{"$error":"#DIV/0!"},{"$f":"IF(A363=\"m\",VLOOKUP(K363,Berechnung_Male!$A$1:$D$42,W363,TRUE),VLOOKUP(Eingabeblatt!K363,Berechnung_Female!$A$1:$D$42,W363,TRUE))","v":{"$error":"#DIV/0!"}},{"$error":"#DIV/0!"},{"$error":"#DIV/0!"},{"$nulls":3},{"$error":"#DIV/0!"}]
[{"$nulls":8},{"v":0,"d":"0.0"},{"v":0,"d":"0.00"},{"$error":"#DIV/0!"},{"$error":"#DIV/0!"},{"$error":"#DIV/0!"},{"$error":"#DIV/0!"},{"$error":"#DIV/0!"},{"$error":"#DIV/0!"},{"$f":"IF(A364=\"m\",VLOOKUP(K364,Berechnung_Male!$A$1:$D$42,W364,TRUE),VLOOKUP(Eingabeblatt!K364,Berechnung_Female!$A$1:$D$42,W364,TRUE))","v":{"$error":"#DIV/0!"}},{"$error":"#DIV/0!"},{"$error":"#DIV/0!"},{"$nulls":3},{"$error":"#DIV/0!"}]
[{"$nulls":8},{"v":0,"d":"0.0"},{"v":0,"d":"0.00"},{"$error":"#DIV/0!"},{"$error":"#DIV/0!"},{"$error":"#DIV/0!"},{"$error":"#DIV/0!"},{"$error":"#DIV/0!"},{"$error":"#DIV/0!"},{"$f":"IF(A365=\"m\",VLOOKUP(K365,Berechnung_Male!$A$1:$D$42,W365,TRUE),VLOOKUP(Eingabeblatt!K365,Berechnung_Female!$A$1:$D$42,W365,TRUE))","v":{"$error":"#DIV/0!"}},{"$error":"#DIV/0!"},{"$error":"#DIV/0!"},{"$nulls":3},{"$error":"#DIV/0!"}]
[{"$nulls":8},{"v":0,"d":"0.0"},{"v":0,"d":"0.00"},{"$error":"#DIV/0!"},{"$error":"#DIV/0!"},{"$error":"#DIV/0!"},{"$error":"#DIV/0!"},{"$error":"#DIV/0!"},{"$error":"#DIV/0!"},{"$f":"IF(A366=\"m\",VLOOKUP(K366,Berechnung_Male!$A$1:$D$42,W366,TRUE),VLOOKUP(Eingabeblatt!K366,Berechnung_Female!$A$1:$D$42,W366,TRUE))","v":{"$error":"#DIV/0!"}},{"$error":"#DIV/0!"},{"$error":"#DIV/0!"},{"$nulls":3},{"$error":"#DIV/0!"}]
[{"$nulls":8},{"v":0,"d":"0.0"},{"v":0,"d":"0.00"},{"$error":"#DIV/0!"},{"$error":"#DIV/0!"},{"$error":"#DIV/0!"},{"$error":"#DIV/0!"},{"$error":"#DIV/0!"},{"$error":"#DIV/0!"},{"$f":"IF(A367=\"m\",VLOOKUP(K367,Berechnung_Male!$A$1:$D$42,W367,TRUE),VLOOKUP(Eingabeblatt!K367,Berechnung_Female!$A$1:$D$42,W367,TRUE))","v":{"$error":"#DIV/0!"}},{"$error":"#DIV/0!"},{"$error":"#DIV/0!"},{"$nulls":3},{"$error":"#DIV/0!"}]
[{"$nulls":8},{"v":0,"d":"0.0"},{"v":0,"d":"0.00"},{"$error":"#DIV/0!"},{"$error":"#DIV/0!"},{"$error":"#DIV/0!"},{"$error":"#DIV/0!"},{"$error":"#DIV/0!"},{"$error":"#DIV/0!"},{"$f":"IF(A368=\"m\",VLOOKUP(K368,Berechnung_Male!$A$1:$D$42,W368,TRUE),VLOOKUP(Eingabeblatt!K368,Berechnung_Female!$A$1:$D$42,W368,TRUE))","v":{"$error":"#DIV/0!"}},{"$error":"#DIV/0!"},{"$error":"#DIV/0!"},{"$nulls":3},{"$error":"#DIV/0!"}]
[{"$nulls":8},{"v":0,"d":"0.0"},{"v":0,"d":"0.00"},{"$error":"#DIV/0!"},{"$error":"#DIV/0!"},{"$error":"#DIV/0!"},{"$error":"#DIV/0!"},{"$error":"#DIV/0!"},{"$error":"#DIV/0!"},{"$f":"IF(A369=\"m\",VLOOKUP(K369,Berechnung_Male!$A$1:$D$42,W369,TRUE),VLOOKUP(Eingabeblatt!K369,Berechnung_Female!$A$1:$D$42,W369,TRUE))","v":{"$error":"#DIV/0!"}},{"$error":"#DIV/0!"},{"$error":"#DIV/0!"},{"$nulls":3},{"$error":"#DIV/0!"}]
[{"$nulls":8},{"v":0,"d":"0.0"},{"v":0,"d":"0.00"},{"$error":"#DIV/0!"},{"$error":"#DIV/0!"},{"$error":"#DIV/0!"},{"$error":"#DIV/0!"},{"$error":"#DIV/0!"},{"$error":"#DIV/0!"},{"$f":"IF(A370=\"m\",VLOOKUP(K370,Berechnung_Male!$A$1:$D$42,W370,TRUE),VLOOKUP(Eingabeblatt!K370,Berechnung_Female!$A$1:$D$42,W370,TRUE))","v":{"$error":"#DIV/0!"}},{"$error":"#DIV/0!"},{"$error":"#DIV/0!"},{"$nulls":3},{"$error":"#DIV/0!"}]
[{"$nulls":8},{"v":0,"d":"0.0"},{"v":0,"d":"0.00"},{"$error":"#DIV/0!"},{"$error":"#DIV/0!"},{"$error":"#DIV/0!"},{"$error":"#DIV/0!"},{"$error":"#DIV/0!"},{"$error":"#DIV/0!"},{"$f":"IF(A371=\"m\",VLOOKUP(K371,Berechnung_Male!$A$1:$D$42,W371,TRUE),VLOOKUP(Eingabeblatt!K371,Berechnung_Female!$A$1:$D$42,W371,TRUE))","v":{"$error":"#DIV/0!"}},{"$error":"#DIV/0!"},{"$error":"#DIV/0!"},{"$nulls":3},{"$error":"#DIV/0!"}]
[{"$nulls":8},{"v":0,"d":"0.0"},{"v":0,"d":"0.00"},{"$error":"#DIV/0!"},{"$error":"#DIV/0!"},{"$error":"#DIV/0!"},{"$error":"#DIV/0!"},{"$error":"#DIV/0!"},{"$error":"#DIV/0!"},{"$f":"IF(A372=\"m\",VLOOKUP(K372,Berechnung_Male!$A$1:$D$42,W372,TRUE),VLOOKUP(Eingabeblatt!K372,Berechnung_Female!$A$1:$D$42,W372,TRUE))","v":{"$error":"#DIV/0!"}},{"$error":"#DIV/0!"},{"$error":"#DIV/0!"},{"$nulls":3},{"$error":"#DIV/0!"}]
[{"$nulls":8},{"v":0,"d":"0.0"},{"v":0,"d":"0.00"},{"$error":"#DIV/0!"},{"$error":"#DIV/0!"},{"$error":"#DIV/0!"},{"$error":"#DIV/0!"},{"$error":"#DIV/0!"},{"$error":"#DIV/0!"},{"$f":"IF(A373=\"m\",VLOOKUP(K373,Berechnung_Male!$A$1:$D$42,W373,TRUE),VLOOKUP(Eingabeblatt!K373,Berechnung_Female!$A$1:$D$42,W373,TRUE))","v":{"$error":"#DIV/0!"}},{"$error":"#DIV/0!"},{"$error":"#DIV/0!"},{"$nulls":3},{"$error":"#DIV/0!"}]
[{"$nulls":8},{"v":0,"d":"0.0"},{"v":0,"d":"0.00"},{"$error":"#DIV/0!"},{"$error":"#DIV/0!"},{"$error":"#DIV/0!"},{"$error":"#DIV/0!"},{"$error":"#DIV/0!"},{"$error":"#DIV/0!"},{"$f":"IF(A374=\"m\",VLOOKUP(K374,Berechnung_Male!$A$1:$D$42,W374,TRUE),VLOOKUP(Eingabeblatt!K374,Berechnung_Female!$A$1:$D$42,W374,TRUE))","v":{"$error":"#DIV/0!"}},{"$error":"#DIV/0!"},{"$error":"#DIV/0!"},{"$nulls":3},{"$error":"#DIV/0!"}]
[{"$nulls":8},{"v":0,"d":"0.0"},{"v":0,"d":"0.00"},{"$error":"#DIV/0!"},{"$error":"#DIV/0!"},{"$error":"#DIV/0!"},{"$error":"#DIV/0!"},{"$error":"#DIV/0!"},{"$error":"#DIV/0!"},{"$f":"IF(A375=\"m\",VLOOKUP(K375,Berechnung_Male!$A$1:$D$42,W375,TRUE),VLOOKUP(Eingabeblatt!K375,Berechnung_Female!$A$1:$D$42,W375,TRUE))","v":{"$error":"#DIV/0!"}},{"$error":"#DIV/0!"},{"$error":"#DIV/0!"},{"$nulls":3},{"$error":"#DIV/0!"}]
[{"$nulls":8},{"v":0,"d":"0.0"},{"v":0,"d":"0.00"},{"$error":"#DIV/0!"},{"$error":"#DIV/0!"},{"$error":"#DIV/0!"},{"$error":"#DIV/0!"},{"$error":"#DIV/0!"},{"$error":"#DIV/0!"},{"$f":"IF(A376=\"m\",VLOOKUP(K376,Berechnung_Male!$A$1:$D$42,W376,TRUE),VLOOKUP(Eingabeblatt!K376,Berechnung_Female!$A$1:$D$42,W376,TRUE))","v":{"$error":"#DIV/0!"}},{"$error":"#DIV/0!"},{"$error":"#DIV/0!"},{"$nulls":3},{"$error":"#DIV/0!"}]
[{"$nulls":8},{"v":0,"d":"0.0"},{"v":0,"d":"0.00"},{"$error":"#DIV/0!"},{"$error":"#DIV/0!"},{"$error":"#DIV/0!"},{"$error":"#DIV/0!"},{"$error":"#DIV/0!"},{"$error":"#DIV/0!"},{"$f":"IF(A377=\"m\",VLOOKUP(K377,Berechnung_Male!$A$1:$D$42,W377,TRUE),VLOOKUP(Eingabeblatt!K377,Berechnung_Female!$A$1:$D$42,W377,TRUE))","v":{"$error":"#DIV/0!"}},{"$error":"#DIV/0!"},{"$error":"#DIV/0!"},{"$nulls":3},{"$error":"#DIV/0!"}]
[{"$nulls":8},{"v":0,"d":"0.0"},{"v":0,"d":"0.00"},{"$error":"#DIV/0!"},{"$error":"#DIV/0!"},{"$error":"#DIV/0!"},{"$error":"#DIV/0!"},{"$error":"#DIV/0!"},{"$error":"#DIV/0!"},{"$f":"IF(A378=\"m\",VLOOKUP(K378,Berechnung_Male!$A$1:$D$42,W378,TRUE),VLOOKUP(Eingabeblatt!K378,Berechnung_Female!$A$1:$D$42,W378,TRUE))","v":{"$error":"#DIV/0!"}},{"$error":"#DIV/0!"},{"$error":"#DIV/0!"},{"$nulls":3},{"$error":"#DIV/0!"}]
[{"$nulls":8},{"v":0,"d":"0.0"},{"v":0,"d":"0.00"},{"$error":"#DIV/0!"},{"$error":"#DIV/0!"},{"$error":"#DIV/0!"},{"$error":"#DIV/0!"},{"$error":"#DIV/0!"},{"$error":"#DIV/0!"},{"$f":"IF(A379=\"m\",VLOOKUP(K379,Berechnung_Male!$A$1:$D$42,W379,TRUE),VLOOKUP(Eingabeblatt!K379,Berechnung_Female!$A$1:$D$42,W379,TRUE))","v":{"$error":"#DIV/0!"}},{"$error":"#DIV/0!"},{"$error":"#DIV/0!"},{"$nulls":3},{"$error":"#DIV/0!"}]
[{"$nulls":8},{"v":0,"d":"0.0"},{"v":0,"d":"0.00"},{"$error":"#DIV/0!"},{"$error":"#DIV/0!"},{"$error":"#DIV/0!"},{"$error":"#DIV/0!"},{"$error":"#DIV/0!"},{"$error":"#DIV/0!"},{"$f":"IF(A380=\"m\",VLOOKUP(K380,Berechnung_Male!$A$1:$D$42,W380,TRUE),VLOOKUP(Eingabeblatt!K380,Berechnung_Female!$A$1:$D$42,W380,TRUE))","v":{"$error":"#DIV/0!"}},{"$error":"#DIV/0!"},{"$error":"#DIV/0!"},{"$nulls":3},{"$error":"#DIV/0!"}]
[{"$nulls":8},{"v":0,"d":"0.0"},{"v":0,"d":"0.00"},{"$error":"#DIV/0!"},{"$error":"#DIV/0!"},{"$error":"#DIV/0!"},{"$error":"#DIV/0!"},{"$error":"#DIV/0!"},{"$error":"#DIV/0!"},{"$f":"IF(A381=\"m\",VLOOKUP(K381,Berechnung_Male!$A$1:$D$42,W381,TRUE),VLOOKUP(Eingabeblatt!K381,Berechnung_Female!$A$1:$D$42,W381,TRUE))","v":{"$error":"#DIV/0!"}},{"$error":"#DIV/0!"},{"$error":"#DIV/0!"},{"$nulls":3},{"$error":"#DIV/0!"}]
[{"$nulls":8},{"v":0,"d":"0.0"},{"v":0,"d":"0.00"},{"$error":"#DIV/0!"},{"$error":"#DIV/0!"},{"$error":"#DIV/0!"},{"$error":"#DIV/0!"},{"$error":"#DIV/0!"},{"$error":"#DIV/0!"},{"$f":"IF(A382=\"m\",VLOOKUP(K382,Berechnung_Male!$A$1:$D$42,W382,TRUE),VLOOKUP(Eingabeblatt!K382,Berechnung_Female!$A$1:$D$42,W382,TRUE))","v":{"$error":"#DIV/0!"}},{"$error":"#DIV/0!"},{"$error":"#DIV/0!"},{"$nulls":3},{"$error":"#DIV/0!"}]
[{"$nulls":8},{"v":0,"d":"0.0"},{"v":0,"d":"0.00"},{"$error":"#DIV/0!"},{"$error":"#DIV/0!"},{"$error":"#DIV/0!"},{"$error":"#DIV/0!"},{"$error":"#DIV/0!"},{"$error":"#DIV/0!"},{"$f":"IF(A383=\"m\",VLOOKUP(K383,Berechnung_Male!$A$1:$D$42,W383,TRUE),VLOOKUP(Eingabeblatt!K383,Berechnung_Female!$A$1:$D$42,W383,TRUE))","v":{"$error":"#DIV/0!"}},{"$error":"#DIV/0!"},{"$error":"#DIV/0!"},{"$nulls":3},{"$error":"#DIV/0!"}]
[{"$nulls":8},{"v":0,"d":"0.0"},{"v":0,"d":"0.00"},{"$error":"#DIV/0!"},{"$error":"#DIV/0!"},{"$error":"#DIV/0!"},{"$error":"#DIV/0!"},{"$error":"#DIV/0!"},{"$error":"#DIV/0!"},{"$f":"IF(A384=\"m\",VLOOKUP(K384,Berechnung_Male!$A$1:$D$42,W384,TRUE),VLOOKUP(Eingabeblatt!K384,Berechnung_Female!$A$1:$D$42,W384,TRUE))","v":{"$error":"#DIV/0!"}},{"$error":"#DIV/0!"},{"$error":"#DIV/0!"},{"$nulls":3},{"$error":"#DIV/0!"}]
[{"$nulls":8},{"v":0,"d":"0.0"},{"v":0,"d":"0.00"},{"$error":"#DIV/0!"},{"$error":"#DIV/0!"},{"$error":"#DIV/0!"},{"$error":"#DIV/0!"},{"$error":"#DIV/0!"},{"$error":"#DIV/0!"},{"$f":"IF(A385=\"m\",VLOOKUP(K385,Berechnung_Male!$A$1:$D$42,W385,TRUE),VLOOKUP(Eingabeblatt!K385,Berechnung_Female!$A$1:$D$42,W385,TRUE))","v":{"$error":"#DIV/0!"}},{"$error":"#DIV/0!"},{"$error":"#DIV/0!"},{"$nulls":3},{"$error":"#DIV/0!"}]
[{"$nulls":8},{"v":0,"d":"0.0"},{"v":0,"d":"0.00"},{"$error":"#DIV/0!"},{"$error":"#DIV/0!"},{"$error":"#DIV/0!"},{"$error":"#DIV/0!"},{"$error":"#DIV/0!"},{"$error":"#DIV/0!"},{"$f":"IF(A386=\"m\",VLOOKUP(K386,Berechnung_Male!$A$1:$D$42,W386,TRUE),VLOOKUP(Eingabeblatt!K386,Berechnung_Female!$A$1:$D$42,W386,TRUE))","v":{"$error":"#DIV/0!"}},{"$error":"#DIV/0!"},{"$error":"#DIV/0!"},{"$nulls":3},{"$error":"#DIV/0!"}]
[{"$nulls":8},{"v":0,"d":"0.0"},{"v":0,"d":"0.00"},{"$error":"#DIV/0!"},{"$error":"#DIV/0!"},{"$error":"#DIV/0!"},{"$error":"#DIV/0!"},{"$error":"#DIV/0!"},{"$error":"#DIV/0!"},{"$f":"IF(A387=\"m\",VLOOKUP(K387,Berechnung_Male!$A$1:$D$42,W387,TRUE),VLOOKUP(Eingabeblatt!K387,Berechnung_Female!$A$1:$D$42,W387,TRUE))","v":{"$error":"#DIV/0!"}},{"$error":"#DIV/0!"},{"$error":"#DIV/0!"},{"$nulls":3},{"$error":"#DIV/0!"}]
[{"$nulls":8},{"v":0,"d":"0.0"},{"v":0,"d":"0.00"},{"$error":"#DIV/0!"},{"$error":"#DIV/0!"},{"$error":"#DIV/0!"},{"$error":"#DIV/0!"},{"$error":"#DIV/0!"},{"$error":"#DIV/0!"},{"$f":"IF(A388=\"m\",VLOOKUP(K388,Berechnung_Male!$A$1:$D$42,W388,TRUE),VLOOKUP(Eingabeblatt!K388,Berechnung_Female!$A$1:$D$42,W388,TRUE))","v":{"$error":"#DIV/0!"}},{"$error":"#DIV/0!"},{"$error":"#DIV/0!"},{"$nulls":3},{"$error":"#DIV/0!"}]
[{"$nulls":8},{"v":0,"d":"0.0"},{"v":0,"d":"0.00"},{"$error":"#DIV/0!"},{"$error":"#DIV/0!"},{"$error":"#DIV/0!"},{"$error":"#DIV/0!"},{"$error":"#DIV/0!"},{"$error":"#DIV/0!"},{"$f":"IF(A389=\"m\",VLOOKUP(K389,Berechnung_Male!$A$1:$D$42,W389,TRUE),VLOOKUP(Eingabeblatt!K389,Berechnung_Female!$A$1:$D$42,W389,TRUE))","v":{"$error":"#DIV/0!"}},{"$error":"#DIV/0!"},{"$error":"#DIV/0!"},{"$nulls":3},{"$error":"#DIV/0!"}]
[{"$nulls":8},{"$f":"G390-H390","v":{"v":0,"d":"0.0"}},{"$f":"(B390-E390)/365.25","v":{"v":0,"d":"0.00"}},{"$f":"IF(A390=\"m\",(-9.236+(0.0002708*I390*H390)+(-0.001663*J390*I390)+(0.007216*J390*H390)+(0.02292*F390/G390*100)),(-9.376+(0.0001882*I390*H390)+(0.0022*J390*I390)+(0.005841*J390*H390)-(0.002658*J390*F390)+(0.07693*(F390/G390)*100)))","v":{"$error":"#DIV/0!"}},{"$f":"J390-K390","v":{"$error":"#DIV/0!"}},{"$f":"IF(A390=\"m\",(IF(L390<12.8,1,IF(L390>14.8,3,2))),(IF(L390<11,1,IF(L390>13,3,2))))","v":{"$error":"#DIV/0!"}},{"$f":"IF(M390=1,\"Früh / précoce\",IF(M390=2,\"Durchschnittlich / Normal\",\"Spät / Tardif\"))","v":{"$error":"#DIV/0!"}},{"$f":"IF(A390=\"m\",(IF(L390<12.8,1,IF(L390<13.3,2,IF(L390>14.8,5,IF(L390>14.3,4,3))))),(IF(L390<11,1,IF(L390<11.5,2,IF(L390>13,5,IF(L390>12.5,4,3))))))","v":{"$error":"#DIV/0!"}},{"$f":"IF(O390=1,\"Früh / précoce\",IF(O390=2,\"Möglicherweise Früh / éventuellement précoce\", IF(O390=3,\"Durchschnittlich / Normal\",IF(O390=4,\"Möglicherweise spät / éventuellement tardif\",\"Spät / Tardif\"))))","v":{"$error":"#DIV/0!"}},{"$f":"IF(A390=\"m\",VLOOKUP(K390,Berechnung_Male!$A$1:$D$42,W390,TRUE),VLOOKUP(Eingabeblatt!K390,Berechnung_Female!$A$1:$D$42,W390,TRUE))","v":{"$error":"#DIV/0!"}},{"$f":"G390+Q390","v":{"$error":"#DIV/0!"}},{"$f":"G390/R390","v":{"$error":"#DIV/0!"}},{"$nulls":3},{"$f":"IF(A390=\"m\",IF(L390<12.8,2,IF(L390<14.8,3,4)),IF(L390<11,2,IF(L390<13,3,4)))","v":{"$error":"#DIV/0!"}}]
[{"$nulls":8},{"v":0,"d":"0.0"},{"v":0,"d":"0.00"},{"$error":"#DIV/0!"},{"$error":"#DIV/0!"},{"$error":"#DIV/0!"},{"$error":"#DIV/0!"},{"$error":"#DIV/0!"},{"$error":"#DIV/0!"},{"$f":"IF(A391=\"m\",VLOOKUP(K391,Berechnung_Male!$A$1:$D$42,W391,TRUE),VLOOKUP(Eingabeblatt!K391,Berechnung_Female!$A$1:$D$42,W391,TRUE))","v":{"$error":"#DIV/0!"}},{"$error":"#DIV/0!"},{"$error":"#DIV/0!"},{"$nulls":3},{"$error":"#DIV/0!"}]
[{"$nulls":8},{"v":0,"d":"0.0"},{"v":0,"d":"0.00"},{"$error":"#DIV/0!"},{"$error":"#DIV/0!"},{"$error":"#DIV/0!"},{"$error":"#DIV/0!"},{"$error":"#DIV/0!"},{"$error":"#DIV/0!"},{"$f":"IF(A392=\"m\",VLOOKUP(K392,Berechnung_Male!$A$1:$D$42,W392,TRUE),VLOOKUP(Eingabeblatt!K392,Berechnung_Female!$A$1:$D$42,W392,TRUE))","v":{"$error":"#DIV/0!"}},{"$error":"#DIV/0!"},{"$error":"#DIV/0!"},{"$nulls":3},{"$error":"#DIV/0!"}]
[{"$nulls":8},{"v":0,"d":"0.0"},{"v":0,"d":"0.00"},{"$error":"#DIV/0!"},{"$error":"#DIV/0!"},{"$error":"#DIV/0!"},{"$error":"#DIV/0!"},{"$error":"#DIV/0!"},{"$error":"#DIV/0!"},{"$f":"IF(A393=\"m\",VLOOKUP(K393,Berechnung_Male!$A$1:$D$42,W393,TRUE),VLOOKUP(Eingabeblatt!K393,Berechnung_Female!$A$1:$D$42,W393,TRUE))","v":{"$error":"#DIV/0!"}},{"$error":"#DIV/0!"},{"$error":"#DIV/0!"},{"$nulls":3},{"$error":"#DIV/0!"}]
[{"$nulls":8},{"v":0,"d":"0.0"},{"v":0,"d":"0.00"},{"$error":"#DIV/0!"},{"$error":"#DIV/0!"},{"$error":"#DIV/0!"},{"$error":"#DIV/0!"},{"$error":"#DIV/0!"},{"$error":"#DIV/0!"},{"$f":"IF(A394=\"m\",VLOOKUP(K394,Berechnung_Male!$A$1:$D$42,W394,TRUE),VLOOKUP(Eingabeblatt!K394,Berechnung_Female!$A$1:$D$42,W394,TRUE))","v":{"$error":"#DIV/0!"}},{"$error":"#DIV/0!"},{"$error":"#DIV/0!"},{"$nulls":3},{"$error":"#DIV/0!"}]
[{"$nulls":8},{"v":0,"d":"0.0"},{"v":0,"d":"0.00"},{"$error":"#DIV/0!"},{"$error":"#DIV/0!"},{"$error":"#DIV/0!"},{"$error":"#DIV/0!"},{"$error":"#DIV/0!"},{"$error":"#DIV/0!"},{"$f":"IF(A395=\"m\",VLOOKUP(K395,Berechnung_Male!$A$1:$D$42,W395,TRUE),VLOOKUP(Eingabeblatt!K395,Berechnung_Female!$A$1:$D$42,W395,TRUE))","v":{"$error":"#DIV/0!"}},{"$error":"#DIV/0!"},{"$error":"#DIV/0!"},{"$nulls":3},{"$error":"#DIV/0!"}]
[{"$nulls":8},{"v":0,"d":"0.0"},{"v":0,"d":"0.00"},{"$error":"#DIV/0!"},{"$error":"#DIV/0!"},{"$error":"#DIV/0!"},{"$error":"#DIV/0!"},{"$error":"#DIV/0!"},{"$error":"#DIV/0!"},{"$f":"IF(A396=\"m\",VLOOKUP(K396,Berechnung_Male!$A$1:$D$42,W396,TRUE),VLOOKUP(Eingabeblatt!K396,Berechnung_Female!$A$1:$D$42,W396,TRUE))","v":{"$error":"#DIV/0!"}},{"$error":"#DIV/0!"},{"$error":"#DIV/0!"},{"$nulls":3},{"$error":"#DIV/0!"}]
[{"$nulls":8},{"v":0,"d":"0.0"},{"v":0,"d":"0.00"},{"$error":"#DIV/0!"},{"$error":"#DIV/0!"},{"$error":"#DIV/0!"},{"$error":"#DIV/0!"},{"$error":"#DIV/0!"},{"$error":"#DIV/0!"},{"$f":"IF(A397=\"m\",VLOOKUP(K397,Berechnung_Male!$A$1:$D$42,W397,TRUE),VLOOKUP(Eingabeblatt!K397,Berechnung_Female!$A$1:$D$42,W397,TRUE))","v":{"$error":"#DIV/0!"}},{"$error":"#DIV/0!"},{"$error":"#DIV/0!"},{"$nulls":3},{"$error":"#DIV/0!"}]
[{"$nulls":8},{"v":0,"d":"0.0"},{"v":0,"d":"0.00"},{"$error":"#DIV/0!"},{"$error":"#DIV/0!"},{"$error":"#DIV/0!"},{"$error":"#DIV/0!"},{"$error":"#DIV/0!"},{"$error":"#DIV/0!"},{"$f":"IF(A398=\"m\",VLOOKUP(K398,Berechnung_Male!$A$1:$D$42,W398,TRUE),VLOOKUP(Eingabeblatt!K398,Berechnung_Female!$A$1:$D$42,W398,TRUE))","v":{"$error":"#DIV/0!"}},{"$error":"#DIV/0!"},{"$error":"#DIV/0!"},{"$nulls":3},{"$error":"#DIV/0!"}]
[{"$nulls":8},{"v":0,"d":"0.0"},{"v":0,"d":"0.00"},{"$error":"#DIV/0!"},{"$error":"#DIV/0!"},{"$error":"#DIV/0!"},{"$error":"#DIV/0!"},{"$error":"#DIV/0!"},{"$error":"#DIV/0!"},{"$f":"IF(A399=\"m\",VLOOKUP(K399,Berechnung_Male!$A$1:$D$42,W399,TRUE),VLOOKUP(Eingabeblatt!K399,Berechnung_Female!$A$1:$D$42,W399,TRUE))","v":{"$error":"#DIV/0!"}},{"$error":"#DIV/0!"},{"$error":"#DIV/0!"},{"$nulls":3},{"$error":"#DIV/0!"}]
[{"$nulls":8},{"v":0,"d":"0.0"},{"v":0,"d":"0.00"},{"$error":"#DIV/0!"},{"$error":"#DIV/0!"},{"$error":"#DIV/0!"},{"$error":"#DIV/0!"},{"$error":"#DIV/0!"},{"$error":"#DIV/0!"},{"$f":"IF(A400=\"m\",VLOOKUP(K400,Berechnung_Male!$A$1:$D$42,W400,TRUE),VLOOKUP(Eingabeblatt!K400,Berechnung_Female!$A$1:$D$42,W400,TRUE))","v":{"$error":"#DIV/0!"}},{"$error":"#DIV/0!"},{"$error":"#DIV/0!"},{"$nulls":3},{"$error":"#DIV/0!"}]
[{"$nulls":8},{"v":0,"d":"0.0"},{"v":0,"d":"0.00"},{"$error":"#DIV/0!"},{"$error":"#DIV/0!"},{"$error":"#DIV/0!"},{"$error":"#DIV/0!"},{"$error":"#DIV/0!"},{"$error":"#DIV/0!"},{"$f":"IF(A401=\"m\",VLOOKUP(K401,Berechnung_Male!$A$1:$D$42,W401,TRUE),VLOOKUP(Eingabeblatt!K401,Berechnung_Female!$A$1:$D$42,W401,TRUE))","v":{"$error":"#DIV/0!"}},{"$error":"#DIV/0!"},{"$error":"#DIV/0!"},{"$nulls":3},{"$error":"#DIV/0!"}]
[{"$nulls":8},{"v":0,"d":"0.0"},{"v":0,"d":"0.00"},{"$error":"#DIV/0!"},{"$error":"#DIV/0!"},{"$error":"#DIV/0!"},{"$error":"#DIV/0!"},{"$error":"#DIV/0!"},{"$error":"#DIV/0!"},{"$f":"IF(A402=\"m\",VLOOKUP(K402,Berechnung_Male!$A$1:$D$42,W402,TRUE),VLOOKUP(Eingabeblatt!K402,Berechnung_Female!$A$1:$D$42,W402,TRUE))","v":{"$error":"#DIV/0!"}},{"$error":"#DIV/0!"},{"$error":"#DIV/0!"},{"$nulls":3},{"$error":"#DIV/0!"}]
[{"$nulls":8},{"v":0,"d":"0.0"},{"v":0,"d":"0.00"},{"$error":"#DIV/0!"},{"$error":"#DIV/0!"},{"$error":"#DIV/0!"},{"$error":"#DIV/0!"},{"$error":"#DIV/0!"},{"$error":"#DIV/0!"},{"$f":"IF(A403=\"m\",VLOOKUP(K403,Berechnung_Male!$A$1:$D$42,W403,TRUE),VLOOKUP(Eingabeblatt!K403,Berechnung_Female!$A$1:$D$42,W403,TRUE))","v":{"$error":"#DIV/0!"}},{"$error":"#DIV/0!"},{"$error":"#DIV/0!"},{"$nulls":3},{"$error":"#DIV/0!"}]
[{"$nulls":8},{"v":0,"d":"0.0"},{"v":0,"d":"0.00"},{"$error":"#DIV/0!"},{"$error":"#DIV/0!"},{"$error":"#DIV/0!"},{"$error":"#DIV/0!"},{"$error":"#DIV/0!"},{"$error":"#DIV/0!"},{"$f":"IF(A404=\"m\",VLOOKUP(K404,Berechnung_Male!$A$1:$D$42,W404,TRUE),VLOOKUP(Eingabeblatt!K404,Berechnung_Female!$A$1:$D$42,W404,TRUE))","v":{"$error":"#DIV/0!"}},{"$error":"#DIV/0!"},{"$error":"#DIV/0!"},{"$nulls":3},{"$error":"#DIV/0!"}]
[{"$nulls":8},{"v":0,"d":"0.0"},{"v":0,"d":"0.00"},{"$error":"#DIV/0!"},{"$error":"#DIV/0!"},{"$error":"#DIV/0!"},{"$error":"#DIV/0!"},{"$error":"#DIV/0!"},{"$error":"#DIV/0!"},{"$f":"IF(A405=\"m\",VLOOKUP(K405,Berechnung_Male!$A$1:$D$42,W405,TRUE),VLOOKUP(Eingabeblatt!K405,Berechnung_Female!$A$1:$D$42,W405,TRUE))","v":{"$error":"#DIV/0!"}},{"$error":"#DIV/0!"},{"$error":"#DIV/0!"},{"$nulls":3},{"$error":"#DIV/0!"}]
[{"$nulls":8},{"v":0,"d":"0.0"},{"v":0,"d":"0.00"},{"$error":"#DIV/0!"},{"$error":"#DIV/0!"},{"$error":"#DIV/0!"},{"$error":"#DIV/0!"},{"$error":"#DIV/0!"},{"$error":"#DIV/0!"},{"$f":"IF(A406=\"m\",VLOOKUP(K406,Berechnung_Male!$A$1:$D$42,W406,TRUE),VLOOKUP(Eingabeblatt!K406,Berechnung_Female!$A$1:$D$42,W406,TRUE))","v":{"$error":"#DIV/0!"}},{"$error":"#DIV/0!"},{"$error":"#DIV/0!"},{"$nulls":3},{"$error":"#DIV/0!"}]
[{"$nulls":8},{"v":0,"d":"0.0"},{"v":0,"d":"0.00"},{"$error":"#DIV/0!"},{"$error":"#DIV/0!"},{"$error":"#DIV/0!"},{"$error":"#DIV/0!"},{"$error":"#DIV/0!"},{"$error":"#DIV/0!"},{"$f":"IF(A407=\"m\",VLOOKUP(K407,Berechnung_Male!$A$1:$D$42,W407,TRUE),VLOOKUP(Eingabeblatt!K407,Berechnung_Female!$A$1:$D$42,W407,TRUE))","v":{"$error":"#DIV/0!"}},{"$error":"#DIV/0!"},{"$error":"#DIV/0!"},{"$nulls":3},{"$error":"#DIV/0!"}]
[{"$nulls":8},{"v":0,"d":"0.0"},{"v":0,"d":"0.00"},{"$error":"#DIV/0!"},{"$error":"#DIV/0!"},{"$error":"#DIV/0!"},{"$error":"#DIV/0!"},{"$error":"#DIV/0!"},{"$error":"#DIV/0!"},{"$f":"IF(A408=\"m\",VLOOKUP(K408,Berechnung_Male!$A$1:$D$42,W408,TRUE),VLOOKUP(Eingabeblatt!K408,Berechnung_Female!$A$1:$D$42,W408,TRUE))","v":{"$error":"#DIV/0!"}},{"$error":"#DIV/0!"},{"$error":"#DIV/0!"},{"$nulls":3},{"$error":"#DIV/0!"}]
[{"$nulls":8},{"v":0,"d":"0.0"},{"v":0,"d":"0.00"},{"$error":"#DIV/0!"},{"$error":"#DIV/0!"},{"$error":"#DIV/0!"},{"$error":"#DIV/0!"},{"$error":"#DIV/0!"},{"$error":"#DIV/0!"},{"$f":"IF(A409=\"m\",VLOOKUP(K409,Berechnung_Male!$A$1:$D$42,W409,TRUE),VLOOKUP(Eingabeblatt!K409,Berechnung_Female!$A$1:$D$42,W409,TRUE))","v":{"$error":"#DIV/0!"}},{"$error":"#DIV/0!"},{"$error":"#DIV/0!"},{"$nulls":3},{"$error":"#DIV/0!"}]
[{"$nulls":8},{"v":0,"d":"0.0"},{"v":0,"d":"0.00"},{"$error":"#DIV/0!"},{"$error":"#DIV/0!"},{"$error":"#DIV/0!"},{"$error":"#DIV/0!"},{"$error":"#DIV/0!"},{"$error":"#DIV/0!"},{"$f":"IF(A410=\"m\",VLOOKUP(K410,Berechnung_Male!$A$1:$D$42,W410,TRUE),VLOOKUP(Eingabeblatt!K410,Berechnung_Female!$A$1:$D$42,W410,TRUE))","v":{"$error":"#DIV/0!"}},{"$error":"#DIV/0!"},{"$error":"#DIV/0!"},{"$nulls":3},{"$error":"#DIV/0!"}]
[{"$nulls":8},{"v":0,"d":"0.0"},{"v":0,"d":"0.00"},{"$error":"#DIV/0!"},{"$error":"#DIV/0!"},{"$error":"#DIV/0!"},{"$error":"#DIV/0!"},{"$error":"#DIV/0!"},{"$error":"#DIV/0!"},{"$f":"IF(A411=\"m\",VLOOKUP(K411,Berechnung_Male!$A$1:$D$42,W411,TRUE),VLOOKUP(Eingabeblatt!K411,Berechnung_Female!$A$1:$D$42,W411,TRUE))","v":{"$error":"#DIV/0!"}},{"$error":"#DIV/0!"},{"$error":"#DIV/0!"},{"$nulls":3},{"$error":"#DIV/0!"}]
[{"$nulls":8},{"v":0,"d":"0.0"},{"v":0,"d":"0.00"},{"$error":"#DIV/0!"},{"$error":"#DIV/0!"},{"$error":"#DIV/0!"},{"$error":"#DIV/0!"},{"$error":"#DIV/0!"},{"$error":"#DIV/0!"},{"$f":"IF(A412=\"m\",VLOOKUP(K412,Berechnung_Male!$A$1:$D$42,W412,TRUE),VLOOKUP(Eingabeblatt!K412,Berechnung_Female!$A$1:$D$42,W412,TRUE))","v":{"$error":"#DIV/0!"}},{"$error":"#DIV/0!"},{"$error":"#DIV/0!"},{"$nulls":3},{"$error":"#DIV/0!"}]
[{"$nulls":8},{"v":0,"d":"0.0"},{"v":0,"d":"0.00"},{"$error":"#DIV/0!"},{"$error":"#DIV/0!"},{"$error":"#DIV/0!"},{"$error":"#DIV/0!"},{"$error":"#DIV/0!"},{"$error":"#DIV/0!"},{"$f":"IF(A413=\"m\",VLOOKUP(K413,Berechnung_Male!$A$1:$D$42,W413,TRUE),VLOOKUP(Eingabeblatt!K413,Berechnung_Female!$A$1:$D$42,W413,TRUE))","v":{"$error":"#DIV/0!"}},{"$error":"#DIV/0!"},{"$error":"#DIV/0!"},{"$nulls":3},{"$error":"#DIV/0!"}]
[{"$nulls":8},{"v":0,"d":"0.0"},{"v":0,"d":"0.00"},{"$error":"#DIV/0!"},{"$error":"#DIV/0!"},{"$error":"#DIV/0!"},{"$error":"#DIV/0!"},{"$error":"#DIV/0!"},{"$error":"#DIV/0!"},{"$f":"IF(A414=\"m\",VLOOKUP(K414,Berechnung_Male!$A$1:$D$42,W414,TRUE),VLOOKUP(Eingabeblatt!K414,Berechnung_Female!$A$1:$D$42,W414,TRUE))","v":{"$error":"#DIV/0!"}},{"$error":"#DIV/0!"},{"$error":"#DIV/0!"},{"$nulls":3},{"$error":"#DIV/0!"}]
[{"$nulls":8},{"v":0,"d":"0.0"},{"v":0,"d":"0.00"},{"$error":"#DIV/0!"},{"$error":"#DIV/0!"},{"$error":"#DIV/0!"},{"$error":"#DIV/0!"},{"$error":"#DIV/0!"},{"$error":"#DIV/0!"},{"$f":"IF(A415=\"m\",VLOOKUP(K415,Berechnung_Male!$A$1:$D$42,W415,TRUE),VLOOKUP(Eingabeblatt!K415,Berechnung_Female!$A$1:$D$42,W415,TRUE))","v":{"$error":"#DIV/0!"}},{"$error":"#DIV/0!"},{"$error":"#DIV/0!"},{"$nulls":3},{"$error":"#DIV/0!"}]
[{"$nulls":8},{"v":0,"d":"0.0"},{"v":0,"d":"0.00"},{"$error":"#DIV/0!"},{"$error":"#DIV/0!"},{"$error":"#DIV/0!"},{"$error":"#DIV/0!"},{"$error":"#DIV/0!"},{"$error":"#DIV/0!"},{"$f":"IF(A416=\"m\",VLOOKUP(K416,Berechnung_Male!$A$1:$D$42,W416,TRUE),VLOOKUP(Eingabeblatt!K416,Berechnung_Female!$A$1:$D$42,W416,TRUE))","v":{"$error":"#DIV/0!"}},{"$error":"#DIV/0!"},{"$error":"#DIV/0!"},{"$nulls":3},{"$error":"#DIV/0!"}]
[{"$nulls":8},{"v":0,"d":"0.0"},{"v":0,"d":"0.00"},{"$error":"#DIV/0!"},{"$error":"#DIV/0!"},{"$error":"#DIV/0!"},{"$error":"#DIV/0!"},{"$error":"#DIV/0!"},{"$error":"#DIV/0!"},{"$f":"IF(A417=\"m\",VLOOKUP(K417,Berechnung_Male!$A$1:$D$42,W417,TRUE),VLOOKUP(Eingabeblatt!K417,Berechnung_Female!$A$1:$D$42,W417,TRUE))","v":{"$error":"#DIV/0!"}},{"$error":"#DIV/0!"},{"$error":"#DIV/0!"},{"$nulls":3},{"$error":"#DIV/0!"}]
[{"$nulls":8},{"v":0,"d":"0.0"},{"v":0,"d":"0.00"},{"$error":"#DIV/0!"},{"$error":"#DIV/0!"},{"$error":"#DIV/0!"},{"$error":"#DIV/0!"},{"$error":"#DIV/0!"},{"$error":"#DIV/0!"},{"$f":"IF(A418=\"m\",VLOOKUP(K418,Berechnung_Male!$A$1:$D$42,W418,TRUE),VLOOKUP(Eingabeblatt!K418,Berechnung_Female!$A$1:$D$42,W418,TRUE))","v":{"$error":"#DIV/0!"}},{"$error":"#DIV/0!"},{"$error":"#DIV/0!"},{"$nulls":3},{"$error":"#DIV/0!"}]
[{"$nulls":8},{"v":0,"d":"0.0"},{"v":0,"d":"0.00"},{"$error":"#DIV/0!"},{"$error":"#DIV/0!"},{"$error":"#DIV/0!"},{"$error":"#DIV/0!"},{"$error":"#DIV/0!"},{"$error":"#DIV/0!"},{"$f":"IF(A419=\"m\",VLOOKUP(K419,Berechnung_Male!$A$1:$D$42,W419,TRUE),VLOOKUP(Eingabeblatt!K419,Berechnung_Female!$A$1:$D$42,W419,TRUE))","v":{"$error":"#DIV/0!"}},{"$error":"#DIV/0!"},{"$error":"#DIV/0!"},{"$nulls":3},{"$error":"#DIV/0!"}]
[{"$nulls":8},{"v":0,"d":"0.0"},{"v":0,"d":"0.00"},{"$error":"#DIV/0!"},{"$error":"#DIV/0!"},{"$error":"#DIV/0!"},{"$error":"#DIV/0!"},{"$error":"#DIV/0!"},{"$error":"#DIV/0!"},{"$f":"IF(A420=\"m\",VLOOKUP(K420,Berechnung_Male!$A$1:$D$42,W420,TRUE),VLOOKUP(Eingabeblatt!K420,Berechnung_Female!$A$1:$D$42,W420,TRUE))","v":{"$error":"#DIV/0!"}},{"$error":"#DIV/0!"},{"$error":"#DIV/0!"},{"$nulls":3},{"$error":"#DIV/0!"}]
[{"$nulls":8},{"v":0,"d":"0.0"},{"v":0,"d":"0.00"},{"$error":"#DIV/0!"},{"$error":"#DIV/0!"},{"$error":"#DIV/0!"},{"$error":"#DIV/0!"},{"$error":"#DIV/0!"},{"$error":"#DIV/0!"},{"$f":"IF(A421=\"m\",VLOOKUP(K421,Berechnung_Male!$A$1:$D$42,W421,TRUE),VLOOKUP(Eingabeblatt!K421,Berechnung_Female!$A$1:$D$42,W421,TRUE))","v":{"$error":"#DIV/0!"}},{"$error":"#DIV/0!"},{"$error":"#DIV/0!"},{"$nulls":3},{"$error":"#DIV/0!"}]
[{"$nulls":8},{"v":0,"d":"0.0"},{"v":0,"d":"0.00"},{"$error":"#DIV/0!"},{"$error":"#DIV/0!"},{"$error":"#DIV/0!"},{"$error":"#DIV/0!"},{"$error":"#DIV/0!"},{"$error":"#DIV/0!"},{"$f":"IF(A422=\"m\",VLOOKUP(K422,Berechnung_Male!$A$1:$D$42,W422,TRUE),VLOOKUP(Eingabeblatt!K422,Berechnung_Female!$A$1:$D$42,W422,TRUE))","v":{"$error":"#DIV/0!"}},{"$error":"#DIV/0!"},{"$error":"#DIV/0!"},{"$nulls":3},{"$error":"#DIV/0!"}]
[{"$nulls":8},{"v":0,"d":"0.0"},{"v":0,"d":"0.00"},{"$error":"#DIV/0!"},{"$error":"#DIV/0!"},{"$error":"#DIV/0!"},{"$error":"#DIV/0!"},{"$error":"#DIV/0!"},{"$error":"#DIV/0!"},{"$f":"IF(A423=\"m\",VLOOKUP(K423,Berechnung_Male!$A$1:$D$42,W423,TRUE),VLOOKUP(Eingabeblatt!K423,Berechnung_Female!$A$1:$D$42,W423,TRUE))","v":{"$error":"#DIV/0!"}},{"$error":"#DIV/0!"},{"$error":"#DIV/0!"},{"$nulls":3},{"$error":"#DIV/0!"}]
[{"$nulls":8},{"v":0,"d":"0.0"},{"v":0,"d":"0.00"},{"$error":"#DIV/0!"},{"$error":"#DIV/0!"},{"$error":"#DIV/0!"},{"$error":"#DIV/0!"},{"$error":"#DIV/0!"},{"$error":"#DIV/0!"},{"$f":"IF(A424=\"m\",VLOOKUP(K424,Berechnung_Male!$A$1:$D$42,W424,TRUE),VLOOKUP(Eingabeblatt!K424,Berechnung_Female!$A$1:$D$42,W424,TRUE))","v":{"$error":"#DIV/0!"}},{"$error":"#DIV/0!"},{"$error":"#DIV/0!"},{"$nulls":3},{"$error":"#DIV/0!"}]
[{"$nulls":8},{"v":0,"d":"0.0"},{"v":0,"d":"0.00"},{"$error":"#DIV/0!"},{"$error":"#DIV/0!"},{"$error":"#DIV/0!"},{"$error":"#DIV/0!"},{"$error":"#DIV/0!"},{"$error":"#DIV/0!"},{"$f":"IF(A425=\"m\",VLOOKUP(K425,Berechnung_Male!$A$1:$D$42,W425,TRUE),VLOOKUP(Eingabeblatt!K425,Berechnung_Female!$A$1:$D$42,W425,TRUE))","v":{"$error":"#DIV/0!"}},{"$error":"#DIV/0!"},{"$error":"#DIV/0!"},{"$nulls":3},{"$error":"#DIV/0!"}]
[{"$nulls":8},{"v":0,"d":"0.0"},{"v":0,"d":"0.00"},{"$error":"#DIV/0!"},{"$error":"#DIV/0!"},{"$error":"#DIV/0!"},{"$error":"#DIV/0!"},{"$error":"#DIV/0!"},{"$error":"#DIV/0!"},{"$f":"IF(A426=\"m\",VLOOKUP(K426,Berechnung_Male!$A$1:$D$42,W426,TRUE),VLOOKUP(Eingabeblatt!K426,Berechnung_Female!$A$1:$D$42,W426,TRUE))","v":{"$error":"#DIV/0!"}},{"$error":"#DIV/0!"},{"$error":"#DIV/0!"},{"$nulls":3},{"$error":"#DIV/0!"}]
[{"$nulls":8},{"v":0,"d":"0.0"},{"v":0,"d":"0.00"},{"$error":"#DIV/0!"},{"$error":"#DIV/0!"},{"$error":"#DIV/0!"},{"$error":"#DIV/0!"},{"$error":"#DIV/0!"},{"$error":"#DIV/0!"},{"$f":"IF(A427=\"m\",VLOOKUP(K427,Berechnung_Male!$A$1:$D$42,W427,TRUE),VLOOKUP(Eingabeblatt!K427,Berechnung_Female!$A$1:$D$42,W427,TRUE))","v":{"$error":"#DIV/0!"}},{"$error":"#DIV/0!"},{"$error":"#DIV/0!"},{"$nulls":3},{"$error":"#DIV/0!"}]
[{"$nulls":8},{"v":0,"d":"0.0"},{"v":0,"d":"0.00"},{"$error":"#DIV/0!"},{"$error":"#DIV/0!"},{"$error":"#DIV/0!"},{"$error":"#DIV/0!"},{"$error":"#DIV/0!"},{"$error":"#DIV/0!"},{"$f":"IF(A428=\"m\",VLOOKUP(K428,Berechnung_Male!$A$1:$D$42,W428,TRUE),VLOOKUP(Eingabeblatt!K428,Berechnung_Female!$A$1:$D$42,W428,TRUE))","v":{"$error":"#DIV/0!"}},{"$error":"#DIV/0!"},{"$error":"#DIV/0!"},{"$nulls":3},{"$error":"#DIV/0!"}]
[{"$nulls":8},{"v":0,"d":"0.0"},{"v":0,"d":"0.00"},{"$error":"#DIV/0!"},{"$error":"#DIV/0!"},{"$error":"#DIV/0!"},{"$error":"#DIV/0!"},{"$error":"#DIV/0!"},{"$error":"#DIV/0!"},{"$f":"IF(A429=\"m\",VLOOKUP(K429,Berechnung_Male!$A$1:$D$42,W429,TRUE),VLOOKUP(Eingabeblatt!K429,Berechnung_Female!$A$1:$D$42,W429,TRUE))","v":{"$error":"#DIV/0!"}},{"$error":"#DIV/0!"},{"$error":"#DIV/0!"},{"$nulls":3},{"$error":"#DIV/0!"}]
[{"$nulls":8},{"v":0,"d":"0.0"},{"v":0,"d":"0.00"},{"$error":"#DIV/0!"},{"$error":"#DIV/0!"},{"$error":"#DIV/0!"},{"$error":"#DIV/0!"},{"$error":"#DIV/0!"},{"$error":"#DIV/0!"},{"$f":"IF(A430=\"m\",VLOOKUP(K430,Berechnung_Male!$A$1:$D$42,W430,TRUE),VLOOKUP(Eingabeblatt!K430,Berechnung_Female!$A$1:$D$42,W430,TRUE))","v":{"$error":"#DIV/0!"}},{"$error":"#DIV/0!"},{"$error":"#DIV/0!"},{"$nulls":3},{"$error":"#DIV/0!"}]
[{"$nulls":8},{"v":0,"d":"0.0"},{"v":0,"d":"0.00"},{"$error":"#DIV/0!"},{"$error":"#DIV/0!"},{"$error":"#DIV/0!"},{"$error":"#DIV/0!"},{"$error":"#DIV/0!"},{"$error":"#DIV/0!"},{"$f":"IF(A431=\"m\",VLOOKUP(K431,Berechnung_Male!$A$1:$D$42,W431,TRUE),VLOOKUP(Eingabeblatt!K431,Berechnung_Female!$A$1:$D$42,W431,TRUE))","v":{"$error":"#DIV/0!"}},{"$error":"#DIV/0!"},{"$error":"#DIV/0!"},{"$nulls":3},{"$error":"#DIV/0!"}]
[{"$nulls":8},{"v":0,"d":"0.0"},{"v":0,"d":"0.00"},{"$error":"#DIV/0!"},{"$error":"#DIV/0!"},{"$error":"#DIV/0!"},{"$error":"#DIV/0!"},{"$error":"#DIV/0!"},{"$error":"#DIV/0!"},{"$f":"IF(A432=\"m\",VLOOKUP(K432,Berechnung_Male!$A$1:$D$42,W432,TRUE),VLOOKUP(Eingabeblatt!K432,Berechnung_Female!$A$1:$D$42,W432,TRUE))","v":{"$error":"#DIV/0!"}},{"$error":"#DIV/0!"},{"$error":"#DIV/0!"},{"$nulls":3},{"$error":"#DIV/0!"}]
[{"$nulls":8},{"v":0,"d":"0.0"},{"v":0,"d":"0.00"},{"$error":"#DIV/0!"},{"$error":"#DIV/0!"},{"$error":"#DIV/0!"},{"$error":"#DIV/0!"},{"$error":"#DIV/0!"},{"$error":"#DIV/0!"},{"$f":"IF(A433=\"m\",VLOOKUP(K433,Berechnung_Male!$A$1:$D$42,W433,TRUE),VLOOKUP(Eingabeblatt!K433,Berechnung_Female!$A$1:$D$42,W433,TRUE))","v":{"$error":"#DIV/0!"}},{"$error":"#DIV/0!"},{"$error":"#DIV/0!"},{"$nulls":3},{"$error":"#DIV/0!"}]
[{"$nulls":8},{"v":0,"d":"0.0"},{"v":0,"d":"0.00"},{"$error":"#DIV/0!"},{"$error":"#DIV/0!"},{"$error":"#DIV/0!"},{"$error":"#DIV/0!"},{"$error":"#DIV/0!"},{"$error":"#DIV/0!"},{"$f":"IF(A434=\"m\",VLOOKUP(K434,Berechnung_Male!$A$1:$D$42,W434,TRUE),VLOOKUP(Eingabeblatt!K434,Berechnung_Female!$A$1:$D$42,W434,TRUE))","v":{"$error":"#DIV/0!"}},{"$error":"#DIV/0!"},{"$error":"#DIV/0!"},{"$nulls":3},{"$error":"#DIV/0!"}]
[{"$nulls":8},{"v":0,"d":"0.0"},{"v":0,"d":"0.00"},{"$error":"#DIV/0!"},{"$error":"#DIV/0!"},{"$error":"#DIV/0!"},{"$error":"#DIV/0!"},{"$error":"#DIV/0!"},{"$error":"#DIV/0!"},{"$f":"IF(A435=\"m\",VLOOKUP(K435,Berechnung_Male!$A$1:$D$42,W435,TRUE),VLOOKUP(Eingabeblatt!K435,Berechnung_Female!$A$1:$D$42,W435,TRUE))","v":{"$error":"#DIV/0!"}},{"$error":"#DIV/0!"},{"$error":"#DIV/0!"},{"$nulls":3},{"$error":"#DIV/0!"}]
[{"$nulls":8},{"v":0,"d":"0.0"},{"v":0,"d":"0.00"},{"$error":"#DIV/0!"},{"$error":"#DIV/0!"},{"$error":"#DIV/0!"},{"$error":"#DIV/0!"},{"$error":"#DIV/0!"},{"$error":"#DIV/0!"},{"$f":"IF(A436=\"m\",VLOOKUP(K436,Berechnung_Male!$A$1:$D$42,W436,TRUE),VLOOKUP(Eingabeblatt!K436,Berechnung_Female!$A$1:$D$42,W436,TRUE))","v":{"$error":"#DIV/0!"}},{"$error":"#DIV/0!"},{"$error":"#DIV/0!"},{"$nulls":3},{"$error":"#DIV/0!"}]
[{"$nulls":8},{"v":0,"d":"0.0"},{"v":0,"d":"0.00"},{"$error":"#DIV/0!"},{"$error":"#DIV/0!"},{"$error":"#DIV/0!"},{"$error":"#DIV/0!"},{"$error":"#DIV/0!"},{"$error":"#DIV/0!"},{"$f":"IF(A437=\"m\",VLOOKUP(K437,Berechnung_Male!$A$1:$D$42,W437,TRUE),VLOOKUP(Eingabeblatt!K437,Berechnung_Female!$A$1:$D$42,W437,TRUE))","v":{"$error":"#DIV/0!"}},{"$error":"#DIV/0!"},{"$error":"#DIV/0!"},{"$nulls":3},{"$error":"#DIV/0!"}]
[{"$nulls":8},{"v":0,"d":"0.0"},{"v":0,"d":"0.00"},{"$error":"#DIV/0!"},{"$error":"#DIV/0!"},{"$error":"#DIV/0!"},{"$error":"#DIV/0!"},{"$error":"#DIV/0!"},{"$error":"#DIV/0!"},{"$f":"IF(A438=\"m\",VLOOKUP(K438,Berechnung_Male!$A$1:$D$42,W438,TRUE),VLOOKUP(Eingabeblatt!K438,Berechnung_Female!$A$1:$D$42,W438,TRUE))","v":{"$error":"#DIV/0!"}},{"$error":"#DIV/0!"},{"$error":"#DIV/0!"},{"$nulls":3},{"$error":"#DIV/0!"}]
[{"$nulls":8},{"v":0,"d":"0.0"},{"v":0,"d":"0.00"},{"$error":"#DIV/0!"},{"$error":"#DIV/0!"},{"$error":"#DIV/0!"},{"$error":"#DIV/0!"},{"$error":"#DIV/0!"},{"$error":"#DIV/0!"},{"$f":"IF(A439=\"m\",VLOOKUP(K439,Berechnung_Male!$A$1:$D$42,W439,TRUE),VLOOKUP(Eingabeblatt!K439,Berechnung_Female!$A$1:$D$42,W439,TRUE))","v":{"$error":"#DIV/0!"}},{"$error":"#DIV/0!"},{"$error":"#DIV/0!"},{"$nulls":3},{"$error":"#DIV/0!"}]
[{"$nulls":8},{"v":0,"d":"0.0"},{"v":0,"d":"0.00"},{"$error":"#DIV/0!"},{"$error":"#DIV/0!"},{"$error":"#DIV/0!"},{"$error":"#DIV/0!"},{"$error":"#DIV/0!"},{"$error":"#DIV/0!"},{"$f":"IF(A440=\"m\",VLOOKUP(K440,Berechnung_Male!$A$1:$D$42,W440,TRUE),VLOOKUP(Eingabeblatt!K440,Berechnung_Female!$A$1:$D$42,W440,TRUE))","v":{"$error":"#DIV/0!"}},{"$error":"#DIV/0!"},{"$error":"#DIV/0!"},{"$nulls":3},{"$error":"#DIV/0!"}]
[{"$nulls":8},{"v":0,"d":"0.0"},{"v":0,"d":"0.00"},{"$error":"#DIV/0!"},{"$error":"#DIV/0!"},{"$error":"#DIV/0!"},{"$error":"#DIV/0!"},{"$error":"#DIV/0!"},{"$error":"#DIV/0!"},{"$f":"IF(A441=\"m\",VLOOKUP(K441,Berechnung_Male!$A$1:$D$42,W441,TRUE),VLOOKUP(Eingabeblatt!K441,Berechnung_Female!$A$1:$D$42,W441,TRUE))","v":{"$error":"#DIV/0!"}},{"$error":"#DIV/0!"},{"$error":"#DIV/0!"},{"$nulls":3},{"$error":"#DIV/0!"}]
[{"$nulls":8},{"v":0,"d":"0.0"},{"v":0,"d":"0.00"},{"$error":"#DIV/0!"},{"$error":"#DIV/0!"},{"$error":"#DIV/0!"},{"$error":"#DIV/0!"},{"$error":"#DIV/0!"},{"$error":"#DIV/0!"},{"$f":"IF(A442=\"m\",VLOOKUP(K442,Berechnung_Male!$A$1:$D$42,W442,TRUE),VLOOKUP(Eingabeblatt!K442,Berechnung_Female!$A$1:$D$42,W442,TRUE))","v":{"$error":"#DIV/0!"}},{"$error":"#DIV/0!"},{"$error":"#DIV/0!"},{"$nulls":3},{"$error":"#DIV/0!"}]
[{"$nulls":8},{"v":0,"d":"0.0"},{"v":0,"d":"0.00"},{"$error":"#DIV/0!"},{"$error":"#DIV/0!"},{"$error":"#DIV/0!"},{"$error":"#DIV/0!"},{"$error":"#DIV/0!"},{"$error":"#DIV/0!"},{"$f":"IF(A443=\"m\",VLOOKUP(K443,Berechnung_Male!$A$1:$D$42,W443,TRUE),VLOOKUP(Eingabeblatt!K443,Berechnung_Female!$A$1:$D$42,W443,TRUE))","v":{"$error":"#DIV/0!"}},{"$error":"#DIV/0!"},{"$error":"#DIV/0!"},{"$nulls":3},{"$error":"#DIV/0!"}]
[{"$nulls":8},{"v":0,"d":"0.0"},{"v":0,"d":"0.00"},{"$error":"#DIV/0!"},{"$error":"#DIV/0!"},{"$error":"#DIV/0!"},{"$error":"#DIV/0!"},{"$error":"#DIV/0!"},{"$error":"#DIV/0!"},{"$f":"IF(A444=\"m\",VLOOKUP(K444,Berechnung_Male!$A$1:$D$42,W444,TRUE),VLOOKUP(Eingabeblatt!K444,Berechnung_Female!$A$1:$D$42,W444,TRUE))","v":{"$error":"#DIV/0!"}},{"$error":"#DIV/0!"},{"$error":"#DIV/0!"},{"$nulls":3},{"$error":"#DIV/0!"}]
[{"$nulls":8},{"v":0,"d":"0.0"},{"v":0,"d":"0.00"},{"$error":"#DIV/0!"},{"$error":"#DIV/0!"},{"$error":"#DIV/0!"},{"$error":"#DIV/0!"},{"$error":"#DIV/0!"},{"$error":"#DIV/0!"},{"$f":"IF(A445=\"m\",VLOOKUP(K445,Berechnung_Male!$A$1:$D$42,W445,TRUE),VLOOKUP(Eingabeblatt!K445,Berechnung_Female!$A$1:$D$42,W445,TRUE))","v":{"$error":"#DIV/0!"}},{"$error":"#DIV/0!"},{"$error":"#DIV/0!"},{"$nulls":3},{"$error":"#DIV/0!"}]
[{"$nulls":8},{"v":0,"d":"0.0"},{"v":0,"d":"0.00"},{"$error":"#DIV/0!"},{"$error":"#DIV/0!"},{"$error":"#DIV/0!"},{"$error":"#DIV/0!"},{"$error":"#DIV/0!"},{"$error":"#DIV/0!"},{"$f":"IF(A446=\"m\",VLOOKUP(K446,Berechnung_Male!$A$1:$D$42,W446,TRUE),VLOOKUP(Eingabeblatt!K446,Berechnung_Female!$A$1:$D$42,W446,TRUE))","v":{"$error":"#DIV/0!"}},{"$error":"#DIV/0!"},{"$error":"#DIV/0!"},{"$nulls":3},{"$error":"#DIV/0!"}]
[{"$nulls":8},{"v":0,"d":"0.0"},{"v":0,"d":"0.00"},{"$error":"#DIV/0!"},{"$error":"#DIV/0!"},{"$error":"#DIV/0!"},{"$error":"#DIV/0!"},{"$error":"#DIV/0!"},{"$error":"#DIV/0!"},{"$f":"IF(A447=\"m\",VLOOKUP(K447,Berechnung_Male!$A$1:$D$42,W447,TRUE),VLOOKUP(Eingabeblatt!K447,Berechnung_Female!$A$1:$D$42,W447,TRUE))","v":{"$error":"#DIV/0!"}},{"$error":"#DIV/0!"},{"$error":"#DIV/0!"},{"$nulls":3},{"$error":"#DIV/0!"}]
[{"$nulls":8},{"v":0,"d":"0.0"},{"v":0,"d":"0.00"},{"$error":"#DIV/0!"},{"$error":"#DIV/0!"},{"$error":"#DIV/0!"},{"$error":"#DIV/0!"},{"$error":"#DIV/0!"},{"$error":"#DIV/0!"},{"$f":"IF(A448=\"m\",VLOOKUP(K448,Berechnung_Male!$A$1:$D$42,W448,TRUE),VLOOKUP(Eingabeblatt!K448,Berechnung_Female!$A$1:$D$42,W448,TRUE))","v":{"$error":"#DIV/0!"}},{"$error":"#DIV/0!"},{"$error":"#DIV/0!"},{"$nulls":3},{"$error":"#DIV/0!"}]
[{"$nulls":8},{"v":0,"d":"0.0"},{"v":0,"d":"0.00"},{"$error":"#DIV/0!"},{"$error":"#DIV/0!"},{"$error":"#DIV/0!"},{"$error":"#DIV/0!"},{"$error":"#DIV/0!"},{"$error":"#DIV/0!"},{"$f":"IF(A449=\"m\",VLOOKUP(K449,Berechnung_Male!$A$1:$D$42,W449,TRUE),VLOOKUP(Eingabeblatt!K449,Berechnung_Female!$A$1:$D$42,W449,TRUE))","v":{"$error":"#DIV/0!"}},{"$error":"#DIV/0!"},{"$error":"#DIV/0!"},{"$nulls":3},{"$error":"#DIV/0!"}]
[{"$nulls":8},{"v":0,"d":"0.0"},{"v":0,"d":"0.00"},{"$error":"#DIV/0!"},{"$error":"#DIV/0!"},{"$error":"#DIV/0!"},{"$error":"#DIV/0!"},{"$error":"#DIV/0!"},{"$error":"#DIV/0!"},{"$f":"IF(A450=\"m\",VLOOKUP(K450,Berechnung_Male!$A$1:$D$42,W450,TRUE),VLOOKUP(Eingabeblatt!K450,Berechnung_Female!$A$1:$D$42,W450,TRUE))","v":{"$error":"#DIV/0!"}},{"$error":"#DIV/0!"},{"$error":"#DIV/0!"},{"$nulls":3},{"$error":"#DIV/0!"}]
[{"$nulls":8},{"v":0,"d":"0.0"},{"v":0,"d":"0.00"},{"$error":"#DIV/0!"},{"$error":"#DIV/0!"},{"$error":"#DIV/0!"},{"$error":"#DIV/0!"},{"$error":"#DIV/0!"},{"$error":"#DIV/0!"},{"$f":"IF(A451=\"m\",VLOOKUP(K451,Berechnung_Male!$A$1:$D$42,W451,TRUE),VLOOKUP(Eingabeblatt!K451,Berechnung_Female!$A$1:$D$42,W451,TRUE))","v":{"$error":"#DIV/0!"}},{"$error":"#DIV/0!"},{"$error":"#DIV/0!"},{"$nulls":3},{"$error":"#DIV/0!"}]
[{"$nulls":8},{"v":0,"d":"0.0"},{"v":0,"d":"0.00"},{"$error":"#DIV/0!"},{"$error":"#DIV/0!"},{"$error":"#DIV/0!"},{"$error":"#DIV/0!"},{"$error":"#DIV/0!"},{"$error":"#DIV/0!"},{"$f":"IF(A452=\"m\",VLOOKUP(K452,Berechnung_Male!$A$1:$D$42,W452,TRUE),VLOOKUP(Eingabeblatt!K452,Berechnung_Female!$A$1:$D$42,W452,TRUE))","v":{"$error":"#DIV/0!"}},{"$error":"#DIV/0!"},{"$error":"#DIV/0!"},{"$nulls":3},{"$error":"#DIV/0!"}]
[{"$nulls":8},{"v":0,"d":"0.0"},{"v":0,"d":"0.00"},{"$error":"#DIV/0!"},{"$error":"#DIV/0!"},{"$error":"#DIV/0!"},{"$error":"#DIV/0!"},{"$error":"#DIV/0!"},{"$error":"#DIV/0!"},{"$f":"IF(A453=\"m\",VLOOKUP(K453,Berechnung_Male!$A$1:$D$42,W453,TRUE),VLOOKUP(Eingabeblatt!K453,Berechnung_Female!$A$1:$D$42,W453,TRUE))","v":{"$error":"#DIV/0!"}},{"$error":"#DIV/0!"},{"$error":"#DIV/0!"},{"$nulls":3},{"$error":"#DIV/0!"}]
[{"$nulls":8},{"$f":"G454-H454","v":{"v":0,"d":"0.0"}},{"$f":"(B454-E454)/365.25","v":{"v":0,"d":"0.00"}},{"$f":"IF(A454=\"m\",(-9.236+(0.0002708*I454*H454)+(-0.001663*J454*I454)+(0.007216*J454*H454)+(0.02292*F454/G454*100)),(-9.376+(0.0001882*I454*H454)+(0.0022*J454*I454)+(0.005841*J454*H454)-(0.002658*J454*F454)+(0.07693*(F454/G454)*100)))","v":{"$error":"#DIV/0!"}},{"$f":"J454-K454","v":{"$error":"#DIV/0!"}},{"$f":"IF(A454=\"m\",(IF(L454<12.8,1,IF(L454>14.8,3,2))),(IF(L454<11,1,IF(L454>13,3,2))))","v":{"$error":"#DIV/0!"}},{"$f":"IF(M454=1,\"Früh / précoce\",IF(M454=2,\"Durchschnittlich / Normal\",\"Spät / Tardif\"))","v":{"$error":"#DIV/0!"}},{"$f":"IF(A454=\"m\",(IF(L454<12.8,1,IF(L454<13.3,2,IF(L454>14.8,5,IF(L454>14.3,4,3))))),(IF(L454<11,1,IF(L454<11.5,2,IF(L454>13,5,IF(L454>12.5,4,3))))))","v":{"$error":"#DIV/0!"}},{"$f":"IF(O454=1,\"Früh / précoce\",IF(O454=2,\"Möglicherweise Früh / éventuellement précoce\", IF(O454=3,\"Durchschnittlich / Normal\",IF(O454=4,\"Möglicherweise spät / éventuellement tardif\",\"Spät / Tardif\"))))","v":{"$error":"#DIV/0!"}},{"$f":"IF(A454=\"m\",VLOOKUP(K454,Berechnung_Male!$A$1:$D$42,W454,TRUE),VLOOKUP(Eingabeblatt!K454,Berechnung_Female!$A$1:$D$42,W454,TRUE))","v":{"$error":"#DIV/0!"}},{"$f":"G454+Q454","v":{"$error":"#DIV/0!"}},{"$f":"G454/R454","v":{"$error":"#DIV/0!"}},{"$nulls":3},{"$f":"IF(A454=\"m\",IF(L454<12.8,2,IF(L454<14.8,3,4)),IF(L454<11,2,IF(L454<13,3,4)))","v":{"$error":"#DIV/0!"}}]
[{"$nulls":8},{"v":0,"d":"0.0"},{"v":0,"d":"0.00"},{"$error":"#DIV/0!"},{"$error":"#DIV/0!"},{"$error":"#DIV/0!"},{"$error":"#DIV/0!"},{"$error":"#DIV/0!"},{"$error":"#DIV/0!"},{"$f":"IF(A455=\"m\",VLOOKUP(K455,Berechnung_Male!$A$1:$D$42,W455,TRUE),VLOOKUP(Eingabeblatt!K455,Berechnung_Female!$A$1:$D$42,W455,TRUE))","v":{"$error":"#DIV/0!"}},{"$error":"#DIV/0!"},{"$error":"#DIV/0!"},{"$nulls":3},{"$error":"#DIV/0!"}]
[{"$nulls":8},{"v":0,"d":"0.0"},{"v":0,"d":"0.00"},{"$error":"#DIV/0!"},{"$error":"#DIV/0!"},{"$error":"#DIV/0!"},{"$error":"#DIV/0!"},{"$error":"#DIV/0!"},{"$error":"#DIV/0!"},{"$f":"IF(A456=\"m\",VLOOKUP(K456,Berechnung_Male!$A$1:$D$42,W456,TRUE),VLOOKUP(Eingabeblatt!K456,Berechnung_Female!$A$1:$D$42,W456,TRUE))","v":{"$error":"#DIV/0!"}},{"$error":"#DIV/0!"},{"$error":"#DIV/0!"},{"$nulls":3},{"$error":"#DIV/0!"}]
[{"$nulls":8},{"v":0,"d":"0.0"},{"v":0,"d":"0.00"},{"$error":"#DIV/0!"},{"$error":"#DIV/0!"},{"$error":"#DIV/0!"},{"$error":"#DIV/0!"},{"$error":"#DIV/0!"},{"$error":"#DIV/0!"},{"$f":"IF(A457=\"m\",VLOOKUP(K457,Berechnung_Male!$A$1:$D$42,W457,TRUE),VLOOKUP(Eingabeblatt!K457,Berechnung_Female!$A$1:$D$42,W457,TRUE))","v":{"$error":"#DIV/0!"}},{"$error":"#DIV/0!"},{"$error":"#DIV/0!"},{"$nulls":3},{"$error":"#DIV/0!"}]
[{"$nulls":8},{"v":0,"d":"0.0"},{"v":0,"d":"0.00"},{"$error":"#DIV/0!"},{"$error":"#DIV/0!"},{"$error":"#DIV/0!"},{"$error":"#DIV/0!"},{"$error":"#DIV/0!"},{"$error":"#DIV/0!"},{"$f":"IF(A458=\"m\",VLOOKUP(K458,Berechnung_Male!$A$1:$D$42,W458,TRUE),VLOOKUP(Eingabeblatt!K458,Berechnung_Female!$A$1:$D$42,W458,TRUE))","v":{"$error":"#DIV/0!"}},{"$error":"#DIV/0!"},{"$error":"#DIV/0!"},{"$nulls":3},{"$error":"#DIV/0!"}]
[{"$nulls":8},{"v":0,"d":"0.0"},{"v":0,"d":"0.00"},{"$error":"#DIV/0!"},{"$error":"#DIV/0!"},{"$error":"#DIV/0!"},{"$error":"#DIV/0!"},{"$error":"#DIV/0!"},{"$error":"#DIV/0!"},{"$f":"IF(A459=\"m\",VLOOKUP(K459,Berechnung_Male!$A$1:$D$42,W459,TRUE),VLOOKUP(Eingabeblatt!K459,Berechnung_Female!$A$1:$D$42,W459,TRUE))","v":{"$error":"#DIV/0!"}},{"$error":"#DIV/0!"},{"$error":"#DIV/0!"},{"$nulls":3},{"$error":"#DIV/0!"}]
[{"$nulls":8},{"v":0,"d":"0.0"},{"v":0,"d":"0.00"},{"$error":"#DIV/0!"},{"$error":"#DIV/0!"},{"$error":"#DIV/0!"},{"$error":"#DIV/0!"},{"$error":"#DIV/0!"},{"$error":"#DIV/0!"},{"$f":"IF(A460=\"m\",VLOOKUP(K460,Berechnung_Male!$A$1:$D$42,W460,TRUE),VLOOKUP(Eingabeblatt!K460,Berechnung_Female!$A$1:$D$42,W460,TRUE))","v":{"$error":"#DIV/0!"}},{"$error":"#DIV/0!"},{"$error":"#DIV/0!"},{"$nulls":3},{"$error":"#DIV/0!"}]
[{"$nulls":8},{"v":0,"d":"0.0"},{"v":0,"d":"0.00"},{"$error":"#DIV/0!"},{"$error":"#DIV/0!"},{"$error":"#DIV/0!"},{"$error":"#DIV/0!"},{"$error":"#DIV/0!"},{"$error":"#DIV/0!"},{"$f":"IF(A461=\"m\",VLOOKUP(K461,Berechnung_Male!$A$1:$D$42,W461,TRUE),VLOOKUP(Eingabeblatt!K461,Berechnung_Female!$A$1:$D$42,W461,TRUE))","v":{"$error":"#DIV/0!"}},{"$error":"#DIV/0!"},{"$error":"#DIV/0!"},{"$nulls":3},{"$error":"#DIV/0!"}]
[{"$nulls":8},{"v":0,"d":"0.0"},{"v":0,"d":"0.00"},{"$error":"#DIV/0!"},{"$error":"#DIV/0!"},{"$error":"#DIV/0!"},{"$error":"#DIV/0!"},{"$error":"#DIV/0!"},{"$error":"#DIV/0!"},{"$f":"IF(A462=\"m\",VLOOKUP(K462,Berechnung_Male!$A$1:$D$42,W462,TRUE),VLOOKUP(Eingabeblatt!K462,Berechnung_Female!$A$1:$D$42,W462,TRUE))","v":{"$error":"#DIV/0!"}},{"$error":"#DIV/0!"},{"$error":"#DIV/0!"},{"$nulls":3},{"$error":"#DIV/0!"}]
[{"$nulls":8},{"v":0,"d":"0.0"},{"v":0,"d":"0.00"},{"$error":"#DIV/0!"},{"$error":"#DIV/0!"},{"$error":"#DIV/0!"},{"$error":"#DIV/0!"},{"$error":"#DIV/0!"},{"$error":"#DIV/0!"},{"$f":"IF(A463=\"m\",VLOOKUP(K463,Berechnung_Male!$A$1:$D$42,W463,TRUE),VLOOKUP(Eingabeblatt!K463,Berechnung_Female!$A$1:$D$42,W463,TRUE))","v":{"$error":"#DIV/0!"}},{"$error":"#DIV/0!"},{"$error":"#DIV/0!"},{"$nulls":3},{"$error":"#DIV/0!"}]
[{"$nulls":8},{"v":0,"d":"0.0"},{"v":0,"d":"0.00"},{"$error":"#DIV/0!"},{"$error":"#DIV/0!"},{"$error":"#DIV/0!"},{"$error":"#DIV/0!"},{"$error":"#DIV/0!"},{"$error":"#DIV/0!"},{"$f":"IF(A464=\"m\",VLOOKUP(K464,Berechnung_Male!$A$1:$D$42,W464,TRUE),VLOOKUP(Eingabeblatt!K464,Berechnung_Female!$A$1:$D$42,W464,TRUE))","v":{"$error":"#DIV/0!"}},{"$error":"#DIV/0!"},{"$error":"#DIV/0!"},{"$nulls":3},{"$error":"#DIV/0!"}]
[{"$nulls":8},{"v":0,"d":"0.0"},{"v":0,"d":"0.00"},{"$error":"#DIV/0!"},{"$error":"#DIV/0!"},{"$error":"#DIV/0!"},{"$error":"#DIV/0!"},{"$error":"#DIV/0!"},{"$error":"#DIV/0!"},{"$f":"IF(A465=\"m\",VLOOKUP(K465,Berechnung_Male!$A$1:$D$42,W465,TRUE),VLOOKUP(Eingabeblatt!K465,Berechnung_Female!$A$1:$D$42,W465,TRUE))","v":{"$error":"#DIV/0!"}},{"$error":"#DIV/0!"},{"$error":"#DIV/0!"},{"$nulls":3},{"$error":"#DIV/0!"}]
[{"$nulls":8},{"v":0,"d":"0.0"},{"v":0,"d":"0.00"},{"$error":"#DIV/0!"},{"$error":"#DIV/0!"},{"$error":"#DIV/0!"},{"$error":"#DIV/0!"},{"$error":"#DIV/0!"},{"$error":"#DIV/0!"},{"$f":"IF(A466=\"m\",VLOOKUP(K466,Berechnung_Male!$A$1:$D$42,W466,TRUE),VLOOKUP(Eingabeblatt!K466,Berechnung_Female!$A$1:$D$42,W466,TRUE))","v":{"$error":"#DIV/0!"}},{"$error":"#DIV/0!"},{"$error":"#DIV/0!"},{"$nulls":3},{"$error":"#DIV/0!"}]
[{"$nulls":8},{"v":0,"d":"0.0"},{"v":0,"d":"0.00"},{"$error":"#DIV/0!"},{"$error":"#DIV/0!"},{"$error":"#DIV/0!"},{"$error":"#DIV/0!"},{"$error":"#DIV/0!"},{"$error":"#DIV/0!"},{"$f":"IF(A467=\"m\",VLOOKUP(K467,Berechnung_Male!$A$1:$D$42,W467,TRUE),VLOOKUP(Eingabeblatt!K467,Berechnung_Female!$A$1:$D$42,W467,TRUE))","v":{"$error":"#DIV/0!"}},{"$error":"#DIV/0!"},{"$error":"#DIV/0!"},{"$nulls":3},{"$error":"#DIV/0!"}]
[{"$nulls":8},{"v":0,"d":"0.0"},{"v":0,"d":"0.00"},{"$error":"#DIV/0!"},{"$error":"#DIV/0!"},{"$error":"#DIV/0!"},{"$error":"#DIV/0!"},{"$error":"#DIV/0!"},{"$error":"#DIV/0!"},{"$f":"IF(A468=\"m\",VLOOKUP(K468,Berechnung_Male!$A$1:$D$42,W468,TRUE),VLOOKUP(Eingabeblatt!K468,Berechnung_Female!$A$1:$D$42,W468,TRUE))","v":{"$error":"#DIV/0!"}},{"$error":"#DIV/0!"},{"$error":"#DIV/0!"},{"$nulls":3},{"$error":"#DIV/0!"}]
[{"$nulls":8},{"v":0,"d":"0.0"},{"v":0,"d":"0.00"},{"$error":"#DIV/0!"},{"$error":"#DIV/0!"},{"$error":"#DIV/0!"},{"$error":"#DIV/0!"},{"$error":"#DIV/0!"},{"$error":"#DIV/0!"},{"$f":"IF(A469=\"m\",VLOOKUP(K469,Berechnung_Male!$A$1:$D$42,W469,TRUE),VLOOKUP(Eingabeblatt!K469,Berechnung_Female!$A$1:$D$42,W469,TRUE))","v":{"$error":"#DIV/0!"}},{"$error":"#DIV/0!"},{"$error":"#DIV/0!"},{"$nulls":3},{"$error":"#DIV/0!"}]
[{"$nulls":8},{"v":0,"d":"0.0"},{"v":0,"d":"0.00"},{"$error":"#DIV/0!"},{"$error":"#DIV/0!"},{"$error":"#DIV/0!"},{"$error":"#DIV/0!"},{"$error":"#DIV/0!"},{"$error":"#DIV/0!"},{"$f":"IF(A470=\"m\",VLOOKUP(K470,Berechnung_Male!$A$1:$D$42,W470,TRUE),VLOOKUP(Eingabeblatt!K470,Berechnung_Female!$A$1:$D$42,W470,TRUE))","v":{"$error":"#DIV/0!"}},{"$error":"#DIV/0!"},{"$error":"#DIV/0!"},{"$nulls":3},{"$error":"#DIV/0!"}]
[{"$nulls":8},{"v":0,"d":"0.0"},{"v":0,"d":"0.00"},{"$error":"#DIV/0!"},{"$error":"#DIV/0!"},{"$error":"#DIV/0!"},{"$error":"#DIV/0!"},{"$error":"#DIV/0!"},{"$error":"#DIV/0!"},{"$f":"IF(A471=\"m\",VLOOKUP(K471,Berechnung_Male!$A$1:$D$42,W471,TRUE),VLOOKUP(Eingabeblatt!K471,Berechnung_Female!$A$1:$D$42,W471,TRUE))","v":{"$error":"#DIV/0!"}},{"$error":"#DIV/0!"},{"$error":"#DIV/0!"},{"$nulls":3},{"$error":"#DIV/0!"}]
[{"$nulls":8},{"v":0,"d":"0.0"},{"v":0,"d":"0.00"},{"$error":"#DIV/0!"},{"$error":"#DIV/0!"},{"$error":"#DIV/0!"},{"$error":"#DIV/0!"},{"$error":"#DIV/0!"},{"$error":"#DIV/0!"},{"$f":"IF(A472=\"m\",VLOOKUP(K472,Berechnung_Male!$A$1:$D$42,W472,TRUE),VLOOKUP(Eingabeblatt!K472,Berechnung_Female!$A$1:$D$42,W472,TRUE))","v":{"$error":"#DIV/0!"}},{"$error":"#DIV/0!"},{"$error":"#DIV/0!"},{"$nulls":3},{"$error":"#DIV/0!"}]
[{"$nulls":8},{"v":0,"d":"0.0"},{"v":0,"d":"0.00"},{"$error":"#DIV/0!"},{"$error":"#DIV/0!"},{"$error":"#DIV/0!"},{"$error":"#DIV/0!"},{"$error":"#DIV/0!"},{"$error":"#DIV/0!"},{"$f":"IF(A473=\"m\",VLOOKUP(K473,Berechnung_Male!$A$1:$D$42,W473,TRUE),VLOOKUP(Eingabeblatt!K473,Berechnung_Female!$A$1:$D$42,W473,TRUE))","v":{"$error":"#DIV/0!"}},{"$error":"#DIV/0!"},{"$error":"#DIV/0!"},{"$nulls":3},{"$error":"#DIV/0!"}]
[{"$nulls":8},{"v":0,"d":"0.0"},{"v":0,"d":"0.00"},{"$error":"#DIV/0!"},{"$error":"#DIV/0!"},{"$error":"#DIV/0!"},{"$error":"#DIV/0!"},{"$error":"#DIV/0!"},{"$error":"#DIV/0!"},{"$f":"IF(A474=\"m\",VLOOKUP(K474,Berechnung_Male!$A$1:$D$42,W474,TRUE),VLOOKUP(Eingabeblatt!K474,Berechnung_Female!$A$1:$D$42,W474,TRUE))","v":{"$error":"#DIV/0!"}},{"$error":"#DIV/0!"},{"$error":"#DIV/0!"},{"$nulls":3},{"$error":"#DIV/0!"}]
[{"$nulls":8},{"v":0,"d":"0.0"},{"v":0,"d":"0.00"},{"$error":"#DIV/0!"},{"$error":"#DIV/0!"},{"$error":"#DIV/0!"},{"$error":"#DIV/0!"},{"$error":"#DIV/0!"},{"$error":"#DIV/0!"},{"$f":"IF(A475=\"m\",VLOOKUP(K475,Berechnung_Male!$A$1:$D$42,W475,TRUE),VLOOKUP(Eingabeblatt!K475,Berechnung_Female!$A$1:$D$42,W475,TRUE))","v":{"$error":"#DIV/0!"}},{"$error":"#DIV/0!"},{"$error":"#DIV/0!"},{"$nulls":3},{"$error":"#DIV/0!"}]
[{"$nulls":8},{"v":0,"d":"0.0"},{"v":0,"d":"0.00"},{"$error":"#DIV/0!"},{"$error":"#DIV/0!"},{"$error":"#DIV/0!"},{"$error":"#DIV/0!"},{"$error":"#DIV/0!"},{"$error":"#DIV/0!"},{"$f":"IF(A476=\"m\",VLOOKUP(K476,Berechnung_Male!$A$1:$D$42,W476,TRUE),VLOOKUP(Eingabeblatt!K476,Berechnung_Female!$A$1:$D$42,W476,TRUE))","v":{"$error":"#DIV/0!"}},{"$error":"#DIV/0!"},{"$error":"#DIV/0!"},{"$nulls":3},{"$error":"#DIV/0!"}]
[{"$nulls":8},{"v":0,"d":"0.0"},{"v":0,"d":"0.00"},{"$error":"#DIV/0!"},{"$error":"#DIV/0!"},{"$error":"#DIV/0!"},{"$error":"#DIV/0!"},{"$error":"#DIV/0!"},{"$error":"#DIV/0!"},{"$f":"IF(A477=\"m\",VLOOKUP(K477,Berechnung_Male!$A$1:$D$42,W477,TRUE),VLOOKUP(Eingabeblatt!K477,Berechnung_Female!$A$1:$D$42,W477,TRUE))","v":{"$error":"#DIV/0!"}},{"$error":"#DIV/0!"},{"$error":"#DIV/0!"},{"$nulls":3},{"$error":"#DIV/0!"}]
[{"$nulls":8},{"v":0,"d":"0.0"},{"v":0,"d":"0.00"},{"$error":"#DIV/0!"},{"$error":"#DIV/0!"},{"$error":"#DIV/0!"},{"$error":"#DIV/0!"},{"$error":"#DIV/0!"},{"$error":"#DIV/0!"},{"$f":"IF(A478=\"m\",VLOOKUP(K478,Berechnung_Male!$A$1:$D$42,W478,TRUE),VLOOKUP(Eingabeblatt!K478,Berechnung_Female!$A$1:$D$42,W478,TRUE))","v":{"$error":"#DIV/0!"}},{"$error":"#DIV/0!"},{"$error":"#DIV/0!"},{"$nulls":3},{"$error":"#DIV/0!"}]
[{"$nulls":8},{"v":0,"d":"0.0"},{"v":0,"d":"0.00"},{"$error":"#DIV/0!"},{"$error":"#DIV/0!"},{"$error":"#DIV/0!"},{"$error":"#DIV/0!"},{"$error":"#DIV/0!"},{"$error":"#DIV/0!"},{"$f":"IF(A479=\"m\",VLOOKUP(K479,Berechnung_Male!$A$1:$D$42,W479,TRUE),VLOOKUP(Eingabeblatt!K479,Berechnung_Female!$A$1:$D$42,W479,TRUE))","v":{"$error":"#DIV/0!"}},{"$error":"#DIV/0!"},{"$error":"#DIV/0!"},{"$nulls":3},{"$error":"#DIV/0!"}]
[{"$nulls":8},{"v":0,"d":"0.0"},{"v":0,"d":"0.00"},{"$error":"#DIV/0!"},{"$error":"#DIV/0!"},{"$error":"#DIV/0!"},{"$error":"#DIV/0!"},{"$error":"#DIV/0!"},{"$error":"#DIV/0!"},{"$f":"IF(A480=\"m\",VLOOKUP(K480,Berechnung_Male!$A$1:$D$42,W480,TRUE),VLOOKUP(Eingabeblatt!K480,Berechnung_Female!$A$1:$D$42,W480,TRUE))","v":{"$error":"#DIV/0!"}},{"$error":"#DIV/0!"},{"$error":"#DIV/0!"},{"$nulls":3},{"$error":"#DIV/0!"}]
[{"$nulls":8},{"v":0,"d":"0.0"},{"v":0,"d":"0.00"},{"$error":"#DIV/0!"},{"$error":"#DIV/0!"},{"$error":"#DIV/0!"},{"$error":"#DIV/0!"},{"$error":"#DIV/0!"},{"$error":"#DIV/0!"},{"$f":"IF(A481=\"m\",VLOOKUP(K481,Berechnung_Male!$A$1:$D$42,W481,TRUE),VLOOKUP(Eingabeblatt!K481,Berechnung_Female!$A$1:$D$42,W481,TRUE))","v":{"$error":"#DIV/0!"}},{"$error":"#DIV/0!"},{"$error":"#DIV/0!"},{"$nulls":3},{"$error":"#DIV/0!"}]
[{"$nulls":8},{"v":0,"d":"0.0"},{"v":0,"d":"0.00"},{"$error":"#DIV/0!"},{"$error":"#DIV/0!"},{"$error":"#DIV/0!"},{"$error":"#DIV/0!"},{"$error":"#DIV/0!"},{"$error":"#DIV/0!"},{"$f":"IF(A482=\"m\",VLOOKUP(K482,Berechnung_Male!$A$1:$D$42,W482,TRUE),VLOOKUP(Eingabeblatt!K482,Berechnung_Female!$A$1:$D$42,W482,TRUE))","v":{"$error":"#DIV/0!"}},{"$error":"#DIV/0!"},{"$error":"#DIV/0!"},{"$nulls":3},{"$error":"#DIV/0!"}]
[{"$nulls":8},{"v":0,"d":"0.0"},{"v":0,"d":"0.00"},{"$error":"#DIV/0!"},{"$error":"#DIV/0!"},{"$error":"#DIV/0!"},{"$error":"#DIV/0!"},{"$error":"#DIV/0!"},{"$error":"#DIV/0!"},{"$f":"IF(A483=\"m\",VLOOKUP(K483,Berechnung_Male!$A$1:$D$42,W483,TRUE),VLOOKUP(Eingabeblatt!K483,Berechnung_Female!$A$1:$D$42,W483,TRUE))","v":{"$error":"#DIV/0!"}},{"$error":"#DIV/0!"},{"$error":"#DIV/0!"},{"$nulls":3},{"$error":"#DIV/0!"}]
[{"$nulls":8},{"v":0,"d":"0.0"},{"v":0,"d":"0.00"},{"$error":"#DIV/0!"},{"$error":"#DIV/0!"},{"$error":"#DIV/0!"},{"$error":"#DIV/0!"},{"$error":"#DIV/0!"},{"$error":"#DIV/0!"},{"$f":"IF(A484=\"m\",VLOOKUP(K484,Berechnung_Male!$A$1:$D$42,W484,TRUE),VLOOKUP(Eingabeblatt!K484,Berechnung_Female!$A$1:$D$42,W484,TRUE))","v":{"$error":"#DIV/0!"}},{"$error":"#DIV/0!"},{"$error":"#DIV/0!"},{"$nulls":3},{"$error":"#DIV/0!"}]
[{"$nulls":8},{"v":0,"d":"0.0"},{"v":0,"d":"0.00"},{"$error":"#DIV/0!"},{"$error":"#DIV/0!"},{"$error":"#DIV/0!"},{"$error":"#DIV/0!"},{"$error":"#DIV/0!"},{"$error":"#DIV/0!"},{"$f":"IF(A485=\"m\",VLOOKUP(K485,Berechnung_Male!$A$1:$D$42,W485,TRUE),VLOOKUP(Eingabeblatt!K485,Berechnung_Female!$A$1:$D$42,W485,TRUE))","v":{"$error":"#DIV/0!"}},{"$error":"#DIV/0!"},{"$error":"#DIV/0!"},{"$nulls":3},{"$error":"#DIV/0!"}]
[{"$nulls":8},{"v":0,"d":"0.0"},{"v":0,"d":"0.00"},{"$error":"#DIV/0!"},{"$error":"#DIV/0!"},{"$error":"#DIV/0!"},{"$error":"#DIV/0!"},{"$error":"#DIV/0!"},{"$error":"#DIV/0!"},{"$f":"IF(A486=\"m\",VLOOKUP(K486,Berechnung_Male!$A$1:$D$42,W486,TRUE),VLOOKUP(Eingabeblatt!K486,Berechnung_Female!$A$1:$D$42,W486,TRUE))","v":{"$error":"#DIV/0!"}},{"$error":"#DIV/0!"},{"$error":"#DIV/0!"},{"$nulls":3},{"$error":"#DIV/0!"}]
[{"$nulls":8},{"v":0,"d":"0.0"},{"v":0,"d":"0.00"},{"$error":"#DIV/0!"},{"$error":"#DIV/0!"},{"$error":"#DIV/0!"},{"$error":"#DIV/0!"},{"$error":"#DIV/0!"},{"$error":"#DIV/0!"},{"$f":"IF(A487=\"m\",VLOOKUP(K487,Berechnung_Male!$A$1:$D$42,W487,TRUE),VLOOKUP(Eingabeblatt!K487,Berechnung_Female!$A$1:$D$42,W487,TRUE))","v":{"$error":"#DIV/0!"}},{"$error":"#DIV/0!"},{"$error":"#DIV/0!"},{"$nulls":3},{"$error":"#DIV/0!"}]
[{"$nulls":8},{"v":0,"d":"0.0"},{"v":0,"d":"0.00"},{"$error":"#DIV/0!"},{"$error":"#DIV/0!"},{"$error":"#DIV/0!"},{"$error":"#DIV/0!"},{"$error":"#DIV/0!"},{"$error":"#DIV/0!"},{"$f":"IF(A488=\"m\",VLOOKUP(K488,Berechnung_Male!$A$1:$D$42,W488,TRUE),VLOOKUP(Eingabeblatt!K488,Berechnung_Female!$A$1:$D$42,W488,TRUE))","v":{"$error":"#DIV/0!"}},{"$error":"#DIV/0!"},{"$error":"#DIV/0!"},{"$nulls":3},{"$error":"#DIV/0!"}]
[{"$nulls":8},{"v":0,"d":"0.0"},{"v":0,"d":"0.00"},{"$error":"#DIV/0!"},{"$error":"#DIV/0!"},{"$error":"#DIV/0!"},{"$error":"#DIV/0!"},{"$error":"#DIV/0!"},{"$error":"#DIV/0!"},{"$f":"IF(A489=\"m\",VLOOKUP(K489,Berechnung_Male!$A$1:$D$42,W489,TRUE),VLOOKUP(Eingabeblatt!K489,Berechnung_Female!$A$1:$D$42,W489,TRUE))","v":{"$error":"#DIV/0!"}},{"$error":"#DIV/0!"},{"$error":"#DIV/0!"},{"$nulls":3},{"$error":"#DIV/0!"}]
[{"$nulls":8},{"v":0,"d":"0.0"},{"v":0,"d":"0.00"},{"$error":"#DIV/0!"},{"$error":"#DIV/0!"},{"$error":"#DIV/0!"},{"$error":"#DIV/0!"},{"$error":"#DIV/0!"},{"$error":"#DIV/0!"},{"$f":"IF(A490=\"m\",VLOOKUP(K490,Berechnung_Male!$A$1:$D$42,W490,TRUE),VLOOKUP(Eingabeblatt!K490,Berechnung_Female!$A$1:$D$42,W490,TRUE))","v":{"$error":"#DIV/0!"}},{"$error":"#DIV/0!"},{"$error":"#DIV/0!"},{"$nulls":3},{"$error":"#DIV/0!"}]
[{"$nulls":8},{"v":0,"d":"0.0"},{"v":0,"d":"0.00"},{"$error":"#DIV/0!"},{"$error":"#DIV/0!"},{"$error":"#DIV/0!"},{"$error":"#DIV/0!"},{"$error":"#DIV/0!"},{"$error":"#DIV/0!"},{"$f":"IF(A491=\"m\",VLOOKUP(K491,Berechnung_Male!$A$1:$D$42,W491,TRUE),VLOOKUP(Eingabeblatt!K491,Berechnung_Female!$A$1:$D$42,W491,TRUE))","v":{"$error":"#DIV/0!"}},{"$error":"#DIV/0!"},{"$error":"#DIV/0!"},{"$nulls":3},{"$error":"#DIV/0!"}]
[{"$nulls":8},{"v":0,"d":"0.0"},{"v":0,"d":"0.00"},{"$error":"#DIV/0!"},{"$error":"#DIV/0!"},{"$error":"#DIV/0!"},{"$error":"#DIV/0!"},{"$error":"#DIV/0!"},{"$error":"#DIV/0!"},{"$f":"IF(A492=\"m\",VLOOKUP(K492,Berechnung_Male!$A$1:$D$42,W492,TRUE),VLOOKUP(Eingabeblatt!K492,Berechnung_Female!$A$1:$D$42,W492,TRUE))","v":{"$error":"#DIV/0!"}},{"$error":"#DIV/0!"},{"$error":"#DIV/0!"},{"$nulls":3},{"$error":"#DIV/0!"}]
[{"$nulls":8},{"v":0,"d":"0.0"},{"v":0,"d":"0.00"},{"$error":"#DIV/0!"},{"$error":"#DIV/0!"},{"$error":"#DIV/0!"},{"$error":"#DIV/0!"},{"$error":"#DIV/0!"},{"$error":"#DIV/0!"},{"$f":"IF(A493=\"m\",VLOOKUP(K493,Berechnung_Male!$A$1:$D$42,W493,TRUE),VLOOKUP(Eingabeblatt!K493,Berechnung_Female!$A$1:$D$42,W493,TRUE))","v":{"$error":"#DIV/0!"}},{"$error":"#DIV/0!"},{"$error":"#DIV/0!"},{"$nulls":3},{"$error":"#DIV/0!"}]
[{"$nulls":8},{"v":0,"d":"0.0"},{"v":0,"d":"0.00"},{"$error":"#DIV/0!"},{"$error":"#DIV/0!"},{"$error":"#DIV/0!"},{"$error":"#DIV/0!"},{"$error":"#DIV/0!"},{"$error":"#DIV/0!"},{"$f":"IF(A494=\"m\",VLOOKUP(K494,Berechnung_Male!$A$1:$D$42,W494,TRUE),VLOOKUP(Eingabeblatt!K494,Berechnung_Female!$A$1:$D$42,W494,TRUE))","v":{"$error":"#DIV/0!"}},{"$error":"#DIV/0!"},{"$error":"#DIV/0!"},{"$nulls":3},{"$error":"#DIV/0!"}]
[{"$nulls":8},{"v":0,"d":"0.0"},{"v":0,"d":"0.00"},{"$error":"#DIV/0!"},{"$error":"#DIV/0!"},{"$error":"#DIV/0!"},{"$error":"#DIV/0!"},{"$error":"#DIV/0!"},{"$error":"#DIV/0!"},{"$f":"IF(A495=\"m\",VLOOKUP(K495,Berechnung_Male!$A$1:$D$42,W495,TRUE),VLOOKUP(Eingabeblatt!K495,Berechnung_Female!$A$1:$D$42,W495,TRUE))","v":{"$error":"#DIV/0!"}},{"$error":"#DIV/0!"},{"$error":"#DIV/0!"},{"$nulls":3},{"$error":"#DIV/0!"}]
[{"$nulls":8},{"v":0,"d":"0.0"},{"v":0,"d":"0.00"},{"$error":"#DIV/0!"},{"$error":"#DIV/0!"},{"$error":"#DIV/0!"},{"$error":"#DIV/0!"},{"$error":"#DIV/0!"},{"$error":"#DIV/0!"},{"$f":"IF(A496=\"m\",VLOOKUP(K496,Berechnung_Male!$A$1:$D$42,W496,TRUE),VLOOKUP(Eingabeblatt!K496,Berechnung_Female!$A$1:$D$42,W496,TRUE))","v":{"$error":"#DIV/0!"}},{"$error":"#DIV/0!"},{"$error":"#DIV/0!"},{"$nulls":3},{"$error":"#DIV/0!"}]
[{"$nulls":8},{"v":0,"d":"0.0"},{"v":0,"d":"0.00"},{"$error":"#DIV/0!"},{"$error":"#DIV/0!"},{"$error":"#DIV/0!"},{"$error":"#DIV/0!"},{"$error":"#DIV/0!"},{"$error":"#DIV/0!"},{"$f":"IF(A497=\"m\",VLOOKUP(K497,Berechnung_Male!$A$1:$D$42,W497,TRUE),VLOOKUP(Eingabeblatt!K497,Berechnung_Female!$A$1:$D$42,W497,TRUE))","v":{"$error":"#DIV/0!"}},{"$error":"#DIV/0!"},{"$error":"#DIV/0!"},{"$nulls":3},{"$error":"#DIV/0!"}]
[{"$nulls":8},{"v":0,"d":"0.0"},{"v":0,"d":"0.00"},{"$error":"#DIV/0!"},{"$error":"#DIV/0!"},{"$error":"#DIV/0!"},{"$error":"#DIV/0!"},{"$error":"#DIV/0!"},{"$error":"#DIV/0!"},{"$f":"IF(A498=\"m\",VLOOKUP(K498,Berechnung_Male!$A$1:$D$42,W498,TRUE),VLOOKUP(Eingabeblatt!K498,Berechnung_Female!$A$1:$D$42,W498,TRUE))","v":{"$error":"#DIV/0!"}},{"$error":"#DIV/0!"},{"$error":"#DIV/0!"},{"$nulls":3},{"$error":"#DIV/0!"}]
[{"$nulls":8},{"v":0,"d":"0.0"},{"v":0,"d":"0.00"},{"$error":"#DIV/0!"},{"$error":"#DIV/0!"},{"$error":"#DIV/0!"},{"$error":"#DIV/0!"},{"$error":"#DIV/0!"},{"$error":"#DIV/0!"},{"$f":"IF(A499=\"m\",VLOOKUP(K499,Berechnung_Male!$A$1:$D$42,W499,TRUE),VLOOKUP(Eingabeblatt!K499,Berechnung_Female!$A$1:$D$42,W499,TRUE))","v":{"$error":"#DIV/0!"}},{"$error":"#DIV/0!"},{"$error":"#DIV/0!"},{"$nulls":3},{"$error":"#DIV/0!"}]
[{"$nulls":8},{"v":0,"d":"0.0"},{"v":0,"d":"0.00"},{"$error":"#DIV/0!"},{"$error":"#DIV/0!"},{"$error":"#DIV/0!"},{"$error":"#DIV/0!"},{"$error":"#DIV/0!"},{"$error":"#DIV/0!"},{"$f":"IF(A500=\"m\",VLOOKUP(K500,Berechnung_Male!$A$1:$D$42,W500,TRUE),VLOOKUP(Eingabeblatt!K500,Berechnung_Female!$A$1:$D$42,W500,TRUE))","v":{"$error":"#DIV/0!"}},{"$error":"#DIV/0!"},{"$error":"#DIV/0!"},{"$nulls":3},{"$error":"#DIV/0!"}]

{"sheet":"Ausgabeblatt","index":3,"n_rows":200,"n_cols":5,"rows_kept":200}
["Name\nNom","Vorname\nPrénom","Geburtsdatum\nDate de naissance","Messdatum\nDate de la mesure","Bio. Entwicklungsstand\nBES Zahl (1-3)\nDéveloppement bio.\nCatégorie 1-3"]
[{"$f":"IF(Eingabeblatt!C5=\"\",\"\",Eingabeblatt!C5)","v":""},{"$f":"IF(Eingabeblatt!D5=\"\",\"\",Eingabeblatt!D5)","v":""},{"$f":"IF(Eingabeblatt!E5=\"\",\"\",Eingabeblatt!E5)","v":""},{"$f":"IF(Eingabeblatt!B5=\"\",\"\",Eingabeblatt!B5)","v":""},{"$f":"Eingabeblatt!M5","v":{"$error":"#DIV/0!"}}]
[{"$f":"IF(Eingabeblatt!C6=\"\",\"\",Eingabeblatt!C6)","v":""},{"$f":"IF(Eingabeblatt!D6=\"\",\"\",Eingabeblatt!D6)","v":""},{"$f":"IF(Eingabeblatt!E6=\"\",\"\",Eingabeblatt!E6)","v":""},{"$f":"IF(Eingabeblatt!B6=\"\",\"\",Eingabeblatt!B6)","v":""},{"$f":"Eingabeblatt!M6","v":{"$error":"#DIV/0!"}}]
[{"$f":"IF(Eingabeblatt!C7=\"\",\"\",Eingabeblatt!C7)","v":""},{"$f":"IF(Eingabeblatt!D7=\"\",\"\",Eingabeblatt!D7)","v":""},{"$f":"IF(Eingabeblatt!E7=\"\",\"\",Eingabeblatt!E7)","v":""},{"$f":"IF(Eingabeblatt!B7=\"\",\"\",Eingabeblatt!B7)","v":""},{"$f":"Eingabeblatt!M7","v":{"$error":"#DIV/0!"}}]
[{"$f":"IF(Eingabeblatt!C8=\"\",\"\",Eingabeblatt!C8)","v":""},{"$f":"IF(Eingabeblatt!D8=\"\",\"\",Eingabeblatt!D8)","v":""},{"$f":"IF(Eingabeblatt!E8=\"\",\"\",Eingabeblatt!E8)","v":""},{"$f":"IF(Eingabeblatt!B8=\"\",\"\",Eingabeblatt!B8)","v":""},{"$f":"Eingabeblatt!M8","v":{"$error":"#DIV/0!"}}]
[{"$f":"IF(Eingabeblatt!C9=\"\",\"\",Eingabeblatt!C9)","v":""},{"$f":"IF(Eingabeblatt!D9=\"\",\"\",Eingabeblatt!D9)","v":""},{"$f":"IF(Eingabeblatt!E9=\"\",\"\",Eingabeblatt!E9)","v":""},{"$f":"IF(Eingabeblatt!B9=\"\",\"\",Eingabeblatt!B9)","v":""},{"$f":"Eingabeblatt!M9","v":{"$error":"#DIV/0!"}}]
[{"$f":"IF(Eingabeblatt!C10=\"\",\"\",Eingabeblatt!C10)","v":""},{"$f":"IF(Eingabeblatt!D10=\"\",\"\",Eingabeblatt!D10)","v":""},{"$f":"IF(Eingabeblatt!E10=\"\",\"\",Eingabeblatt!E10)","v":""},{"$f":"IF(Eingabeblatt!B10=\"\",\"\",Eingabeblatt!B10)","v":""},{"$f":"Eingabeblatt!M10","v":{"$error":"#DIV/0!"}}]
[{"$f":"IF(Eingabeblatt!C11=\"\",\"\",Eingabeblatt!C11)","v":""},{"$f":"IF(Eingabeblatt!D11=\"\",\"\",Eingabeblatt!D11)","v":""},{"$f":"IF(Eingabeblatt!E11=\"\",\"\",Eingabeblatt!E11)","v":""},{"$f":"IF(Eingabeblatt!B11=\"\",\"\",Eingabeblatt!B11)","v":""},{"$f":"Eingabeblatt!M11","v":{"$error":"#DIV/0!"}}]
[{"$f":"IF(Eingabeblatt!C12=\"\",\"\",Eingabeblatt!C12)","v":""},{"$f":"IF(Eingabeblatt!D12=\"\",\"\",Eingabeblatt!D12)","v":""},{"$f":"IF(Eingabeblatt!E12=\"\",\"\",Eingabeblatt!E12)","v":""},{"$f":"IF(Eingabeblatt!B12=\"\",\"\",Eingabeblatt!B12)","v":""},{"$f":"Eingabeblatt!M12","v":{"$error":"#DIV/0!"}}]
[{"$f":"IF(Eingabeblatt!C13=\"\",\"\",Eingabeblatt!C13)","v":""},{"$f":"IF(Eingabeblatt!D13=\"\",\"\",Eingabeblatt!D13)","v":""},{"$f":"IF(Eingabeblatt!E13=\"\",\"\",Eingabeblatt!E13)","v":""},{"$f":"IF(Eingabeblatt!B13=\"\",\"\",Eingabeblatt!B13)","v":""},{"$f":"Eingabeblatt!M13","v":{"$error":"#DIV/0!"}}]
[{"$f":"IF(Eingabeblatt!C14=\"\",\"\",Eingabeblatt!C14)","v":""},{"$f":"IF(Eingabeblatt!D14=\"\",\"\",Eingabeblatt!D14)","v":""},{"$f":"IF(Eingabeblatt!E14=\"\",\"\",Eingabeblatt!E14)","v":""},{"$f":"IF(Eingabeblatt!B14=\"\",\"\",Eingabeblatt!B14)","v":""},{"$f":"Eingabeblatt!M14","v":{"$error":"#DIV/0!"}}]
[{"$f":"IF(Eingabeblatt!C15=\"\",\"\",Eingabeblatt!C15)","v":""},{"$f":"IF(Eingabeblatt!D15=\"\",\"\",Eingabeblatt!D15)","v":""},{"$f":"IF(Eingabeblatt!E15=\"\",\"\",Eingabeblatt!E15)","v":""},{"$f":"IF(Eingabeblatt!B15=\"\",\"\",Eingabeblatt!B15)","v":""},{"$f":"Eingabeblatt!M15","v":{"$error":"#DIV/0!"}}]
[{"$f":"IF(Eingabeblatt!C16=\"\",\"\",Eingabeblatt!C16)","v":""},{"$f":"IF(Eingabeblatt!D16=\"\",\"\",Eingabeblatt!D16)","v":""},{"$f":"IF(Eingabeblatt!E16=\"\",\"\",Eingabeblatt!E16)","v":""},{"$f":"IF(Eingabeblatt!B16=\"\",\"\",Eingabeblatt!B16)","v":""},{"$f":"Eingabeblatt!M16","v":{"$error":"#DIV/0!"}}]
[{"$f":"IF(Eingabeblatt!C17=\"\",\"\",Eingabeblatt!C17)","v":""},{"$f":"IF(Eingabeblatt!D17=\"\",\"\",Eingabeblatt!D17)","v":""},{"$f":"IF(Eingabeblatt!E17=\"\",\"\",Eingabeblatt!E17)","v":""},{"$f":"IF(Eingabeblatt!B17=\"\",\"\",Eingabeblatt!B17)","v":""},{"$f":"Eingabeblatt!M17","v":{"$error":"#DIV/0!"}}]
[{"$f":"IF(Eingabeblatt!C18=\"\",\"\",Eingabeblatt!C18)","v":""},{"$f":"IF(Eingabeblatt!D18=\"\",\"\",Eingabeblatt!D18)","v":""},{"$f":"IF(Eingabeblatt!E18=\"\",\"\",Eingabeblatt!E18)","v":""},{"$f":"IF(Eingabeblatt!B18=\"\",\"\",Eingabeblatt!B18)","v":""},{"$f":"Eingabeblatt!M18","v":{"$error":"#DIV/0!"}}]
[{"$f":"IF(Eingabeblatt!C19=\"\",\"\",Eingabeblatt!C19)","v":""},{"$f":"IF(Eingabeblatt!D19=\"\",\"\",Eingabeblatt!D19)","v":""},{"$f":"IF(Eingabeblatt!E19=\"\",\"\",Eingabeblatt!E19)","v":""},{"$f":"IF(Eingabeblatt!B19=\"\",\"\",Eingabeblatt!B19)","v":""},{"$f":"Eingabeblatt!M19","v":{"$error":"#DIV/0!"}}]
[{"$f":"IF(Eingabeblatt!C20=\"\",\"\",Eingabeblatt!C20)","v":""},{"$f":"IF(Eingabeblatt!D20=\"\",\"\",Eingabeblatt!D20)","v":""},{"$f":"IF(Eingabeblatt!E20=\"\",\"\",Eingabeblatt!E20)","v":""},{"$f":"IF(Eingabeblatt!B20=\"\",\"\",Eingabeblatt!B20)","v":""},{"$f":"Eingabeblatt!M20","v":{"$error":"#DIV/0!"}}]
[{"$f":"IF(Eingabeblatt!C21=\"\",\"\",Eingabeblatt!C21)","v":""},{"$f":"IF(Eingabeblatt!D21=\"\",\"\",Eingabeblatt!D21)","v":""},{"$f":"IF(Eingabeblatt!E21=\"\",\"\",Eingabeblatt!E21)","v":""},{"$f":"IF(Eingabeblatt!B21=\"\",\"\",Eingabeblatt!B21)","v":""},{"$f":"Eingabeblatt!M21","v":{"$error":"#DIV/0!"}}]
[{"$f":"IF(Eingabeblatt!C22=\"\",\"\",Eingabeblatt!C22)","v":""},{"$f":"IF(Eingabeblatt!D22=\"\",\"\",Eingabeblatt!D22)","v":""},{"$f":"IF(Eingabeblatt!E22=\"\",\"\",Eingabeblatt!E22)","v":""},{"$f":"IF(Eingabeblatt!B22=\"\",\"\",Eingabeblatt!B22)","v":""},{"$f":"Eingabeblatt!M22","v":{"$error":"#DIV/0!"}}]
[{"$f":"IF(Eingabeblatt!C23=\"\",\"\",Eingabeblatt!C23)","v":""},{"$f":"IF(Eingabeblatt!D23=\"\",\"\",Eingabeblatt!D23)","v":""},{"$f":"IF(Eingabeblatt!E23=\"\",\"\",Eingabeblatt!E23)","v":""},{"$f":"IF(Eingabeblatt!B23=\"\",\"\",Eingabeblatt!B23)","v":""},{"$f":"Eingabeblatt!M23","v":{"$error":"#DIV/0!"}}]
[{"$f":"IF(Eingabeblatt!C24=\"\",\"\",Eingabeblatt!C24)","v":""},{"$f":"IF(Eingabeblatt!D24=\"\",\"\",Eingabeblatt!D24)","v":""},{"$f":"IF(Eingabeblatt!E24=\"\",\"\",Eingabeblatt!E24)","v":""},{"$f":"IF(Eingabeblatt!B24=\"\",\"\",Eingabeblatt!B24)","v":""},{"$f":"Eingabeblatt!M24","v":{"$error":"#DIV/0!"}}]
[{"$f":"IF(Eingabeblatt!C25=\"\",\"\",Eingabeblatt!C25)","v":""},{"$f":"IF(Eingabeblatt!D25=\"\",\"\",Eingabeblatt!D25)","v":""},{"$f":"IF(Eingabeblatt!E25=\"\",\"\",Eingabeblatt!E25)","v":""},{"$f":"IF(Eingabeblatt!B25=\"\",\"\",Eingabeblatt!B25)","v":""},{"$f":"Eingabeblatt!M25","v":{"$error":"#DIV/0!"}}]
[{"$f":"IF(Eingabeblatt!C26=\"\",\"\",Eingabeblatt!C26)","v":""},{"$f":"IF(Eingabeblatt!D26=\"\",\"\",Eingabeblatt!D26)","v":""},{"$f":"IF(Eingabeblatt!E26=\"\",\"\",Eingabeblatt!E26)","v":""},{"$f":"IF(Eingabeblatt!B26=\"\",\"\",Eingabeblatt!B26)","v":""},{"$f":"Eingabeblatt!M26","v":{"$error":"#DIV/0!"}}]
[{"$f":"IF(Eingabeblatt!C27=\"\",\"\",Eingabeblatt!C27)","v":""},{"$f":"IF(Eingabeblatt!D27=\"\",\"\",Eingabeblatt!D27)","v":""},{"$f":"IF(Eingabeblatt!E27=\"\",\"\",Eingabeblatt!E27)","v":""},{"$f":"IF(Eingabeblatt!B27=\"\",\"\",Eingabeblatt!B27)","v":""},{"$f":"Eingabeblatt!M27","v":{"$error":"#DIV/0!"}}]
[{"$f":"IF(Eingabeblatt!C28=\"\",\"\",Eingabeblatt!C28)","v":""},{"$f":"IF(Eingabeblatt!D28=\"\",\"\",Eingabeblatt!D28)","v":""},{"$f":"IF(Eingabeblatt!E28=\"\",\"\",Eingabeblatt!E28)","v":""},{"$f":"IF(Eingabeblatt!B28=\"\",\"\",Eingabeblatt!B28)","v":""},{"$f":"Eingabeblatt!M28","v":{"$error":"#DIV/0!"}}]
[{"$f":"IF(Eingabeblatt!C29=\"\",\"\",Eingabeblatt!C29)","v":""},{"$f":"IF(Eingabeblatt!D29=\"\",\"\",Eingabeblatt!D29)","v":""},{"$f":"IF(Eingabeblatt!E29=\"\",\"\",Eingabeblatt!E29)","v":""},{"$f":"IF(Eingabeblatt!B29=\"\",\"\",Eingabeblatt!B29)","v":""},{"$f":"Eingabeblatt!M29","v":{"$error":"#DIV/0!"}}]
[{"$f":"IF(Eingabeblatt!C30=\"\",\"\",Eingabeblatt!C30)","v":""},{"$f":"IF(Eingabeblatt!D30=\"\",\"\",Eingabeblatt!D30)","v":""},{"$f":"IF(Eingabeblatt!E30=\"\",\"\",Eingabeblatt!E30)","v":""},{"$f":"IF(Eingabeblatt!B30=\"\",\"\",Eingabeblatt!B30)","v":""},{"$f":"Eingabeblatt!M30","v":{"$error":"#DIV/0!"}}]
[{"$f":"IF(Eingabeblatt!C31=\"\",\"\",Eingabeblatt!C31)","v":""},{"$f":"IF(Eingabeblatt!D31=\"\",\"\",Eingabeblatt!D31)","v":""},{"$f":"IF(Eingabeblatt!E31=\"\",\"\",Eingabeblatt!E31)","v":""},{"$f":"IF(Eingabeblatt!B31=\"\",\"\",Eingabeblatt!B31)","v":""},{"$f":"Eingabeblatt!M31","v":{"$error":"#DIV/0!"}}]
[{"$f":"IF(Eingabeblatt!C32=\"\",\"\",Eingabeblatt!C32)","v":""},{"$f":"IF(Eingabeblatt!D32=\"\",\"\",Eingabeblatt!D32)","v":""},{"$f":"IF(Eingabeblatt!E32=\"\",\"\",Eingabeblatt!E32)","v":""},{"$f":"IF(Eingabeblatt!B32=\"\",\"\",Eingabeblatt!B32)","v":""},{"$f":"Eingabeblatt!M32","v":{"$error":"#DIV/0!"}}]
[{"$f":"IF(Eingabeblatt!C33=\"\",\"\",Eingabeblatt!C33)","v":""},{"$f":"IF(Eingabeblatt!D33=\"\",\"\",Eingabeblatt!D33)","v":""},{"$f":"IF(Eingabeblatt!E33=\"\",\"\",Eingabeblatt!E33)","v":""},{"$f":"IF(Eingabeblatt!B33=\"\",\"\",Eingabeblatt!B33)","v":""},{"$f":"Eingabeblatt!M33","v":{"$error":"#DIV/0!"}}]
[{"$f":"IF(Eingabeblatt!C34=\"\",\"\",Eingabeblatt!C34)","v":""},{"$f":"IF(Eingabeblatt!D34=\"\",\"\",Eingabeblatt!D34)","v":""},{"$f":"IF(Eingabeblatt!E34=\"\",\"\",Eingabeblatt!E34)","v":""},{"$f":"IF(Eingabeblatt!B34=\"\",\"\",Eingabeblatt!B34)","v":""},{"$f":"Eingabeblatt!M34","v":{"$error":"#DIV/0!"}}]
[{"$f":"IF(Eingabeblatt!C35=\"\",\"\",Eingabeblatt!C35)","v":""},{"$f":"IF(Eingabeblatt!D35=\"\",\"\",Eingabeblatt!D35)","v":""},{"$f":"IF(Eingabeblatt!E35=\"\",\"\",Eingabeblatt!E35)","v":""},{"$f":"IF(Eingabeblatt!B35=\"\",\"\",Eingabeblatt!B35)","v":""},{"$f":"Eingabeblatt!M35","v":{"$error":"#DIV/0!"}}]
[{"$f":"IF(Eingabeblatt!C36=\"\",\"\",Eingabeblatt!C36)","v":""},{"$f":"IF(Eingabeblatt!D36=\"\",\"\",Eingabeblatt!D36)","v":""},{"$f":"IF(Eingabeblatt!E36=\"\",\"\",Eingabeblatt!E36)","v":""},{"$f":"IF(Eingabeblatt!B36=\"\",\"\",Eingabeblatt!B36)","v":""},{"$f":"Eingabeblatt!M36","v":{"$error":"#DIV/0!"}}]
[{"$f":"IF(Eingabeblatt!C37=\"\",\"\",Eingabeblatt!C37)","v":""},{"$f":"IF(Eingabeblatt!D37=\"\",\"\",Eingabeblatt!D37)","v":""},{"$f":"IF(Eingabeblatt!E37=\"\",\"\",Eingabeblatt!E37)","v":""},{"$f":"IF(Eingabeblatt!B37=\"\",\"\",Eingabeblatt!B37)","v":""},{"$f":"Eingabeblatt!M37","v":{"$error":"#DIV/0!"}}]
[{"$f":"IF(Eingabeblatt!C38=\"\",\"\",Eingabeblatt!C38)","v":""},{"$f":"IF(Eingabeblatt!D38=\"\",\"\",Eingabeblatt!D38)","v":""},{"$f":"IF(Eingabeblatt!E38=\"\",\"\",Eingabeblatt!E38)","v":""},{"$f":"IF(Eingabeblatt!B38=\"\",\"\",Eingabeblatt!B38)","v":""},{"$f":"Eingabeblatt!M38","v":{"$error":"#DIV/0!"}}]
[{"$f":"IF(Eingabeblatt!C39=\"\",\"\",Eingabeblatt!C39)","v":""},{"$f":"IF(Eingabeblatt!D39=\"\",\"\",Eingabeblatt!D39)","v":""},{"$f":"IF(Eingabeblatt!E39=\"\",\"\",Eingabeblatt!E39)","v":""},{"$f":"IF(Eingabeblatt!B39=\"\",\"\",Eingabeblatt!B39)","v":""},{"$f":"Eingabeblatt!M39","v":{"$error":"#DIV/0!"}}]
[{"$f":"IF(Eingabeblatt!C40=\"\",\"\",Eingabeblatt!C40)","v":""},{"$f":"IF(Eingabeblatt!D40=\"\",\"\",Eingabeblatt!D40)","v":""},{"$f":"IF(Eingabeblatt!E40=\"\",\"\",Eingabeblatt!E40)","v":""},{"$f":"IF(Eingabeblatt!B40=\"\",\"\",Eingabeblatt!B40)","v":""},{"$f":"Eingabeblatt!M40","v":{"$error":"#DIV/0!"}}]
[{"$f":"IF(Eingabeblatt!C41=\"\",\"\",Eingabeblatt!C41)","v":""},{"$f":"IF(Eingabeblatt!D41=\"\",\"\",Eingabeblatt!D41)","v":""},{"$f":"IF(Eingabeblatt!E41=\"\",\"\",Eingabeblatt!E41)","v":""},{"$f":"IF(Eingabeblatt!B41=\"\",\"\",Eingabeblatt!B41)","v":""},{"$f":"Eingabeblatt!M41","v":{"$error":"#DIV/0!"}}]
[{"$f":"IF(Eingabeblatt!C42=\"\",\"\",Eingabeblatt!C42)","v":""},{"$f":"IF(Eingabeblatt!D42=\"\",\"\",Eingabeblatt!D42)","v":""},{"$f":"IF(Eingabeblatt!E42=\"\",\"\",Eingabeblatt!E42)","v":""},{"$f":"IF(Eingabeblatt!B42=\"\",\"\",Eingabeblatt!B42)","v":""},{"$f":"Eingabeblatt!M42","v":{"$error":"#DIV/0!"}}]
[{"$f":"IF(Eingabeblatt!C43=\"\",\"\",Eingabeblatt!C43)","v":""},{"$f":"IF(Eingabeblatt!D43=\"\",\"\",Eingabeblatt!D43)","v":""},{"$f":"IF(Eingabeblatt!E43=\"\",\"\",Eingabeblatt!E43)","v":""},{"$f":"IF(Eingabeblatt!B43=\"\",\"\",Eingabeblatt!B43)","v":""},{"$f":"Eingabeblatt!M43","v":{"$error":"#DIV/0!"}}]
[{"$f":"IF(Eingabeblatt!C44=\"\",\"\",Eingabeblatt!C44)","v":""},{"$f":"IF(Eingabeblatt!D44=\"\",\"\",Eingabeblatt!D44)","v":""},{"$f":"IF(Eingabeblatt!E44=\"\",\"\",Eingabeblatt!E44)","v":""},{"$f":"IF(Eingabeblatt!B44=\"\",\"\",Eingabeblatt!B44)","v":""},{"$f":"Eingabeblatt!M44","v":{"$error":"#DIV/0!"}}]
[{"$f":"IF(Eingabeblatt!C45=\"\",\"\",Eingabeblatt!C45)","v":""},{"$f":"IF(Eingabeblatt!D45=\"\",\"\",Eingabeblatt!D45)","v":""},{"$f":"IF(Eingabeblatt!E45=\"\",\"\",Eingabeblatt!E45)","v":""},{"$f":"IF(Eingabeblatt!B45=\"\",\"\",Eingabeblatt!B45)","v":""},{"$f":"Eingabeblatt!M45","v":{"$error":"#DIV/0!"}}]
[{"$f":"IF(Eingabeblatt!C46=\"\",\"\",Eingabeblatt!C46)","v":""},{"$f":"IF(Eingabeblatt!D46=\"\",\"\",Eingabeblatt!D46)","v":""},{"$f":"IF(Eingabeblatt!E46=\"\",\"\",Eingabeblatt!E46)","v":""},{"$f":"IF(Eingabeblatt!B46=\"\",\"\",Eingabeblatt!B46)","v":""},{"$f":"Eingabeblatt!M46","v":{"$error":"#DIV/0!"}}]
[{"$f":"IF(Eingabeblatt!C47=\"\",\"\",Eingabeblatt!C47)","v":""},{"$f":"IF(Eingabeblatt!D47=\"\",\"\",Eingabeblatt!D47)","v":""},{"$f":"IF(Eingabeblatt!E47=\"\",\"\",Eingabeblatt!E47)","v":""},{"$f":"IF(Eingabeblatt!B47=\"\",\"\",Eingabeblatt!B47)","v":""},{"$f":"Eingabeblatt!M47","v":{"$error":"#DIV/0!"}}]
[{"$f":"IF(Eingabeblatt!C48=\"\",\"\",Eingabeblatt!C48)","v":""},{"$f":"IF(Eingabeblatt!D48=\"\",\"\",Eingabeblatt!D48)","v":""},{"$f":"IF(Eingabeblatt!E48=\"\",\"\",Eingabeblatt!E48)","v":""},{"$f":"IF(Eingabeblatt!B48=\"\",\"\",Eingabeblatt!B48)","v":""},{"$f":"Eingabeblatt!M48","v":{"$error":"#DIV/0!"}}]
[{"$f":"IF(Eingabeblatt!C49=\"\",\"\",Eingabeblatt!C49)","v":""},{"$f":"IF(Eingabeblatt!D49=\"\",\"\",Eingabeblatt!D49)","v":""},{"$f":"IF(Eingabeblatt!E49=\"\",\"\",Eingabeblatt!E49)","v":""},{"$f":"IF(Eingabeblatt!B49=\"\",\"\",Eingabeblatt!B49)","v":""},{"$f":"Eingabeblatt!M49","v":{"$error":"#DIV/0!"}}]
[{"$f":"IF(Eingabeblatt!C50=\"\",\"\",Eingabeblatt!C50)","v":""},{"$f":"IF(Eingabeblatt!D50=\"\",\"\",Eingabeblatt!D50)","v":""},{"$f":"IF(Eingabeblatt!E50=\"\",\"\",Eingabeblatt!E50)","v":""},{"$f":"IF(Eingabeblatt!B50=\"\",\"\",Eingabeblatt!B50)","v":""},{"$f":"Eingabeblatt!M50","v":{"$error":"#DIV/0!"}}]
[{"$f":"IF(Eingabeblatt!C51=\"\",\"\",Eingabeblatt!C51)","v":""},{"$f":"IF(Eingabeblatt!D51=\"\",\"\",Eingabeblatt!D51)","v":""},{"$f":"IF(Eingabeblatt!E51=\"\",\"\",Eingabeblatt!E51)","v":""},{"$f":"IF(Eingabeblatt!B51=\"\",\"\",Eingabeblatt!B51)","v":""},{"$f":"Eingabeblatt!M51","v":{"$error":"#DIV/0!"}}]
[{"$f":"IF(Eingabeblatt!C52=\"\",\"\",Eingabeblatt!C52)","v":""},{"$f":"IF(Eingabeblatt!D52=\"\",\"\",Eingabeblatt!D52)","v":""},{"$f":"IF(Eingabeblatt!E52=\"\",\"\",Eingabeblatt!E52)","v":""},{"$f":"IF(Eingabeblatt!B52=\"\",\"\",Eingabeblatt!B52)","v":""},{"$f":"Eingabeblatt!M52","v":{"$error":"#DIV/0!"}}]
[{"$f":"IF(Eingabeblatt!C53=\"\",\"\",Eingabeblatt!C53)","v":""},{"$f":"IF(Eingabeblatt!D53=\"\",\"\",Eingabeblatt!D53)","v":""},{"$f":"IF(Eingabeblatt!E53=\"\",\"\",Eingabeblatt!E53)","v":""},{"$f":"IF(Eingabeblatt!B53=\"\",\"\",Eingabeblatt!B53)","v":""},{"$f":"Eingabeblatt!M53","v":{"$error":"#DIV/0!"}}]
[{"$f":"IF(Eingabeblatt!C54=\"\",\"\",Eingabeblatt!C54)","v":""},{"$f":"IF(Eingabeblatt!D54=\"\",\"\",Eingabeblatt!D54)","v":""},{"$f":"IF(Eingabeblatt!E54=\"\",\"\",Eingabeblatt!E54)","v":""},{"$f":"IF(Eingabeblatt!B54=\"\",\"\",Eingabeblatt!B54)","v":""},{"$f":"Eingabeblatt!M54","v":{"$error":"#DIV/0!"}}]
[{"$f":"IF(Eingabeblatt!C55=\"\",\"\",Eingabeblatt!C55)","v":""},{"$f":"IF(Eingabeblatt!D55=\"\",\"\",Eingabeblatt!D55)","v":""},{"$f":"IF(Eingabeblatt!E55=\"\",\"\",Eingabeblatt!E55)","v":""},{"$f":"IF(Eingabeblatt!B55=\"\",\"\",Eingabeblatt!B55)","v":""},{"$f":"Eingabeblatt!M55","v":{"$error":"#DIV/0!"}}]
[{"$f":"IF(Eingabeblatt!C56=\"\",\"\",Eingabeblatt!C56)","v":""},{"$f":"IF(Eingabeblatt!D56=\"\",\"\",Eingabeblatt!D56)","v":""},{"$f":"IF(Eingabeblatt!E56=\"\",\"\",Eingabeblatt!E56)","v":""},{"$f":"IF(Eingabeblatt!B56=\"\",\"\",Eingabeblatt!B56)","v":""},{"$f":"Eingabeblatt!M56","v":{"$error":"#DIV/0!"}}]
[{"$f":"IF(Eingabeblatt!C57=\"\",\"\",Eingabeblatt!C57)","v":""},{"$f":"IF(Eingabeblatt!D57=\"\",\"\",Eingabeblatt!D57)","v":""},{"$f":"IF(Eingabeblatt!E57=\"\",\"\",Eingabeblatt!E57)","v":""},{"$f":"IF(Eingabeblatt!B57=\"\",\"\",Eingabeblatt!B57)","v":""},{"$f":"Eingabeblatt!M57","v":{"$error":"#DIV/0!"}}]
[{"$f":"IF(Eingabeblatt!C58=\"\",\"\",Eingabeblatt!C58)","v":""},{"$f":"IF(Eingabeblatt!D58=\"\",\"\",Eingabeblatt!D58)","v":""},{"$f":"IF(Eingabeblatt!E58=\"\",\"\",Eingabeblatt!E58)","v":""},{"$f":"IF(Eingabeblatt!B58=\"\",\"\",Eingabeblatt!B58)","v":""},{"$f":"Eingabeblatt!M58","v":{"$error":"#DIV/0!"}}]
[{"$f":"IF(Eingabeblatt!C59=\"\",\"\",Eingabeblatt!C59)","v":""},{"$f":"IF(Eingabeblatt!D59=\"\",\"\",Eingabeblatt!D59)","v":""},{"$f":"IF(Eingabeblatt!E59=\"\",\"\",Eingabeblatt!E59)","v":""},{"$f":"IF(Eingabeblatt!B59=\"\",\"\",Eingabeblatt!B59)","v":""},{"$f":"Eingabeblatt!M59","v":{"$error":"#DIV/0!"}}]
[{"$f":"IF(Eingabeblatt!C60=\"\",\"\",Eingabeblatt!C60)","v":""},{"$f":"IF(Eingabeblatt!D60=\"\",\"\",Eingabeblatt!D60)","v":""},{"$f":"IF(Eingabeblatt!E60=\"\",\"\",Eingabeblatt!E60)","v":""},{"$f":"IF(Eingabeblatt!B60=\"\",\"\",Eingabeblatt!B60)","v":""},{"$f":"Eingabeblatt!M60","v":{"$error":"#DIV/0!"}}]
[{"$f":"IF(Eingabeblatt!C61=\"\",\"\",Eingabeblatt!C61)","v":""},{"$f":"IF(Eingabeblatt!D61=\"\",\"\",Eingabeblatt!D61)","v":""},{"$f":"IF(Eingabeblatt!E61=\"\",\"\",Eingabeblatt!E61)","v":""},{"$f":"IF(Eingabeblatt!B61=\"\",\"\",Eingabeblatt!B61)","v":""},{"$f":"Eingabeblatt!M61","v":{"$error":"#DIV/0!"}}]
[{"$f":"IF(Eingabeblatt!C62=\"\",\"\",Eingabeblatt!C62)","v":""},{"$f":"IF(Eingabeblatt!D62=\"\",\"\",Eingabeblatt!D62)","v":""},{"$f":"IF(Eingabeblatt!E62=\"\",\"\",Eingabeblatt!E62)","v":""},{"$f":"IF(Eingabeblatt!B62=\"\",\"\",Eingabeblatt!B62)","v":""},{"$f":"Eingabeblatt!M62","v":{"$error":"#DIV/0!"}}]
[{"$f":"IF(Eingabeblatt!C63=\"\",\"\",Eingabeblatt!C63)","v":""},{"$f":"IF(Eingabeblatt!D63=\"\",\"\",Eingabeblatt!D63)","v":""},{"$f":"IF(Eingabeblatt!E63=\"\",\"\",Eingabeblatt!E63)","v":""},{"$f":"IF(Eingabeblatt!B63=\"\",\"\",Eingabeblatt!B63)","v":""},{"$f":"Eingabeblatt!M63","v":{"$error":"#DIV/0!"}}]
[{"$f":"IF(Eingabeblatt!C64=\"\",\"\",Eingabeblatt!C64)","v":""},{"$f":"IF(Eingabeblatt!D64=\"\",\"\",Eingabeblatt!D64)","v":""},{"$f":"IF(Eingabeblatt!E64=\"\",\"\",Eingabeblatt!E64)","v":""},{"$f":"IF(Eingabeblatt!B64=\"\",\"\",Eingabeblatt!B64)","v":""},{"$f":"Eingabeblatt!M64","v":{"$error":"#DIV/0!"}}]
[{"$f":"IF(Eingabeblatt!C65=\"\",\"\",Eingabeblatt!C65)","v":""},{"$f":"IF(Eingabeblatt!D65=\"\",\"\",Eingabeblatt!D65)","v":""},{"$f":"IF(Eingabeblatt!E65=\"\",\"\",Eingabeblatt!E65)","v":""},{"$f":"IF(Eingabeblatt!B65=\"\",\"\",Eingabeblatt!B65)","v":""},{"$f":"Eingabeblatt!M65","v":{"$error":"#DIV/0!"}}]
[{"$f":"IF(Eingabeblatt!C66=\"\",\"\",Eingabeblatt!C66)","v":""},{"$f":"IF(Eingabeblatt!D66=\"\",\"\",Eingabeblatt!D66)","v":""},{"$f":"IF(Eingabeblatt!E66=\"\",\"\",Eingabeblatt!E66)","v":""},{"$f":"IF(Eingabeblatt!B66=\"\",\"\",Eingabeblatt!B66)","v":""},{"$f":"Eingabeblatt!M66","v":{"$error":"#DIV/0!"}}]
[{"$f":"IF(Eingabeblatt!C67=\"\",\"\",Eingabeblatt!C67)","v":""},{"$f":"IF(Eingabeblatt!D67=\"\",\"\",Eingabeblatt!D67)","v":""},{"$f":"IF(Eingabeblatt!E67=\"\",\"\",Eingabeblatt!E67)","v":""},{"$f":"IF(Eingabeblatt!B67=\"\",\"\",Eingabeblatt!B67)","v":""},{"$f":"Eingabeblatt!M67","v":{"$error":"#DIV/0!"}}]
[{"$f":"IF(Eingabeblatt!C68=\"\",\"\",Eingabeblatt!C68)","v":""},{"$f":"IF(Eingabeblatt!D68=\"\",\"\",Eingabeblatt!D68)","v":""},{"$f":"IF(Eingabeblatt!E68=\"\",\"\",Eingabeblatt!E68)","v":""},{"$f":"IF(Eingabeblatt!B68=\"\",\"\",Eingabeblatt!B68)","v":""},{"$f":"Eingabeblatt!M68","v":{"$error":"#DIV/0!"}}]
[{"$f":"IF(Eingabeblatt!C69=\"\",\"\",Eingabeblatt!C69)","v":""},{"$f":"IF(Eingabeblatt!D69=\"\",\"\",Eingabeblatt!D69)","v":""},{"$f":"IF(Eingabeblatt!E69=\"\",\"\",Eingabeblatt!E69)","v":""},{"$f":"IF(Eingabeblatt!B69=\"\",\"\",Eingabeblatt!B69)","v":""},{"$f":"Eingabeblatt!M69","v":{"$error":"#DIV/0!"}}]
[{"$f":"IF(Eingabeblatt!C70=\"\",\"\",Eingabeblatt!C70)","v":""},{"$f":"IF(Eingabeblatt!D70=\"\",\"\",Eingabeblatt!D70)","v":""},{"$f":"IF(Eingabeblatt!E70=\"\",\"\",Eingabeblatt!E70)","v":""},{"$f":"IF(Eingabeblatt!B70=\"\",\"\",Eingabeblatt!B70)","v":""},{"$f":"Eingabeblatt!M70","v":{"$error":"#DIV/0!"}}]
[{"$f":"IF(Eingabeblatt!C71=\"\",\"\",Eingabeblatt!C71)","v":""},{"$f":"IF(Eingabeblatt!D71=\"\",\"\",Eingabeblatt!D71)","v":""},{"$f":"IF(Eingabeblatt!E71=\"\",\"\",Eingabeblatt!E71)","v":""},{"$f":"IF(Eingabeblatt!B71=\"\",\"\",Eingabeblatt!B71)","v":""},{"$f":"Eingabeblatt!M71","v":{"$error":"#DIV/0!"}}]
[{"$f":"IF(Eingabeblatt!C72=\"\",\"\",Eingabeblatt!C72)","v":""},{"$f":"IF(Eingabeblatt!D72=\"\",\"\",Eingabeblatt!D72)","v":""},{"$f":"IF(Eingabeblatt!E72=\"\",\"\",Eingabeblatt!E72)","v":""},{"$f":"IF(Eingabeblatt!B72=\"\",\"\",Eingabeblatt!B72)","v":""},{"$f":"Eingabeblatt!M72","v":{"$error":"#DIV/0!"}}]
[{"$f":"IF(Eingabeblatt!C73=\"\",\"\",Eingabeblatt!C73)","v":""},{"$f":"IF(Eingabeblatt!D73=\"\",\"\",Eingabeblatt!D73)","v":""},{"$f":"IF(Eingabeblatt!E73=\"\",\"\",Eingabeblatt!E73)","v":""},{"$f":"IF(Eingabeblatt!B73=\"\",\"\",Eingabeblatt!B73)","v":""},{"$f":"Eingabeblatt!M73","v":{"$error":"#DIV/0!"}}]
[{"$f":"IF(Eingabeblatt!C74=\"\",\"\",Eingabeblatt!C74)","v":""},{"$f":"IF(Eingabeblatt!D74=\"\",\"\",Eingabeblatt!D74)","v":""},{"$f":"IF(Eingabeblatt!E74=\"\",\"\",Eingabeblatt!E74)","v":""},{"$f":"IF(Eingabeblatt!B74=\"\",\"\",Eingabeblatt!B74)","v":""},{"$f":"Eingabeblatt!M74","v":{"$error":"#DIV/0!"}}]
[{"$f":"IF(Eingabeblatt!C75=\"\",\"\",Eingabeblatt!C75)","v":""},{"$f":"IF(Eingabeblatt!D75=\"\",\"\",Eingabeblatt!D75)","v":""},{"$f":"IF(Eingabeblatt!E75=\"\",\"\",Eingabeblatt!E75)","v":""},{"$f":"IF(Eingabeblatt!B75=\"\",\"\",Eingabeblatt!B75)","v":""},{"$f":"Eingabeblatt!M75","v":{"$error":"#DIV/0!"}}]
[{"$f":"IF(Eingabeblatt!C76=\"\",\"\",Eingabeblatt!C76)","v":""},{"$f":"IF(Eingabeblatt!D76=\"\",\"\",Eingabeblatt!D76)","v":""},{"$f":"IF(Eingabeblatt!E76=\"\",\"\",Eingabeblatt!E76)","v":""},{"$f":"IF(Eingabeblatt!B76=\"\",\"\",Eingabeblatt!B76)","v":""},{"$f":"Eingabeblatt!M76","v":{"$error":"#DIV/0!"}}]
[{"$f":"IF(Eingabeblatt!C77=\"\",\"\",Eingabeblatt!C77)","v":""},{"$f":"IF(Eingabeblatt!D77=\"\",\"\",Eingabeblatt!D77)","v":""},{"$f":"IF(Eingabeblatt!E77=\"\",\"\",Eingabeblatt!E77)","v":""},{"$f":"IF(Eingabeblatt!B77=\"\",\"\",Eingabeblatt!B77)","v":""},{"$f":"Eingabeblatt!M77","v":{"$error":"#DIV/0!"}}]
[{"$f":"IF(Eingabeblatt!C78=\"\",\"\",Eingabeblatt!C78)","v":""},{"$f":"IF(Eingabeblatt!D78=\"\",\"\",Eingabeblatt!D78)","v":""},{"$f":"IF(Eingabeblatt!E78=\"\",\"\",Eingabeblatt!E78)","v":""},{"$f":"IF(Eingabeblatt!B78=\"\",\"\",Eingabeblatt!B78)","v":""},{"$f":"Eingabeblatt!M78","v":{"$error":"#DIV/0!"}}]
[{"$f":"IF(Eingabeblatt!C79=\"\",\"\",Eingabeblatt!C79)","v":""},{"$f":"IF(Eingabeblatt!D79=\"\",\"\",Eingabeblatt!D79)","v":""},{"$f":"IF(Eingabeblatt!E79=\"\",\"\",Eingabeblatt!E79)","v":""},{"$f":"IF(Eingabeblatt!B79=\"\",\"\",Eingabeblatt!B79)","v":""},{"$f":"Eingabeblatt!M79","v":{"$error":"#DIV/0!"}}]
[{"$f":"IF(Eingabeblatt!C80=\"\",\"\",Eingabeblatt!C80)","v":""},{"$f":"IF(Eingabeblatt!D80=\"\",\"\",Eingabeblatt!D80)","v":""},{"$f":"IF(Eingabeblatt!E80=\"\",\"\",Eingabeblatt!E80)","v":""},{"$f":"IF(Eingabeblatt!B80=\"\",\"\",Eingabeblatt!B80)","v":""},{"$f":"Eingabeblatt!M80","v":{"$error":"#DIV/0!"}}]
[{"$f":"IF(Eingabeblatt!C81=\"\",\"\",Eingabeblatt!C81)","v":""},{"$f":"IF(Eingabeblatt!D81=\"\",\"\",Eingabeblatt!D81)","v":""},{"$f":"IF(Eingabeblatt!E81=\"\",\"\",Eingabeblatt!E81)","v":""},{"$f":"IF(Eingabeblatt!B81=\"\",\"\",Eingabeblatt!B81)","v":""},{"$f":"Eingabeblatt!M81","v":{"$error":"#DIV/0!"}}]
[{"$f":"IF(Eingabeblatt!C82=\"\",\"\",Eingabeblatt!C82)","v":""},{"$f":"IF(Eingabeblatt!D82=\"\",\"\",Eingabeblatt!D82)","v":""},{"$f":"IF(Eingabeblatt!E82=\"\",\"\",Eingabeblatt!E82)","v":""},{"$f":"IF(Eingabeblatt!B82=\"\",\"\",Eingabeblatt!B82)","v":""},{"$f":"Eingabeblatt!M82","v":{"$error":"#DIV/0!"}}]
[{"$f":"IF(Eingabeblatt!C83=\"\",\"\",Eingabeblatt!C83)","v":""},{"$f":"IF(Eingabeblatt!D83=\"\",\"\",Eingabeblatt!D83)","v":""},{"$f":"IF(Eingabeblatt!E83=\"\",\"\",Eingabeblatt!E83)","v":""},{"$f":"IF(Eingabeblatt!B83=\"\",\"\",Eingabeblatt!B83)","v":""},{"$f":"Eingabeblatt!M83","v":{"$error":"#DIV/0!"}}]
[{"$f":"IF(Eingabeblatt!C84=\"\",\"\",Eingabeblatt!C84)","v":""},{"$f":"IF(Eingabeblatt!D84=\"\",\"\",Eingabeblatt!D84)","v":""},{"$f":"IF(Eingabeblatt!E84=\"\",\"\",Eingabeblatt!E84)","v":""},{"$f":"IF(Eingabeblatt!B84=\"\",\"\",Eingabeblatt!B84)","v":""},{"$f":"Eingabeblatt!M84","v":{"$error":"#DIV/0!"}}]
[{"$f":"IF(Eingabeblatt!C85=\"\",\"\",Eingabeblatt!C85)","v":""},{"$f":"IF(Eingabeblatt!D85=\"\",\"\",Eingabeblatt!D85)","v":""},{"$f":"IF(Eingabeblatt!E85=\"\",\"\",Eingabeblatt!E85)","v":""},{"$f":"IF(Eingabeblatt!B85=\"\",\"\",Eingabeblatt!B85)","v":""},{"$f":"Eingabeblatt!M85","v":{"$error":"#DIV/0!"}}]
[{"$f":"IF(Eingabeblatt!C86=\"\",\"\",Eingabeblatt!C86)","v":""},{"$f":"IF(Eingabeblatt!D86=\"\",\"\",Eingabeblatt!D86)","v":""},{"$f":"IF(Eingabeblatt!E86=\"\",\"\",Eingabeblatt!E86)","v":""},{"$f":"IF(Eingabeblatt!B86=\"\",\"\",Eingabeblatt!B86)","v":""},{"$f":"Eingabeblatt!M86","v":{"$error":"#DIV/0!"}}]
[{"$f":"IF(Eingabeblatt!C87=\"\",\"\",Eingabeblatt!C87)","v":""},{"$f":"IF(Eingabeblatt!D87=\"\",\"\",Eingabeblatt!D87)","v":""},{"$f":"IF(Eingabeblatt!E87=\"\",\"\",Eingabeblatt!E87)","v":""},{"$f":"IF(Eingabeblatt!B87=\"\",\"\",Eingabeblatt!B87)","v":""},{"$f":"Eingabeblatt!M87","v":{"$error":"#DIV/0!"}}]
[{"$f":"IF(Eingabeblatt!C88=\"\",\"\",Eingabeblatt!C88)","v":""},{"$f":"IF(Eingabeblatt!D88=\"\",\"\",Eingabeblatt!D88)","v":""},{"$f":"IF(Eingabeblatt!E88=\"\",\"\",Eingabeblatt!E88)","v":""},{"$f":"IF(Eingabeblatt!B88=\"\",\"\",Eingabeblatt!B88)","v":""},{"$f":"Eingabeblatt!M88","v":{"$error":"#DIV/0!"}}]
[{"$f":"IF(Eingabeblatt!C89=\"\",\"\",Eingabeblatt!C89)","v":""},{"$f":"IF(Eingabeblatt!D89=\"\",\"\",Eingabeblatt!D89)","v":""},{"$f":"IF(Eingabeblatt!E89=\"\",\"\",Eingabeblatt!E89)","v":""},{"$f":"IF(Eingabeblatt!B89=\"\",\"\",Eingabeblatt!B89)","v":""},{"$f":"Eingabeblatt!M89","v":{"$error":"#DIV/0!"}}]
[{"$f":"IF(Eingabeblatt!C90=\"\",\"\",Eingabeblatt!C90)","v":""},{"$f":"IF(Eingabeblatt!D90=\"\",\"\",Eingabeblatt!D90)","v":""},{"$f":"IF(Eingabeblatt!E90=\"\",\"\",Eingabeblatt!E90)","v":""},{"$f":"IF(Eingabeblatt!B90=\"\",\"\",Eingabeblatt!B90)","v":""},{"$f":"Eingabeblatt!M90","v":{"$error":"#DIV/0!"}}]
[{"$f":"IF(Eingabeblatt!C91=\"\",\"\",Eingabeblatt!C91)","v":""},{"$f":"IF(Eingabeblatt!D91=\"\",\"\",Eingabeblatt!D91)","v":""},{"$f":"IF(Eingabeblatt!E91=\"\",\"\",Eingabeblatt!E91)","v":""},{"$f":"IF(Eingabeblatt!B91=\"\",\"\",Eingabeblatt!B91)","v":""},{"$f":"Eingabeblatt!M91","v":{"$error":"#DIV/0!"}}]
[{"$f":"IF(Eingabeblatt!C92=\"\",\"\",Eingabeblatt!C92)","v":""},{"$f":"IF(Eingabeblatt!D92=\"\",\"\",Eingabeblatt!D92)","v":""},{"$f":"IF(Eingabeblatt!E92=\"\",\"\",Eingabeblatt!E92)","v":""},{"$f":"IF(Eingabeblatt!B92=\"\",\"\",Eingabeblatt!B92)","v":""},{"$f":"Eingabeblatt!M92","v":{"$error":"#DIV/0!"}}]
[{"$f":"IF(Eingabeblatt!C93=\"\",\"\",Eingabeblatt!C93)","v":""},{"$f":"IF(Eingabeblatt!D93=\"\",\"\",Eingabeblatt!D93)","v":""},{"$f":"IF(Eingabeblatt!E93=\"\",\"\",Eingabeblatt!E93)","v":""},{"$f":"IF(Eingabeblatt!B93=\"\",\"\",Eingabeblatt!B93)","v":""},{"$f":"Eingabeblatt!M93","v":{"$error":"#DIV/0!"}}]
[{"$f":"IF(Eingabeblatt!C94=\"\",\"\",Eingabeblatt!C94)","v":""},{"$f":"IF(Eingabeblatt!D94=\"\",\"\",Eingabeblatt!D94)","v":""},{"$f":"IF(Eingabeblatt!E94=\"\",\"\",Eingabeblatt!E94)","v":""},{"$f":"IF(Eingabeblatt!B94=\"\",\"\",Eingabeblatt!B94)","v":""},{"$f":"Eingabeblatt!M94","v":{"$error":"#DIV/0!"}}]
[{"$f":"IF(Eingabeblatt!C95=\"\",\"\",Eingabeblatt!C95)","v":""},{"$f":"IF(Eingabeblatt!D95=\"\",\"\",Eingabeblatt!D95)","v":""},{"$f":"IF(Eingabeblatt!E95=\"\",\"\",Eingabeblatt!E95)","v":""},{"$f":"IF(Eingabeblatt!B95=\"\",\"\",Eingabeblatt!B95)","v":""},{"$f":"Eingabeblatt!M95","v":{"$error":"#DIV/0!"}}]
[{"$f":"IF(Eingabeblatt!C96=\"\",\"\",Eingabeblatt!C96)","v":""},{"$f":"IF(Eingabeblatt!D96=\"\",\"\",Eingabeblatt!D96)","v":""},{"$f":"IF(Eingabeblatt!E96=\"\",\"\",Eingabeblatt!E96)","v":""},{"$f":"IF(Eingabeblatt!B96=\"\",\"\",Eingabeblatt!B96)","v":""},{"$f":"Eingabeblatt!M96","v":{"$error":"#DIV/0!"}}]
[{"$f":"IF(Eingabeblatt!C97=\"\",\"\",Eingabeblatt!C97)","v":""},{"$f":"IF(Eingabeblatt!D97=\"\",\"\",Eingabeblatt!D97)","v":""},{"$f":"IF(Eingabeblatt!E97=\"\",\"\",Eingabeblatt!E97)","v":""},{"$f":"IF(Eingabeblatt!B97=\"\",\"\",Eingabeblatt!B97)","v":""},{"$f":"Eingabeblatt!M97","v":{"$error":"#DIV/0!"}}]
[{"$f":"IF(Eingabeblatt!C98=\"\",\"\",Eingabeblatt!C98)","v":""},{"$f":"IF(Eingabeblatt!D98=\"\",\"\",Eingabeblatt!D98)","v":""},{"$f":"IF(Eingabeblatt!E98=\"\",\"\",Eingabeblatt!E98)","v":""},{"$f":"IF(Eingabeblatt!B98=\"\",\"\",Eingabeblatt!B98)","v":""},{"$f":"Eingabeblatt!M98","v":{"$error":"#DIV/0!"}}]
[{"$f":"IF(Eingabeblatt!C99=\"\",\"\",Eingabeblatt!C99)","v":""},{"$f":"IF(Eingabeblatt!D99=\"\",\"\",Eingabeblatt!D99)","v":""},{"$f":"IF(Eingabeblatt!E99=\"\",\"\",Eingabeblatt!E99)","v":""},{"$f":"IF(Eingabeblatt!B99=\"\",\"\",Eingabeblatt!B99)","v":""},{"$f":"Eingabeblatt!M99","v":{"$error":"#DIV/0!"}}]
[{"$f":"IF(Eingabeblatt!C100=\"\",\"\",Eingabeblatt!C100)","v":""},{"$f":"IF(Eingabeblatt!D100=\"\",\"\",Eingabeblatt!D100)","v":""},{"$f":"IF(Eingabeblatt!E100=\"\",\"\",Eingabeblatt!E100)","v":""},{"$f":"IF(Eingabeblatt!B100=\"\",\"\",Eingabeblatt!B100)","v":""},{"$f":"Eingabeblatt!M100","v":{"$error":"#DIV/0!"}}]
[{"$f":"IF(Eingabeblatt!C101=\"\",\"\",Eingabeblatt!C101)","v":""},{"$f":"IF(Eingabeblatt!D101=\"\",\"\",Eingabeblatt!D101)","v":""},{"$f":"IF(Eingabeblatt!E101=\"\",\"\",Eingabeblatt!E101)","v":""},{"$f":"IF(Eingabeblatt!B101=\"\",\"\",Eingabeblatt!B101)","v":""},{"$f":"Eingabeblatt!M101","v":{"$error":"#DIV/0!"}}]
[{"$f":"IF(Eingabeblatt!C102=\"\",\"\",Eingabeblatt!C102)","v":""},{"$f":"IF(Eingabeblatt!D102=\"\",\"\",Eingabeblatt!D102)","v":""},{"$f":"IF(Eingabeblatt!E102=\"\",\"\",Eingabeblatt!E102)","v":""},{"$f":"IF(Eingabeblatt!B102=\"\",\"\",Eingabeblatt!B102)","v":""},{"$f":"Eingabeblatt!M102","v":{"$error":"#DIV/0!"}}]
[{"$f":"IF(Eingabeblatt!C103=\"\",\"\",Eingabeblatt!C103)","v":""},{"$f":"IF(Eingabeblatt!D103=\"\",\"\",Eingabeblatt!D103)","v":""},{"$f":"IF(Eingabeblatt!E103=\"\",\"\",Eingabeblatt!E103)","v":""},{"$f":"IF(Eingabeblatt!B103=\"\",\"\",Eingabeblatt!B103)","v":""},{"$f":"Eingabeblatt!M103","v":{"$error":"#DIV/0!"}}]
[{"$f":"IF(Eingabeblatt!C104=\"\",\"\",Eingabeblatt!C104)","v":""},{"$f":"IF(Eingabeblatt!D104=\"\",\"\",Eingabeblatt!D104)","v":""},{"$f":"IF(Eingabeblatt!E104=\"\",\"\",Eingabeblatt!E104)","v":""},{"$f":"IF(Eingabeblatt!B104=\"\",\"\",Eingabeblatt!B104)","v":""},{"$f":"Eingabeblatt!M104","v":{"$error":"#DIV/0!"}}]
[{"$f":"IF(Eingabeblatt!C105=\"\",\"\",Eingabeblatt!C105)","v":""},{"$f":"IF(Eingabeblatt!D105=\"\",\"\",Eingabeblatt!D105)","v":""},{"$f":"IF(Eingabeblatt!E105=\"\",\"\",Eingabeblatt!E105)","v":""},{"$f":"IF(Eingabeblatt!B105=\"\",\"\",Eingabeblatt!B105)","v":""},{"$f":"Eingabeblatt!M105","v":{"$error":"#DIV/0!"}}]
[{"$f":"IF(Eingabeblatt!C106=\"\",\"\",Eingabeblatt!C106)","v":""},{"$f":"IF(Eingabeblatt!D106=\"\",\"\",Eingabeblatt!D106)","v":""},{"$f":"IF(Eingabeblatt!E106=\"\",\"\",Eingabeblatt!E106)","v":""},{"$f":"IF(Eingabeblatt!B106=\"\",\"\",Eingabeblatt!B106)","v":""},{"$f":"Eingabeblatt!M106","v":{"$error":"#DIV/0!"}}]
[{"$f":"IF(Eingabeblatt!C107=\"\",\"\",Eingabeblatt!C107)","v":""},{"$f":"IF(Eingabeblatt!D107=\"\",\"\",Eingabeblatt!D107)","v":""},{"$f":"IF(Eingabeblatt!E107=\"\",\"\",Eingabeblatt!E107)","v":""},{"$f":"IF(Eingabeblatt!B107=\"\",\"\",Eingabeblatt!B107)","v":""},{"$f":"Eingabeblatt!M107","v":{"$error":"#DIV/0!"}}]
[{"$f":"IF(Eingabeblatt!C108=\"\",\"\",Eingabeblatt!C108)","v":""},{"$f":"IF(Eingabeblatt!D108=\"\",\"\",Eingabeblatt!D108)","v":""},{"$f":"IF(Eingabeblatt!E108=\"\",\"\",Eingabeblatt!E108)","v":""},{"$f":"IF(Eingabeblatt!B108=\"\",\"\",Eingabeblatt!B108)","v":""},{"$f":"Eingabeblatt!M108","v":{"$error":"#DIV/0!"}}]
[{"$f":"IF(Eingabeblatt!C109=\"\",\"\",Eingabeblatt!C109)","v":""},{"$f":"IF(Eingabeblatt!D109=\"\",\"\",Eingabeblatt!D109)","v":""},{"$f":"IF(Eingabeblatt!E109=\"\",\"\",Eingabeblatt!E109)","v":""},{"$f":"IF(Eingabeblatt!B109=\"\",\"\",Eingabeblatt!B109)","v":""},{"$f":"Eingabeblatt!M109","v":{"$error":"#DIV/0!"}}]
[{"$f":"IF(Eingabeblatt!C110=\"\",\"\",Eingabeblatt!C110)","v":""},{"$f":"IF(Eingabeblatt!D110=\"\",\"\",Eingabeblatt!D110)","v":""},{"$f":"IF(Eingabeblatt!E110=\"\",\"\",Eingabeblatt!E110)","v":""},{"$f":"IF(Eingabeblatt!B110=\"\",\"\",Eingabeblatt!B110)","v":""},{"$f":"Eingabeblatt!M110","v":{"$error":"#DIV/0!"}}]
[{"$f":"IF(Eingabeblatt!C111=\"\",\"\",Eingabeblatt!C111)","v":""},{"$f":"IF(Eingabeblatt!D111=\"\",\"\",Eingabeblatt!D111)","v":""},{"$f":"IF(Eingabeblatt!E111=\"\",\"\",Eingabeblatt!E111)","v":""},{"$f":"IF(Eingabeblatt!B111=\"\",\"\",Eingabeblatt!B111)","v":""},{"$f":"Eingabeblatt!M111","v":{"$error":"#DIV/0!"}}]
[{"$f":"IF(Eingabeblatt!C112=\"\",\"\",Eingabeblatt!C112)","v":""},{"$f":"IF(Eingabeblatt!D112=\"\",\"\",Eingabeblatt!D112)","v":""},{"$f":"IF(Eingabeblatt!E112=\"\",\"\",Eingabeblatt!E112)","v":""},{"$f":"IF(Eingabeblatt!B112=\"\",\"\",Eingabeblatt!B112)","v":""},{"$f":"Eingabeblatt!M112","v":{"$error":"#DIV/0!"}}]
[{"$f":"IF(Eingabeblatt!C113=\"\",\"\",Eingabeblatt!C113)","v":""},{"$f":"IF(Eingabeblatt!D113=\"\",\"\",Eingabeblatt!D113)","v":""},{"$f":"IF(Eingabeblatt!E113=\"\",\"\",Eingabeblatt!E113)","v":""},{"$f":"IF(Eingabeblatt!B113=\"\",\"\",Eingabeblatt!B113)","v":""},{"$f":"Eingabeblatt!M113","v":{"$error":"#DIV/0!"}}]
[{"$f":"IF(Eingabeblatt!C114=\"\",\"\",Eingabeblatt!C114)","v":""},{"$f":"IF(Eingabeblatt!D114=\"\",\"\",Eingabeblatt!D114)","v":""},{"$f":"IF(Eingabeblatt!E114=\"\",\"\",Eingabeblatt!E114)","v":""},{"$f":"IF(Eingabeblatt!B114=\"\",\"\",Eingabeblatt!B114)","v":""},{"$f":"Eingabeblatt!M114","v":{"$error":"#DIV/0!"}}]
[{"$f":"IF(Eingabeblatt!C115=\"\",\"\",Eingabeblatt!C115)","v":""},{"$f":"IF(Eingabeblatt!D115=\"\",\"\",Eingabeblatt!D115)","v":""},{"$f":"IF(Eingabeblatt!E115=\"\",\"\",Eingabeblatt!E115)","v":""},{"$f":"IF(Eingabeblatt!B115=\"\",\"\",Eingabeblatt!B115)","v":""},{"$f":"Eingabeblatt!M115","v":{"$error":"#DIV/0!"}}]
[{"$f":"IF(Eingabeblatt!C116=\"\",\"\",Eingabeblatt!C116)","v":""},{"$f":"IF(Eingabeblatt!D116=\"\",\"\",Eingabeblatt!D116)","v":""},{"$f":"IF(Eingabeblatt!E116=\"\",\"\",Eingabeblatt!E116)","v":""},{"$f":"IF(Eingabeblatt!B116=\"\",\"\",Eingabeblatt!B116)","v":""},{"$f":"Eingabeblatt!M116","v":{"$error":"#DIV/0!"}}]
[{"$f":"IF(Eingabeblatt!C117=\"\",\"\",Eingabeblatt!C117)","v":""},{"$f":"IF(Eingabeblatt!D117=\"\",\"\",Eingabeblatt!D117)","v":""},{"$f":"IF(Eingabeblatt!E117=\"\",\"\",Eingabeblatt!E117)","v":""},{"$f":"IF(Eingabeblatt!B117=\"\",\"\",Eingabeblatt!B117)","v":""},{"$f":"Eingabeblatt!M117","v":{"$error":"#DIV/0!"}}]
[{"$f":"IF(Eingabeblatt!C118=\"\",\"\",Eingabeblatt!C118)","v":""},{"$f":"IF(Eingabeblatt!D118=\"\",\"\",Eingabeblatt!D118)","v":""},{"$f":"IF(Eingabeblatt!E118=\"\",\"\",Eingabeblatt!E118)","v":""},{"$f":"IF(Eingabeblatt!B118=\"\",\"\",Eingabeblatt!B118)","v":""},{"$f":"Eingabeblatt!M118","v":{"$error":"#DIV/0!"}}]
[{"$f":"IF(Eingabeblatt!C119=\"\",\"\",Eingabeblatt!C119)","v":""},{"$f":"IF(Eingabeblatt!D119=\"\",\"\",Eingabeblatt!D119)","v":""},{"$f":"IF(Eingabeblatt!E119=\"\",\"\",Eingabeblatt!E119)","v":""},{"$f":"IF(Eingabeblatt!B119=\"\",\"\",Eingabeblatt!B119)","v":""},{"$f":"Eingabeblatt!M119","v":{"$error":"#DIV/0!"}}]
[{"$f":"IF(Eingabeblatt!C120=\"\",\"\",Eingabeblatt!C120)","v":""},{"$f":"IF(Eingabeblatt!D120=\"\",\"\",Eingabeblatt!D120)","v":""},{"$f":"IF(Eingabeblatt!E120=\"\",\"\",Eingabeblatt!E120)","v":""},{"$f":"IF(Eingabeblatt!B120=\"\",\"\",Eingabeblatt!B120)","v":""},{"$f":"Eingabeblatt!M120","v":{"$error":"#DIV/0!"}}]
[{"$f":"IF(Eingabeblatt!C121=\"\",\"\",Eingabeblatt!C121)","v":""},{"$f":"IF(Eingabeblatt!D121=\"\",\"\",Eingabeblatt!D121)","v":""},{"$f":"IF(Eingabeblatt!E121=\"\",\"\",Eingabeblatt!E121)","v":""},{"$f":"IF(Eingabeblatt!B121=\"\",\"\",Eingabeblatt!B121)","v":""},{"$f":"Eingabeblatt!M121","v":{"$error":"#DIV/0!"}}]
[{"$f":"IF(Eingabeblatt!C122=\"\",\"\",Eingabeblatt!C122)","v":""},{"$f":"IF(Eingabeblatt!D122=\"\",\"\",Eingabeblatt!D122)","v":""},{"$f":"IF(Eingabeblatt!E122=\"\",\"\",Eingabeblatt!E122)","v":""},{"$f":"IF(Eingabeblatt!B122=\"\",\"\",Eingabeblatt!B122)","v":""},{"$f":"Eingabeblatt!M122","v":{"$error":"#DIV/0!"}}]
[{"$f":"IF(Eingabeblatt!C123=\"\",\"\",Eingabeblatt!C123)","v":""},{"$f":"IF(Eingabeblatt!D123=\"\",\"\",Eingabeblatt!D123)","v":""},{"$f":"IF(Eingabeblatt!E123=\"\",\"\",Eingabeblatt!E123)","v":""},{"$f":"IF(Eingabeblatt!B123=\"\",\"\",Eingabeblatt!B123)","v":""},{"$f":"Eingabeblatt!M123","v":{"$error":"#DIV/0!"}}]
[{"$f":"IF(Eingabeblatt!C124=\"\",\"\",Eingabeblatt!C124)","v":""},{"$f":"IF(Eingabeblatt!D124=\"\",\"\",Eingabeblatt!D124)","v":""},{"$f":"IF(Eingabeblatt!E124=\"\",\"\",Eingabeblatt!E124)","v":""},{"$f":"IF(Eingabeblatt!B124=\"\",\"\",Eingabeblatt!B124)","v":""},{"$f":"Eingabeblatt!M124","v":{"$error":"#DIV/0!"}}]
[{"$f":"IF(Eingabeblatt!C125=\"\",\"\",Eingabeblatt!C125)","v":""},{"$f":"IF(Eingabeblatt!D125=\"\",\"\",Eingabeblatt!D125)","v":""},{"$f":"IF(Eingabeblatt!E125=\"\",\"\",Eingabeblatt!E125)","v":""},{"$f":"IF(Eingabeblatt!B125=\"\",\"\",Eingabeblatt!B125)","v":""},{"$f":"Eingabeblatt!M125","v":{"$error":"#DIV/0!"}}]
[{"$f":"IF(Eingabeblatt!C126=\"\",\"\",Eingabeblatt!C126)","v":""},{"$f":"IF(Eingabeblatt!D126=\"\",\"\",Eingabeblatt!D126)","v":""},{"$f":"IF(Eingabeblatt!E126=\"\",\"\",Eingabeblatt!E126)","v":""},{"$f":"IF(Eingabeblatt!B126=\"\",\"\",Eingabeblatt!B126)","v":""},{"$f":"Eingabeblatt!M126","v":{"$error":"#DIV/0!"}}]
[{"$f":"IF(Eingabeblatt!C127=\"\",\"\",Eingabeblatt!C127)","v":""},{"$f":"IF(Eingabeblatt!D127=\"\",\"\",Eingabeblatt!D127)","v":""},{"$f":"IF(Eingabeblatt!E127=\"\",\"\",Eingabeblatt!E127)","v":""},{"$f":"IF(Eingabeblatt!B127=\"\",\"\",Eingabeblatt!B127)","v":""},{"$f":"Eingabeblatt!M127","v":{"$error":"#DIV/0!"}}]
[{"$f":"IF(Eingabeblatt!C128=\"\",\"\",Eingabeblatt!C128)","v":""},{"$f":"IF(Eingabeblatt!D128=\"\",\"\",Eingabeblatt!D128)","v":""},{"$f":"IF(Eingabeblatt!E128=\"\",\"\",Eingabeblatt!E128)","v":""},{"$f":"IF(Eingabeblatt!B128=\"\",\"\",Eingabeblatt!B128)","v":""},{"$f":"Eingabeblatt!M128","v":{"$error":"#DIV/0!"}}]
[{"$f":"IF(Eingabeblatt!C129=\"\",\"\",Eingabeblatt!C129)","v":""},{"$f":"IF(Eingabeblatt!D129=\"\",\"\",Eingabeblatt!D129)","v":""},{"$f":"IF(Eingabeblatt!E129=\"\",\"\",Eingabeblatt!E129)","v":""},{"$f":"IF(Eingabeblatt!B129=\"\",\"\",Eingabeblatt!B129)","v":""},{"$f":"Eingabeblatt!M129","v":{"$error":"#DIV/0!"}}]
[{"$f":"IF(Eingabeblatt!C130=\"\",\"\",Eingabeblatt!C130)","v":""},{"$f":"IF(Eingabeblatt!D130=\"\",\"\",Eingabeblatt!D130)","v":""},{"$f":"IF(Eingabeblatt!E130=\"\",\"\",Eingabeblatt!E130)","v":""},{"$f":"IF(Eingabeblatt!B130=\"\",\"\",Eingabeblatt!B130)","v":""},{"$f":"Eingabeblatt!M130","v":{"$error":"#DIV/0!"}}]
[{"$f":"IF(Eingabeblatt!C131=\"\",\"\",Eingabeblatt!C131)","v":""},{"$f":"IF(Eingabeblatt!D131=\"\",\"\",Eingabeblatt!D131)","v":""},{"$f":"IF(Eingabeblatt!E131=\"\",\"\",Eingabeblatt!E131)","v":""},{"$f":"IF(Eingabeblatt!B131=\"\",\"\",Eingabeblatt!B131)","v":""},{"$f":"Eingabeblatt!M131","v":{"$error":"#DIV/0!"}}]
[{"$f":"IF(Eingabeblatt!C132=\"\",\"\",Eingabeblatt!C132)","v":""},{"$f":"IF(Eingabeblatt!D132=\"\",\"\",Eingabeblatt!D132)","v":""},{"$f":"IF(Eingabeblatt!E132=\"\",\"\",Eingabeblatt!E132)","v":""},{"$f":"IF(Eingabeblatt!B132=\"\",\"\",Eingabeblatt!B132)","v":""},{"$f":"Eingabeblatt!M132","v":{"$error":"#DIV/0!"}}]
[{"$f":"IF(Eingabeblatt!C133=\"\",\"\",Eingabeblatt!C133)","v":""},{"$f":"IF(Eingabeblatt!D133=\"\",\"\",Eingabeblatt!D133)","v":""},{"$f":"IF(Eingabeblatt!E133=\"\",\"\",Eingabeblatt!E133)","v":""},{"$f":"IF(Eingabeblatt!B133=\"\",\"\",Eingabeblatt!B133)","v":""},{"$f":"Eingabeblatt!M133","v":{"$error":"#DIV/0!"}}]
[{"$f":"IF(Eingabeblatt!C134=\"\",\"\",Eingabeblatt!C134)","v":""},{"$f":"IF(Eingabeblatt!D134=\"\",\"\",Eingabeblatt!D134)","v":""},{"$f":"IF(Eingabeblatt!E134=\"\",\"\",Eingabeblatt!E134)","v":""},{"$f":"IF(Eingabeblatt!B134=\"\",\"\",Eingabeblatt!B134)","v":""},{"$f":"Eingabeblatt!M134","v":{"$error":"#DIV/0!"}}]
[{"$f":"IF(Eingabeblatt!C135=\"\",\"\",Eingabeblatt!C135)","v":""},{"$f":"IF(Eingabeblatt!D135=\"\",\"\",Eingabeblatt!D135)","v":""},{"$f":"IF(Eingabeblatt!E135=\"\",\"\",Eingabeblatt!E135)","v":""},{"$f":"IF(Eingabeblatt!B135=\"\",\"\",Eingabeblatt!B135)","v":""},{"$f":"Eingabeblatt!M135","v":{"$error":"#DIV/0!"}}]
[{"$f":"IF(Eingabeblatt!C136=\"\",\"\",Eingabeblatt!C136)","v":""},{"$f":"IF(Eingabeblatt!D136=\"\",\"\",Eingabeblatt!D136)","v":""},{"$f":"IF(Eingabeblatt!E136=\"\",\"\",Eingabeblatt!E136)","v":""},{"$f":"IF(Eingabeblatt!B136=\"\",\"\",Eingabeblatt!B136)","v":""},{"$f":"Eingabeblatt!M136","v":{"$error":"#DIV/0!"}}]
[{"$f":"IF(Eingabeblatt!C137=\"\",\"\",Eingabeblatt!C137)","v":""},{"$f":"IF(Eingabeblatt!D137=\"\",\"\",Eingabeblatt!D137)","v":""},{"$f":"IF(Eingabeblatt!E137=\"\",\"\",Eingabeblatt!E137)","v":""},{"$f":"IF(Eingabeblatt!B137=\"\",\"\",Eingabeblatt!B137)","v":""},{"$f":"Eingabeblatt!M137","v":{"$error":"#DIV/0!"}}]
[{"$f":"IF(Eingabeblatt!C138=\"\",\"\",Eingabeblatt!C138)","v":""},{"$f":"IF(Eingabeblatt!D138=\"\",\"\",Eingabeblatt!D138)","v":""},{"$f":"IF(Eingabeblatt!E138=\"\",\"\",Eingabeblatt!E138)","v":""},{"$f":"IF(Eingabeblatt!B138=\"\",\"\",Eingabeblatt!B138)","v":""},{"$f":"Eingabeblatt!M138","v":{"$error":"#DIV/0!"}}]
[{"$f":"IF(Eingabeblatt!C139=\"\",\"\",Eingabeblatt!C139)","v":""},{"$f":"IF(Eingabeblatt!D139=\"\",\"\",Eingabeblatt!D139)","v":""},{"$f":"IF(Eingabeblatt!E139=\"\",\"\",Eingabeblatt!E139)","v":""},{"$f":"IF(Eingabeblatt!B139=\"\",\"\",Eingabeblatt!B139)","v":""},{"$f":"Eingabeblatt!M139","v":{"$error":"#DIV/0!"}}]
[{"$f":"IF(Eingabeblatt!C140=\"\",\"\",Eingabeblatt!C140)","v":""},{"$f":"IF(Eingabeblatt!D140=\"\",\"\",Eingabeblatt!D140)","v":""},{"$f":"IF(Eingabeblatt!E140=\"\",\"\",Eingabeblatt!E140)","v":""},{"$f":"IF(Eingabeblatt!B140=\"\",\"\",Eingabeblatt!B140)","v":""},{"$f":"Eingabeblatt!M140","v":{"$error":"#DIV/0!"}}]
[{"$f":"IF(Eingabeblatt!C141=\"\",\"\",Eingabeblatt!C141)","v":""},{"$f":"IF(Eingabeblatt!D141=\"\",\"\",Eingabeblatt!D141)","v":""},{"$f":"IF(Eingabeblatt!E141=\"\",\"\",Eingabeblatt!E141)","v":""},{"$f":"IF(Eingabeblatt!B141=\"\",\"\",Eingabeblatt!B141)","v":""},{"$f":"Eingabeblatt!M141","v":{"$error":"#DIV/0!"}}]
[{"$f":"IF(Eingabeblatt!C142=\"\",\"\",Eingabeblatt!C142)","v":""},{"$f":"IF(Eingabeblatt!D142=\"\",\"\",Eingabeblatt!D142)","v":""},{"$f":"IF(Eingabeblatt!E142=\"\",\"\",Eingabeblatt!E142)","v":""},{"$f":"IF(Eingabeblatt!B142=\"\",\"\",Eingabeblatt!B142)","v":""},{"$f":"Eingabeblatt!M142","v":{"$error":"#DIV/0!"}}]
[{"$f":"IF(Eingabeblatt!C143=\"\",\"\",Eingabeblatt!C143)","v":""},{"$f":"IF(Eingabeblatt!D143=\"\",\"\",Eingabeblatt!D143)","v":""},{"$f":"IF(Eingabeblatt!E143=\"\",\"\",Eingabeblatt!E143)","v":""},{"$f":"IF(Eingabeblatt!B143=\"\",\"\",Eingabeblatt!B143)","v":""},{"$f":"Eingabeblatt!M143","v":{"$error":"#DIV/0!"}}]
[{"$f":"IF(Eingabeblatt!C144=\"\",\"\",Eingabeblatt!C144)","v":""},{"$f":"IF(Eingabeblatt!D144=\"\",\"\",Eingabeblatt!D144)","v":""},{"$f":"IF(Eingabeblatt!E144=\"\",\"\",Eingabeblatt!E144)","v":""},{"$f":"IF(Eingabeblatt!B144=\"\",\"\",Eingabeblatt!B144)","v":""},{"$f":"Eingabeblatt!M144","v":{"$error":"#DIV/0!"}}]
[{"$f":"IF(Eingabeblatt!C145=\"\",\"\",Eingabeblatt!C145)","v":""},{"$f":"IF(Eingabeblatt!D145=\"\",\"\",Eingabeblatt!D145)","v":""},{"$f":"IF(Eingabeblatt!E145=\"\",\"\",Eingabeblatt!E145)","v":""},{"$f":"IF(Eingabeblatt!B145=\"\",\"\",Eingabeblatt!B145)","v":""},{"$f":"Eingabeblatt!M145","v":{"$error":"#DIV/0!"}}]
[{"$f":"IF(Eingabeblatt!C146=\"\",\"\",Eingabeblatt!C146)","v":""},{"$f":"IF(Eingabeblatt!D146=\"\",\"\",Eingabeblatt!D146)","v":""},{"$f":"IF(Eingabeblatt!E146=\"\",\"\",Eingabeblatt!E146)","v":""},{"$f":"IF(Eingabeblatt!B146=\"\",\"\",Eingabeblatt!B146)","v":""},{"$f":"Eingabeblatt!M146","v":{"$error":"#DIV/0!"}}]
[{"$f":"IF(Eingabeblatt!C147=\"\",\"\",Eingabeblatt!C147)","v":""},{"$f":"IF(Eingabeblatt!D147=\"\",\"\",Eingabeblatt!D147)","v":""},{"$f":"IF(Eingabeblatt!E147=\"\",\"\",Eingabeblatt!E147)","v":""},{"$f":"IF(Eingabeblatt!B147=\"\",\"\",Eingabeblatt!B147)","v":""},{"$f":"Eingabeblatt!M147","v":{"$error":"#DIV/0!"}}]
[{"$f":"IF(Eingabeblatt!C148=\"\",\"\",Eingabeblatt!C148)","v":""},{"$f":"IF(Eingabeblatt!D148=\"\",\"\",Eingabeblatt!D148)","v":""},{"$f":"IF(Eingabeblatt!E148=\"\",\"\",Eingabeblatt!E148)","v":""},{"$f":"IF(Eingabeblatt!B148=\"\",\"\",Eingabeblatt!B148)","v":""},{"$f":"Eingabeblatt!M148","v":{"$error":"#DIV/0!"}}]
[{"$f":"IF(Eingabeblatt!C149=\"\",\"\",Eingabeblatt!C149)","v":""},{"$f":"IF(Eingabeblatt!D149=\"\",\"\",Eingabeblatt!D149)","v":""},{"$f":"IF(Eingabeblatt!E149=\"\",\"\",Eingabeblatt!E149)","v":""},{"$f":"IF(Eingabeblatt!B149=\"\",\"\",Eingabeblatt!B149)","v":""},{"$f":"Eingabeblatt!M149","v":{"$error":"#DIV/0!"}}]
[{"$f":"IF(Eingabeblatt!C150=\"\",\"\",Eingabeblatt!C150)","v":""},{"$f":"IF(Eingabeblatt!D150=\"\",\"\",Eingabeblatt!D150)","v":""},{"$f":"IF(Eingabeblatt!E150=\"\",\"\",Eingabeblatt!E150)","v":""},{"$f":"IF(Eingabeblatt!B150=\"\",\"\",Eingabeblatt!B150)","v":""},{"$f":"Eingabeblatt!M150","v":{"$error":"#DIV/0!"}}]
[{"$f":"IF(Eingabeblatt!C151=\"\",\"\",Eingabeblatt!C151)","v":""},{"$f":"IF(Eingabeblatt!D151=\"\",\"\",Eingabeblatt!D151)","v":""},{"$f":"IF(Eingabeblatt!E151=\"\",\"\",Eingabeblatt!E151)","v":""},{"$f":"IF(Eingabeblatt!B151=\"\",\"\",Eingabeblatt!B151)","v":""},{"$f":"Eingabeblatt!M151","v":{"$error":"#DIV/0!"}}]
[{"$f":"IF(Eingabeblatt!C152=\"\",\"\",Eingabeblatt!C152)","v":""},{"$f":"IF(Eingabeblatt!D152=\"\",\"\",Eingabeblatt!D152)","v":""},{"$f":"IF(Eingabeblatt!E152=\"\",\"\",Eingabeblatt!E152)","v":""},{"$f":"IF(Eingabeblatt!B152=\"\",\"\",Eingabeblatt!B152)","v":""},{"$f":"Eingabeblatt!M152","v":{"$error":"#DIV/0!"}}]
[{"$f":"IF(Eingabeblatt!C153=\"\",\"\",Eingabeblatt!C153)","v":""},{"$f":"IF(Eingabeblatt!D153=\"\",\"\",Eingabeblatt!D153)","v":""},{"$f":"IF(Eingabeblatt!E153=\"\",\"\",Eingabeblatt!E153)","v":""},{"$f":"IF(Eingabeblatt!B153=\"\",\"\",Eingabeblatt!B153)","v":""},{"$f":"Eingabeblatt!M153","v":{"$error":"#DIV/0!"}}]
[{"$f":"IF(Eingabeblatt!C154=\"\",\"\",Eingabeblatt!C154)","v":""},{"$f":"IF(Eingabeblatt!D154=\"\",\"\",Eingabeblatt!D154)","v":""},{"$f":"IF(Eingabeblatt!E154=\"\",\"\",Eingabeblatt!E154)","v":""},{"$f":"IF(Eingabeblatt!B154=\"\",\"\",Eingabeblatt!B154)","v":""},{"$f":"Eingabeblatt!M154","v":{"$error":"#DIV/0!"}}]
[{"$f":"IF(Eingabeblatt!C155=\"\",\"\",Eingabeblatt!C155)","v":""},{"$f":"IF(Eingabeblatt!D155=\"\",\"\",Eingabeblatt!D155)","v":""},{"$f":"IF(Eingabeblatt!E155=\"\",\"\",Eingabeblatt!E155)","v":""},{"$f":"IF(Eingabeblatt!B155=\"\",\"\",Eingabeblatt!B155)","v":""},{"$f":"Eingabeblatt!M155","v":{"$error":"#DIV/0!"}}]
[{"$f":"IF(Eingabeblatt!C156=\"\",\"\",Eingabeblatt!C156)","v":""},{"$f":"IF(Eingabeblatt!D156=\"\",\"\",Eingabeblatt!D156)","v":""},{"$f":"IF(Eingabeblatt!E156=\"\",\"\",Eingabeblatt!E156)","v":""},{"$f":"IF(Eingabeblatt!B156=\"\",\"\",Eingabeblatt!B156)","v":""},{"$f":"Eingabeblatt!M156","v":{"$error":"#DIV/0!"}}]
[{"$f":"IF(Eingabeblatt!C157=\"\",\"\",Eingabeblatt!C157)","v":""},{"$f":"IF(Eingabeblatt!D157=\"\",\"\",Eingabeblatt!D157)","v":""},{"$f":"IF(Eingabeblatt!E157=\"\",\"\",Eingabeblatt!E157)","v":""},{"$f":"IF(Eingabeblatt!B157=\"\",\"\",Eingabeblatt!B157)","v":""},{"$f":"Eingabeblatt!M157","v":{"$error":"#DIV/0!"}}]
[{"$f":"IF(Eingabeblatt!C158=\"\",\"\",Eingabeblatt!C158)","v":""},{"$f":"IF(Eingabeblatt!D158=\"\",\"\",Eingabeblatt!D158)","v":""},{"$f":"IF(Eingabeblatt!E158=\"\",\"\",Eingabeblatt!E158)","v":""},{"$f":"IF(Eingabeblatt!B158=\"\",\"\",Eingabeblatt!B158)","v":""},{"$f":"Eingabeblatt!M158","v":{"$error":"#DIV/0!"}}]
[{"$f":"IF(Eingabeblatt!C159=\"\",\"\",Eingabeblatt!C159)","v":""},{"$f":"IF(Eingabeblatt!D159=\"\",\"\",Eingabeblatt!D159)","v":""},{"$f":"IF(Eingabeblatt!E159=\"\",\"\",Eingabeblatt!E159)","v":""},{"$f":"IF(Eingabeblatt!B159=\"\",\"\",Eingabeblatt!B159)","v":""},{"$f":"Eingabeblatt!M159","v":{"$error":"#DIV/0!"}}]
[{"$f":"IF(Eingabeblatt!C160=\"\",\"\",Eingabeblatt!C160)","v":""},{"$f":"IF(Eingabeblatt!D160=\"\",\"\",Eingabeblatt!D160)","v":""},{"$f":"IF(Eingabeblatt!E160=\"\",\"\",Eingabeblatt!E160)","v":""},{"$f":"IF(Eingabeblatt!B160=\"\",\"\",Eingabeblatt!B160)","v":""},{"$f":"Eingabeblatt!M160","v":{"$error":"#DIV/0!"}}]
[{"$f":"IF(Eingabeblatt!C161=\"\",\"\",Eingabeblatt!C161)","v":""},{"$f":"IF(Eingabeblatt!D161=\"\",\"\",Eingabeblatt!D161)","v":""},{"$f":"IF(Eingabeblatt!E161=\"\",\"\",Eingabeblatt!E161)","v":""},{"$f":"IF(Eingabeblatt!B161=\"\",\"\",Eingabeblatt!B161)","v":""},{"$f":"Eingabeblatt!M161","v":{"$error":"#DIV/0!"}}]
[{"$f":"IF(Eingabeblatt!C162=\"\",\"\",Eingabeblatt!C162)","v":""},{"$f":"IF(Eingabeblatt!D162=\"\",\"\",Eingabeblatt!D162)","v":""},{"$f":"IF(Eingabeblatt!E162=\"\",\"\",Eingabeblatt!E162)","v":""},{"$f":"IF(Eingabeblatt!B162=\"\",\"\",Eingabeblatt!B162)","v":""},{"$f":"Eingabeblatt!M162","v":{"$error":"#DIV/0!"}}]
[{"$f":"IF(Eingabeblatt!C163=\"\",\"\",Eingabeblatt!C163)","v":""},{"$f":"IF(Eingabeblatt!D163=\"\",\"\",Eingabeblatt!D163)","v":""},{"$f":"IF(Eingabeblatt!E163=\"\",\"\",Eingabeblatt!E163)","v":""},{"$f":"IF(Eingabeblatt!B163=\"\",\"\",Eingabeblatt!B163)","v":""},{"$f":"Eingabeblatt!M163","v":{"$error":"#DIV/0!"}}]
[{"$f":"IF(Eingabeblatt!C164=\"\",\"\",Eingabeblatt!C164)","v":""},{"$f":"IF(Eingabeblatt!D164=\"\",\"\",Eingabeblatt!D164)","v":""},{"$f":"IF(Eingabeblatt!E164=\"\",\"\",Eingabeblatt!E164)","v":""},{"$f":"IF(Eingabeblatt!B164=\"\",\"\",Eingabeblatt!B164)","v":""},{"$f":"Eingabeblatt!M164","v":{"$error":"#DIV/0!"}}]
[{"$f":"IF(Eingabeblatt!C165=\"\",\"\",Eingabeblatt!C165)","v":""},{"$f":"IF(Eingabeblatt!D165=\"\",\"\",Eingabeblatt!D165)","v":""},{"$f":"IF(Eingabeblatt!E165=\"\",\"\",Eingabeblatt!E165)","v":""},{"$f":"IF(Eingabeblatt!B165=\"\",\"\",Eingabeblatt!B165)","v":""},{"$f":"Eingabeblatt!M165","v":{"$error":"#DIV/0!"}}]
[{"$f":"IF(Eingabeblatt!C166=\"\",\"\",Eingabeblatt!C166)","v":""},{"$f":"IF(Eingabeblatt!D166=\"\",\"\",Eingabeblatt!D166)","v":""},{"$f":"IF(Eingabeblatt!E166=\"\",\"\",Eingabeblatt!E166)","v":""},{"$f":"IF(Eingabeblatt!B166=\"\",\"\",Eingabeblatt!B166)","v":""},{"$f":"Eingabeblatt!M166","v":{"$error":"#DIV/0!"}}]
[{"$f":"IF(Eingabeblatt!C167=\"\",\"\",Eingabeblatt!C167)","v":""},{"$f":"IF(Eingabeblatt!D167=\"\",\"\",Eingabeblatt!D167)","v":""},{"$f":"IF(Eingabeblatt!E167=\"\",\"\",Eingabeblatt!E167)","v":""},{"$f":"IF(Eingabeblatt!B167=\"\",\"\",Eingabeblatt!B167)","v":""},{"$f":"Eingabeblatt!M167","v":{"$error":"#DIV/0!"}}]
[{"$f":"IF(Eingabeblatt!C168=\"\",\"\",Eingabeblatt!C168)","v":""},{"$f":"IF(Eingabeblatt!D168=\"\",\"\",Eingabeblatt!D168)","v":""},{"$f":"IF(Eingabeblatt!E168=\"\",\"\",Eingabeblatt!E168)","v":""},{"$f":"IF(Eingabeblatt!B168=\"\",\"\",Eingabeblatt!B168)","v":""},{"$f":"Eingabeblatt!M168","v":{"$error":"#DIV/0!"}}]
[{"$f":"IF(Eingabeblatt!C169=\"\",\"\",Eingabeblatt!C169)","v":""},{"$f":"IF(Eingabeblatt!D169=\"\",\"\",Eingabeblatt!D169)","v":""},{"$f":"IF(Eingabeblatt!E169=\"\",\"\",Eingabeblatt!E169)","v":""},{"$f":"IF(Eingabeblatt!B169=\"\",\"\",Eingabeblatt!B169)","v":""},{"$f":"Eingabeblatt!M169","v":{"$error":"#DIV/0!"}}]
[{"$f":"IF(Eingabeblatt!C170=\"\",\"\",Eingabeblatt!C170)","v":""},{"$f":"IF(Eingabeblatt!D170=\"\",\"\",Eingabeblatt!D170)","v":""},{"$f":"IF(Eingabeblatt!E170=\"\",\"\",Eingabeblatt!E170)","v":""},{"$f":"IF(Eingabeblatt!B170=\"\",\"\",Eingabeblatt!B170)","v":""},{"$f":"Eingabeblatt!M170","v":{"$error":"#DIV/0!"}}]
[{"$f":"IF(Eingabeblatt!C171=\"\",\"\",Eingabeblatt!C171)","v":""},{"$f":"IF(Eingabeblatt!D171=\"\",\"\",Eingabeblatt!D171)","v":""},{"$f":"IF(Eingabeblatt!E171=\"\",\"\",Eingabeblatt!E171)","v":""},{"$f":"IF(Eingabeblatt!B171=\"\",\"\",Eingabeblatt!B171)","v":""},{"$f":"Eingabeblatt!M171","v":{"$error":"#DIV/0!"}}]
[{"$f":"IF(Eingabeblatt!C172=\"\",\"\",Eingabeblatt!C172)","v":""},{"$f":"IF(Eingabeblatt!D172=\"\",\"\",Eingabeblatt!D172)","v":""},{"$f":"IF(Eingabeblatt!E172=\"\",\"\",Eingabeblatt!E172)","v":""},{"$f":"IF(Eingabeblatt!B172=\"\",\"\",Eingabeblatt!B172)","v":""},{"$f":"Eingabeblatt!M172","v":{"$error":"#DIV/0!"}}]
[{"$f":"IF(Eingabeblatt!C173=\"\",\"\",Eingabeblatt!C173)","v":""},{"$f":"IF(Eingabeblatt!D173=\"\",\"\",Eingabeblatt!D173)","v":""},{"$f":"IF(Eingabeblatt!E173=\"\",\"\",Eingabeblatt!E173)","v":""},{"$f":"IF(Eingabeblatt!B173=\"\",\"\",Eingabeblatt!B173)","v":""},{"$f":"Eingabeblatt!M173","v":{"$error":"#DIV/0!"}}]
[{"$f":"IF(Eingabeblatt!C174=\"\",\"\",Eingabeblatt!C174)","v":""},{"$f":"IF(Eingabeblatt!D174=\"\",\"\",Eingabeblatt!D174)","v":""},{"$f":"IF(Eingabeblatt!E174=\"\",\"\",Eingabeblatt!E174)","v":""},{"$f":"IF(Eingabeblatt!B174=\"\",\"\",Eingabeblatt!B174)","v":""},{"$f":"Eingabeblatt!M174","v":{"$error":"#DIV/0!"}}]
[{"$f":"IF(Eingabeblatt!C175=\"\",\"\",Eingabeblatt!C175)","v":""},{"$f":"IF(Eingabeblatt!D175=\"\",\"\",Eingabeblatt!D175)","v":""},{"$f":"IF(Eingabeblatt!E175=\"\",\"\",Eingabeblatt!E175)","v":""},{"$f":"IF(Eingabeblatt!B175=\"\",\"\",Eingabeblatt!B175)","v":""},{"$f":"Eingabeblatt!M175","v":{"$error":"#DIV/0!"}}]
[{"$f":"IF(Eingabeblatt!C176=\"\",\"\",Eingabeblatt!C176)","v":""},{"$f":"IF(Eingabeblatt!D176=\"\",\"\",Eingabeblatt!D176)","v":""},{"$f":"IF(Eingabeblatt!E176=\"\",\"\",Eingabeblatt!E176)","v":""},{"$f":"IF(Eingabeblatt!B176=\"\",\"\",Eingabeblatt!B176)","v":""},{"$f":"Eingabeblatt!M176","v":{"$error":"#DIV/0!"}}]
[{"$f":"IF(Eingabeblatt!C177=\"\",\"\",Eingabeblatt!C177)","v":""},{"$f":"IF(Eingabeblatt!D177=\"\",\"\",Eingabeblatt!D177)","v":""},{"$f":"IF(Eingabeblatt!E177=\"\",\"\",Eingabeblatt!E177)","v":""},{"$f":"IF(Eingabeblatt!B177=\"\",\"\",Eingabeblatt!B177)","v":""},{"$f":"Eingabeblatt!M177","v":{"$error":"#DIV/0!"}}]
[{"$f":"IF(Eingabeblatt!C178=\"\",\"\",Eingabeblatt!C178)","v":""},{"$f":"IF(Eingabeblatt!D178=\"\",\"\",Eingabeblatt!D178)","v":""},{"$f":"IF(Eingabeblatt!E178=\"\",\"\",Eingabeblatt!E178)","v":""},{"$f":"IF(Eingabeblatt!B178=\"\",\"\",Eingabeblatt!B178)","v":""},{"$f":"Eingabeblatt!M178","v":{"$error":"#DIV/0!"}}]
[{"$f":"IF(Eingabeblatt!C179=\"\",\"\",Eingabeblatt!C179)","v":""},{"$f":"IF(Eingabeblatt!D179=\"\",\"\",Eingabeblatt!D179)","v":""},{"$f":"IF(Eingabeblatt!E179=\"\",\"\",Eingabeblatt!E179)","v":""},{"$f":"IF(Eingabeblatt!B179=\"\",\"\",Eingabeblatt!B179)","v":""},{"$f":"Eingabeblatt!M179","v":{"$error":"#DIV/0!"}}]
[{"$f":"IF(Eingabeblatt!C180=\"\",\"\",Eingabeblatt!C180)","v":""},{"$f":"IF(Eingabeblatt!D180=\"\",\"\",Eingabeblatt!D180)","v":""},{"$f":"IF(Eingabeblatt!E180=\"\",\"\",Eingabeblatt!E180)","v":""},{"$f":"IF(Eingabeblatt!B180=\"\",\"\",Eingabeblatt!B180)","v":""},{"$f":"Eingabeblatt!M180","v":{"$error":"#DIV/0!"}}]
[{"$f":"IF(Eingabeblatt!C181=\"\",\"\",Eingabeblatt!C181)","v":""},{"$f":"IF(Eingabeblatt!D181=\"\",\"\",Eingabeblatt!D181)","v":""},{"$f":"IF(Eingabeblatt!E181=\"\",\"\",Eingabeblatt!E181)","v":""},{"$f":"IF(Eingabeblatt!B181=\"\",\"\",Eingabeblatt!B181)","v":""},{"$f":"Eingabeblatt!M181","v":{"$error":"#DIV/0!"}}]
[{"$f":"IF(Eingabeblatt!C182=\"\",\"\",Eingabeblatt!C182)","v":""},{"$f":"IF(Eingabeblatt!D182=\"\",\"\",Eingabeblatt!D182)","v":""},{"$f":"IF(Eingabeblatt!E182=\"\",\"\",Eingabeblatt!E182)","v":""},{"$f":"IF(Eingabeblatt!B182=\"\",\"\",Eingabeblatt!B182)","v":""},{"$f":"Eingabeblatt!M182","v":{"$error":"#DIV/0!"}}]
[{"$f":"IF(Eingabeblatt!C183=\"\",\"\",Eingabeblatt!C183)","v":""},{"$f":"IF(Eingabeblatt!D183=\"\",\"\",Eingabeblatt!D183)","v":""},{"$f":"IF(Eingabeblatt!E183=\"\",\"\",Eingabeblatt!E183)","v":""},{"$f":"IF(Eingabeblatt!B183=\"\",\"\",Eingabeblatt!B183)","v":""},{"$f":"Eingabeblatt!M183","v":{"$error":"#DIV/0!"}}]
[{"$f":"IF(Eingabeblatt!C184=\"\",\"\",Eingabeblatt!C184)","v":""},{"$f":"IF(Eingabeblatt!D184=\"\",\"\",Eingabeblatt!D184)","v":""},{"$f":"IF(Eingabeblatt!E184=\"\",\"\",Eingabeblatt!E184)","v":""},{"$f":"IF(Eingabeblatt!B184=\"\",\"\",Eingabeblatt!B184)","v":""},{"$f":"Eingabeblatt!M184","v":{"$error":"#DIV/0!"}}]
[{"$f":"IF(Eingabeblatt!C185=\"\",\"\",Eingabeblatt!C185)","v":""},{"$f":"IF(Eingabeblatt!D185=\"\",\"\",Eingabeblatt!D185)","v":""},{"$f":"IF(Eingabeblatt!E185=\"\",\"\",Eingabeblatt!E185)","v":""},{"$f":"IF(Eingabeblatt!B185=\"\",\"\",Eingabeblatt!B185)","v":""},{"$f":"Eingabeblatt!M185","v":{"$error":"#DIV/0!"}}]
[{"$f":"IF(Eingabeblatt!C186=\"\",\"\",Eingabeblatt!C186)","v":""},{"$f":"IF(Eingabeblatt!D186=\"\",\"\",Eingabeblatt!D186)","v":""},{"$f":"IF(Eingabeblatt!E186=\"\",\"\",Eingabeblatt!E186)","v":""},{"$f":"IF(Eingabeblatt!B186=\"\",\"\",Eingabeblatt!B186)","v":""},{"$f":"Eingabeblatt!M186","v":{"$error":"#DIV/0!"}}]
[{"$f":"IF(Eingabeblatt!C187=\"\",\"\",Eingabeblatt!C187)","v":""},{"$f":"IF(Eingabeblatt!D187=\"\",\"\",Eingabeblatt!D187)","v":""},{"$f":"IF(Eingabeblatt!E187=\"\",\"\",Eingabeblatt!E187)","v":""},{"$f":"IF(Eingabeblatt!B187=\"\",\"\",Eingabeblatt!B187)","v":""},{"$f":"Eingabeblatt!M187","v":{"$error":"#DIV/0!"}}]
[{"$f":"IF(Eingabeblatt!C188=\"\",\"\",Eingabeblatt!C188)","v":""},{"$f":"IF(Eingabeblatt!D188=\"\",\"\",Eingabeblatt!D188)","v":""},{"$f":"IF(Eingabeblatt!E188=\"\",\"\",Eingabeblatt!E188)","v":""},{"$f":"IF(Eingabeblatt!B188=\"\",\"\",Eingabeblatt!B188)","v":""},{"$f":"Eingabeblatt!M188","v":{"$error":"#DIV/0!"}}]
[{"$f":"IF(Eingabeblatt!C189=\"\",\"\",Eingabeblatt!C189)","v":""},{"$f":"IF(Eingabeblatt!D189=\"\",\"\",Eingabeblatt!D189)","v":""},{"$f":"IF(Eingabeblatt!E189=\"\",\"\",Eingabeblatt!E189)","v":""},{"$f":"IF(Eingabeblatt!B189=\"\",\"\",Eingabeblatt!B189)","v":""},{"$f":"Eingabeblatt!M189","v":{"$error":"#DIV/0!"}}]
[{"$f":"IF(Eingabeblatt!C190=\"\",\"\",Eingabeblatt!C190)","v":""},{"$f":"IF(Eingabeblatt!D190=\"\",\"\",Eingabeblatt!D190)","v":""},{"$f":"IF(Eingabeblatt!E190=\"\",\"\",Eingabeblatt!E190)","v":""},{"$f":"IF(Eingabeblatt!B190=\"\",\"\",Eingabeblatt!B190)","v":""},{"$f":"Eingabeblatt!M190","v":{"$error":"#DIV/0!"}}]
[{"$f":"IF(Eingabeblatt!C191=\"\",\"\",Eingabeblatt!C191)","v":""},{"$f":"IF(Eingabeblatt!D191=\"\",\"\",Eingabeblatt!D191)","v":""},{"$f":"IF(Eingabeblatt!E191=\"\",\"\",Eingabeblatt!E191)","v":""},{"$f":"IF(Eingabeblatt!B191=\"\",\"\",Eingabeblatt!B191)","v":""},{"$f":"Eingabeblatt!M191","v":{"$error":"#DIV/0!"}}]
[{"$f":"IF(Eingabeblatt!C192=\"\",\"\",Eingabeblatt!C192)","v":""},{"$f":"IF(Eingabeblatt!D192=\"\",\"\",Eingabeblatt!D192)","v":""},{"$f":"IF(Eingabeblatt!E192=\"\",\"\",Eingabeblatt!E192)","v":""},{"$f":"IF(Eingabeblatt!B192=\"\",\"\",Eingabeblatt!B192)","v":""},{"$f":"Eingabeblatt!M192","v":{"$error":"#DIV/0!"}}]
[{"$f":"IF(Eingabeblatt!C193=\"\",\"\",Eingabeblatt!C193)","v":""},{"$f":"IF(Eingabeblatt!D193=\"\",\"\",Eingabeblatt!D193)","v":""},{"$f":"IF(Eingabeblatt!E193=\"\",\"\",Eingabeblatt!E193)","v":""},{"$f":"IF(Eingabeblatt!B193=\"\",\"\",Eingabeblatt!B193)","v":""},{"$f":"Eingabeblatt!M193","v":{"$error":"#DIV/0!"}}]
[{"$f":"IF(Eingabeblatt!C194=\"\",\"\",Eingabeblatt!C194)","v":""},{"$f":"IF(Eingabeblatt!D194=\"\",\"\",Eingabeblatt!D194)","v":""},{"$f":"IF(Eingabeblatt!E194=\"\",\"\",Eingabeblatt!E194)","v":""},{"$f":"IF(Eingabeblatt!B194=\"\",\"\",Eingabeblatt!B194)","v":""},{"$f":"Eingabeblatt!M194","v":{"$error":"#DIV/0!"}}]
[{"$f":"IF(Eingabeblatt!C195=\"\",\"\",Eingabeblatt!C195)","v":""},{"$f":"IF(Eingabeblatt!D195=\"\",\"\",Eingabeblatt!D195)","v":""},{"$f":"IF(Eingabeblatt!E195=\"\",\"\",Eingabeblatt!E195)","v":""},{"$f":"IF(Eingabeblatt!B195=\"\",\"\",Eingabeblatt!B195)","v":""},{"$f":"Eingabeblatt!M195","v":{"$error":"#DIV/0!"}}]
[{"$f":"IF(Eingabeblatt!C196=\"\",\"\",Eingabeblatt!C196)","v":""},{"$f":"IF(Eingabeblatt!D196=\"\",\"\",Eingabeblatt!D196)","v":""},{"$f":"IF(Eingabeblatt!E196=\"\",\"\",Eingabeblatt!E196)","v":""},{"$f":"IF(Eingabeblatt!B196=\"\",\"\",Eingabeblatt!B196)","v":""},{"$f":"Eingabeblatt!M196","v":{"$error":"#DIV/0!"}}]
[{"$f":"IF(Eingabeblatt!C197=\"\",\"\",Eingabeblatt!C197)","v":""},{"$f":"IF(Eingabeblatt!D197=\"\",\"\",Eingabeblatt!D197)","v":""},{"$f":"IF(Eingabeblatt!E197=\"\",\"\",Eingabeblatt!E197)","v":""},{"$f":"IF(Eingabeblatt!B197=\"\",\"\",Eingabeblatt!B197)","v":""},{"$f":"Eingabeblatt!M197","v":{"$error":"#DIV/0!"}}]
[{"$f":"IF(Eingabeblatt!C198=\"\",\"\",Eingabeblatt!C198)","v":""},{"$f":"IF(Eingabeblatt!D198=\"\",\"\",Eingabeblatt!D198)","v":""},{"$f":"IF(Eingabeblatt!E198=\"\",\"\",Eingabeblatt!E198)","v":""},{"$f":"IF(Eingabeblatt!B198=\"\",\"\",Eingabeblatt!B198)","v":""},{"$f":"Eingabeblatt!M198","v":{"$error":"#DIV/0!"}}]
[{"$f":"IF(Eingabeblatt!C199=\"\",\"\",Eingabeblatt!C199)","v":""},{"$f":"IF(Eingabeblatt!D199=\"\",\"\",Eingabeblatt!D199)","v":""},{"$f":"IF(Eingabeblatt!E199=\"\",\"\",Eingabeblatt!E199)","v":""},{"$f":"IF(Eingabeblatt!B199=\"\",\"\",Eingabeblatt!B199)","v":""},{"$f":"Eingabeblatt!M199","v":{"$error":"#DIV/0!"}}]
[{"$f":"IF(Eingabeblatt!C200=\"\",\"\",Eingabeblatt!C200)","v":""},{"$f":"IF(Eingabeblatt!D200=\"\",\"\",Eingabeblatt!D200)","v":""},{"$f":"IF(Eingabeblatt!E200=\"\",\"\",Eingabeblatt!E200)","v":""},{"$f":"IF(Eingabeblatt!B200=\"\",\"\",Eingabeblatt!B200)","v":""},{"$f":"Eingabeblatt!M200","v":{"$error":"#DIV/0!"}}]
[{"$f":"IF(Eingabeblatt!C201=\"\",\"\",Eingabeblatt!C201)","v":""},{"$f":"IF(Eingabeblatt!D201=\"\",\"\",Eingabeblatt!D201)","v":""},{"$f":"IF(Eingabeblatt!E201=\"\",\"\",Eingabeblatt!E201)","v":""},{"$f":"IF(Eingabeblatt!B201=\"\",\"\",Eingabeblatt!B201)","v":""},{"$f":"Eingabeblatt!M201","v":{"$error":"#DIV/0!"}}]
[{"$f":"IF(Eingabeblatt!C202=\"\",\"\",Eingabeblatt!C202)","v":""},{"$f":"IF(Eingabeblatt!D202=\"\",\"\",Eingabeblatt!D202)","v":""},{"$f":"IF(Eingabeblatt!E202=\"\",\"\",Eingabeblatt!E202)","v":""},{"$f":"IF(Eingabeblatt!B202=\"\",\"\",Eingabeblatt!B202)","v":""},{"$f":"Eingabeblatt!M202","v":{"$error":"#DIV/0!"}}]
[{"$f":"IF(Eingabeblatt!C203=\"\",\"\",Eingabeblatt!C203)","v":""},{"$f":"IF(Eingabeblatt!D203=\"\",\"\",Eingabeblatt!D203)","v":""},{"$f":"IF(Eingabeblatt!E203=\"\",\"\",Eingabeblatt!E203)","v":""},{"$f":"IF(Eingabeblatt!B203=\"\",\"\",Eingabeblatt!B203)","v":""},{"$f":"Eingabeblatt!M203","v":{"$error":"#DIV/0!"}}]

{"sheet":"Berechnung_Male","index":4,"n_rows":55,"n_cols":6,"rows_kept":55,"hidden":true,"merged":[[51,0,51,2],[54,0,57,3]]}
["Year from PHV","early","average","late"]
[-4,45.29,40.09,34.73,null,"männlich"]
[-3.8,44.21,39.08,33.83]
[-3.6,43.11,38.07,32.94]
[-3.4,41.99,37.06,32.05]
[-3.2,40.85,36.05,31.16]
[-3,39.69,35.04,30.27]
[-2.8,38.52,34.04,29.38]
[-2.6,37.33,33.05,28.49]
[-2.4,36.15,32.06,27.6]
[-2.2,34.97,31.07,26.7]
[-2,33.8,30.06,25.77]
[-1.8,32.62,29.03,24.79]
[-1.6,31.44,27.95,23.74]
[-1.4,30.23,26.83,22.63]
[-1.2,28.98,25.63,21.45]
[-1,27.66,24.36,20.22]
[-0.8,26.24,22.99,18.96]
[-0.6,24.68,21.51,17.68]
[-0.4,22.96,19.88,16.31]
[-0.2,21.07,18.09,14.76]
[0,19.04,16.16,13.05]
[0.2,16.96,14.21,11.32]
[0.4,14.92,12.35,9.71]
[0.6,13.01,10.65,8.27]
[0.8,11.26,9.12,6.94]
[1,9.7,7.78,5.7]
[1.2,8.33,6.59,4.54]
[1.4,7.11,5.54,3.51]
[1.6,6.04,4.62,2.64]
[1.80000000000001,5.1,3.8,1.92]
[2.00000000000001,4.26,3.09,1.35]
[2.20000000000001,3.52,2.48,0.91]
[2.40000000000001,2.86,1.96,0.58]
[2.60000000000001,2.29,1.52,0.32]
[2.80000000000001,1.78,1.16,0.13]
[3.00000000000001,1.34,0.87,0]
[3.20000000000001,0.96,0.63,0]
[3.40000000000001,0.64,0.43,0]
[3.60000000000001,0.37,0.27,0]
[3.80000000000001,0.16,0.12,0]
[4.00000000000001,0,0,0]
[]
[]
["Alter",{"$f":"(#REF!-#REF!)/365","v":{"$error":"#REF!"}},null,"Maturity offset",{"$f":"-9.236+(0.0002708*B46*#REF!)+(-0.001663*B45*B46)+(0.007216*B45*#REF!)+(0.02292*(#REF!/#REF!)*100)","v":{"$error":"#REF!"}}]
["Beinlänge",{"$f":"#REF!-#REF!","v":{"$error":"#REF!"}},null,"PHV",{"$f":"B45-E45","v":{"$error":"#REF!"}}]
[{"$nulls":3},"Spaltenangabe Tabelle",{"$f":"IF(E46<13,2,IF(E46<15,3,4))","v":{"$error":"#REF!"}}]
[]
["Wachstumsreserve",{"$f":"VLOOKUP(Berechnung_Male!$E$45,Berechnung_Male!$A$1:$D$42,Berechnung_Male!$E$47,TRUE)","v":{"$error":"#REF!"}}]
[]
[]
[{"$f":"Eingabeblatt!N5=IF(Berechnung_Male!$E$46<13,\"Früh entwickelt.\",IF(Berechnung_Male!$E$46<=13.5,\"Möglicherweise früh entwickelt.\",IF(Berechnung_Male!$E$46>15,\"Spät entwickelt.\",IF(Berechnung_Male!$E$46>=14.5,\"Möglicherweise spät entwickelt.\",\"Durchschnittlich entwickelt.\"))))","v":{"$error":"#DIV/0!"}}]
[]
[]
[{"$f":"IF(Berechnung_Male!$E$46<13,\"Der biologische Entwicklungstand des Athleten ist wahrscheinlich beschleunigt; Dh. im Vergleich mit Gleichalterigen wird seine Leistung ev. überschätzt! \",IF(Berechnung_Male!$E$46<=13.5,\"Der biologische Entwicklungstand des Athleten ist möglicherweise beschleunigt; Dh. im Vergleich mit Gleichalterigen wird seine Leistung möglicherweise überschätzt! \",IF(Berechnung_Male!$E$46>15,\"Der biologische Entwicklungsstand des Athleten ist wahrscheinlich verzögert; Dh. im Vergleich mit Gleichalterigen wird seine Leistung ev. unterschätzt!\",IF(Berechnung_Male!$E$46>=14.5,\"Der biologische Entwicklungsstand des Athleten ist möglicherweise verzögert; Dh. im Vergleich mit Gleichalterigen wird seine Leistung möglicherweise unterschätzt!\",\"Der biologische Entwicklungsstand des Athleten entspricht dem Alter.\"))))","v":{"$error":"#REF!"}}]

{"sheet":"Berechnung_Female","index":5,"n_rows":55,"n_cols":6,"rows_kept":55,"hidden":true,"merged":[[51,0,51,2],[54,0,57,3]]}
["Year from PHV","early","average","late"]
[-4,42.61,38.81,34.35,null,"weiblich"]
[-3.8,41.49,37.67,33.27]
[-3.6,40.39,36.55,32.2]
[-3.4,39.3,35.44,31.14]
[-3.2,38.21,34.34,30.09]
[-3,37.13,33.25,29.04]
[-2.8,36.04,32.16,27.99]
[-2.6,34.94,31.04,26.93]
[-2.4,33.82,29.91,25.87]
[-2.2,32.68,28.76,24.79]
[-2,31.53,27.58,23.71]
[-1.8,30.44,26.39,22.63]
[-1.6,29.36,25.21,21.55]
[-1.4,28.24,24.03,20.47]
[-1.2,27.09,22.85,19.37]
[-1,25.87,21.66,18.25]
[-0.8,24.54,20.44,17.07]
[-0.6,23.09,19.16,15.81]
[-0.4,21.5,17.8,14.44]
[-0.2,19.77,16.33,12.94]
[0,17.94,14.75,11.36]
[0.2,16.09,13.13,9.81]
[0.4,14.3,11.56,8.42]
[0.6,12.64,10.11,7.2]
[0.8,11.11,8.77,6.12]
[1,9.69,7.52,5.13]
[1.2,8.39,6.37,4.24]
[1.4,7.2,5.33,3.46]
[1.6,6.14,4.42,2.8]
[1.80000000000001,5.19,3.64,2.25]
[2.00000000000001,4.36,2.99,1.82]
[2.20000000000001,3.63,2.45,1.46]
[2.40000000000001,2.99,1.99,1.18]
[2.60000000000001,2.42,1.6,0.94]
[2.80000000000001,1.92,1.26,0.74]
[3.00000000000001,1.47,0.96,0.57]
[3.20000000000001,1.07,0.69,0.41]
[3.40000000000001,0.72,0.46,0.28]
[3.60000000000001,0.43,0.26,0.17]
[3.80000000000001,0.19,0.11,0.08]
[4.00000000000001,0,0,0]
[]
[]
["Alter",{"$f":"(#REF!-#REF!)/365","v":{"$error":"#REF!"}},null,"Maturity offset",{"$f":"-9.236+(0.0002708*B46*#REF!)+(-0.001663*B45*B46)+(0.007216*B45*#REF!)+(0.02292*(#REF!/#REF!)*100)","v":{"$error":"#REF!"}}]
["Beinlänge",{"$f":"#REF!-#REF!","v":{"$error":"#REF!"}},null,"PHV",{"$f":"B45-E45","v":{"$error":"#REF!"}}]
[{"$nulls":3},"Spaltenangabe Tabelle",{"$f":"IF(E46<13,2,IF(E46<15,3,4))","v":{"$error":"#REF!"}}]
[]
["Wachstumsreserve",{"$f":"VLOOKUP(Berechnung_Female!$E$45,Berechnung_Female!$A$1:$D$42,Berechnung_Female!$E$47,TRUE)","v":{"$error":"#REF!"}}]
[]
[]
[{"$error":"#REF!"}]
[]
[]
[{"$f":"IF(Berechnung_Female!$E$46<13,\"Der biologische Entwicklungstand des Athleten ist wahrscheinlich beschleunigt; Dh. im Vergleich mit Gleichalterigen wird seine Leistung ev. überschätzt! \",IF(Berechnung_Female!$E$46<=13.5,\"Der biologische Entwicklungstand des Athleten ist möglicherweise beschleunigt; Dh. im Vergleich mit Gleichalterigen wird seine Leistung möglicherweise überschätzt! \",IF(Berechnung_Female!$E$46>15,\"Der biologische Entwicklungsstand des Athleten ist wahrscheinlich verzögert; Dh. im Vergleich mit Gleichalterigen wird seine Leistung ev. unterschätzt!\",IF(Berechnung_Female!$E$46>=14.5,\"Der biologische Entwicklungsstand des Athleten ist möglicherweise verzögert; Dh. im Vergleich mit Gleichalterigen wird seine Leistung möglicherweise unterschätzt!\",\"Der biologische Entwicklungsstand des Athleten entspricht dem Alter.\"))))","v":{"$error":"#REF!"}}]